BEGIN:VCALENDAR
VERSION:2.0
PRODID:-//ChamberMaster//Event Calendar 2.0//EN
METHOD:PUBLISH
X-PUBLISHED-TTL:P3D
REFRESH-INTERVAL:P3D
CALSCALE:GREGORIAN
BEGIN:VEVENT
DTSTART:20180221T173000Z
DTEND:20180221T190000Z
X-MICROSOFT-CDO-ALLDAYEVENT:FALSE
SUMMARY:108th Annual Luncheon- La Porte County Family YMCA
DESCRIPTION:Join the La Porte County Family YMCA for their 108th Annual Luncheon! The event will be February 21 from 11:30 a.m.-1:00 p.m. at Portofino Grill\, 3233 N. State Road 39 in La Porte. The Y has a lot to celebrate! Please join them for their annual business meeting and 2017 "Year in Review" event. All Y members and supporters are invited to attend. The cost for the buffet luncheon is $20 per person. Please RSVP to Jessica Schutz at (219) 325-9622 or admin@lpymca.org by Thursday\, February 15. We hope to see you there!
X-ALT-DESC;FMTTYPE=text/html:<span style="color: rgb(69\, 69\, 69)\; font-family: Arial\, Helvetica\, sans-serif\; font-size: 13.3333px\;">Join the La Porte County Family YMCA for their 108th Annual Luncheon! The event will be February 21 from 11:30 a.m.-1:00 p.m. at Portofino Grill\, 3233 N. State Road 39 in La Porte. The Y has a lot to celebrate! Please join them for their annual business meeting and 2017 &quot\;Year in Review&quot\; event. All Y members and supporters are invited to attend. The cost for the buffet luncheon is $20 per person. Please RSVP to Jessica Schutz at (219) 325-9622 or admin@lpymca.org by Thursday\, February 15. We hope to see you there!</span>
LOCATION:Portofino Grill 3233 N. State Road 39 La Porte
UID:e.1949.3054
SEQUENCE:3
DTSTAMP:20260424T155317Z
URL:https://members.laportepartnership.com/events/details/108th-annual-luncheon-la-porte-county-family-ymca-3054
END:VEVENT

END:VCALENDAR
