BEGIN:VCALENDAR
VERSION:2.0
PRODID:-//ChamberMaster//Event Calendar 2.0//EN
METHOD:PUBLISH
X-PUBLISHED-TTL:P3D
REFRESH-INTERVAL:P3D
CALSCALE:GREGORIAN
BEGIN:VEVENT
DTSTART:20180414T170000Z
DTEND:20180414T200000Z
X-MICROSOFT-CDO-ALLDAYEVENT:FALSE
SUMMARY:10th Bowl for Worthy Women
DESCRIPTION:PLEASE SPONSOR US! CREATE A TEAM & HELP OUR TEAM. The event will take place on April 14 from 12-3 p.m. at Casey's Lanes\, 610 Colfax Avenue in La Porte. $100 minimum per REGISTERED Team (4-6) includes lane reservation. Lane Signage & T-shirt Sponsorships are $100 EACH. Teams don't have to register unless you want to try for prizes. $100 team registration reserves a lane and enters team (4-6) to win prizes (Gift Certificates to local Diners): \n\nThe Traveling Trophy and $150 in gift certificates goes to the Registered Team who turns in the most donations by April 13. Prizes will also be given for 1st and 2nd high score\, and low score.\n\n\n\nMail Check to WRI\, PO Box 116\, La Porte\, IN 46352. \n\nWWRH is 501 C 3 Tax-Exempt Charitable Organization. To register please visit us at https://www.facebook.com/events/194839387776690 or email Sonshine at info@worthyrecovery.org or call Worthy Women at 219-325-3360.
X-ALT-DESC;FMTTYPE=text/html:<span style="color: rgb(69\, 69\, 69)\; font-family: Arial\, Helvetica\, sans-serif\; font-size: 13.3333px\;">PLEASE SPONSOR US! CREATE A TEAM &amp\; HELP OUR TEAM. The event will take place on April 14 from 12-3 p.m. at Casey&#39\;s Lanes\, 610 Colfax Avenue in La Porte.&nbsp\;</span><span style="color: rgb(69\, 69\, 69)\; font-family: Arial\, Helvetica\, sans-serif\; font-size: 13.3333px\;">$100 minimum per REGISTERED Team (4-6) includes lane reservation. Lane Signage &amp\; T-shirt Sponsorships are $100 EACH. Teams don&#39\;t have to register unless you want to try for prizes. $100 team registration reserves a lane and enters team (4-6) to win prizes (Gift Certificates to local Diners):&nbsp\;<br />\nThe Traveling Trophy and $150 in gift certificates goes to the Registered Team who turns in the most donations by April 13. Prizes will also be given for 1st and 2nd high score\, and low score.<br />\n<br />\nMail Check to WRI\, PO Box 116\, La Porte\, IN 46352.&nbsp\;<br />\nWWRH is 501 C 3 Tax-Exempt Charitable Organization. To register please visit us at&nbsp\;<a _mce_href="https://www.facebook.com/events/194839387776690" _mce_style="font-weight: bold\; color: #c24f13\; text-decoration: none\;" href="https://www.facebook.com/events/194839387776690" linktype="1" style="font-weight: bold\; color: rgb(194\, 79\, 19) !important\; text-decoration-line: none !important\;" target="_blank" track="on">https://www.facebook.com/events/194839387776690</a>&nbsp\;or email Sonshine at&nbsp\;<a>info@worthyrecovery.org</a>&nbsp\;or call Worthy Women at 219-325-3360.</span>
LOCATION:Casey's Lanes 610 Colfax Avenue La Porte
UID:e.1949.4096
SEQUENCE:3
DTSTAMP:20260424T115717Z
URL:https://members.laportepartnership.com/events/details/10th-bowl-for-worthy-women-4096
END:VEVENT

END:VCALENDAR
