BEGIN:VCALENDAR
VERSION:2.0
PRODID:-//ChamberMaster//Event Calendar 2.0//EN
METHOD:PUBLISH
X-PUBLISHED-TTL:P3D
REFRESH-INTERVAL:P3D
CALSCALE:GREGORIAN
BEGIN:VEVENT
DTSTART:20160911T000000Z
DTEND:20160911T020000Z
X-MICROSOFT-CDO-ALLDAYEVENT:FALSE
SUMMARY:11th Hoosier STAR
DESCRIPTION:The La Porte County Symphony Orchestra announces the 11th season of Hoosier STAR. This enjoyable evening of entertainment will take place on Saturday\, September 10\, 7pm\, at the La Porte Civic Auditorium. Hoosier STAR has evolved into one of La Porte County's premier events\, where everyone in the audience has the opportunity to vote to determine the first and second place winners. \n\n \n\nThis fundraising event has presented exceptional vocalists over the years from all over Indiana and SW Michigan. These talented singers were selected by audition to perform with the Hoosier STAR Orchestra under the direction of Maestro Philip J. Bauman.\n\n \n\nTickets are on sale now. Table seating for 10 on the floor of the Civic is available for $500.  Balcony seats are $10 for adults and $5 for children under 12.  Visit www.hoosierstar.com \, or the following ticket outlets:\n\n\n	Civic Auditorium\, 1001 Ridge Street\, La Porte\, IN \n	La Porte Savings Bank - 710 Indiana Avenue\, La Porte\, IN  \n	ROXY Music - 1012 Lincolnway\, La Porte\, IN \n	La Porte Co. Convention & Visitors Bureau - Marquette Mall\, Franklin Street\, Michigan City\, IN  \n\nFor more information\, contact Laura Cutler\, Executive Director at the LCSO office: \n\n219-362-9020 or executive@lcso.net
X-ALT-DESC;FMTTYPE=text/html:<strong><span style="color:black\;"><span style="font-family:arial\,sans-serif\;"><span style="font-size:10.0pt\;">The La Porte County Symphony Orchestra announces the 11th season of <em>Hoosier</em> STAR. This enjoyable evening of entertainment will take place on Saturday\, September 10\, 7pm\, at the La Porte Civic Auditorium. <em>Hoosier </em>STAR has evolved into one of La Porte County&#39\;s premier events\, where everyone in the audience has the opportunity to vote to determine the first and second place winners.&nbsp\;</span></span></span></strong><br />\n&nbsp\;<br />\n<strong><span style="color:black\;"><span style="font-family:arial\,sans-serif\;"><span style="font-size:10.0pt\;">This fundraising event has presented exceptional vocalists over the years from all over Indiana and SW Michigan. These talented singers were selected by audition to perform with the <em>Hoosier</em> STAR Orchestra under the direction of Maestro Philip J. Bauman.</span></span></span></strong><br />\n&nbsp\;<br />\n<strong><span style="color:black\;"><span style="font-family:arial\,sans-serif\;"><span style="font-size:10.0pt\;">Tickets are on sale now. Table seating for 10 on the floor of the Civic is available for $500.&nbsp\; Balcony seats are $10 for adults and $5 for children under 12.&nbsp\; Visit <a alt="http://www.hoosierstar.com" href="http://r20.rs6.net/tn.jsp?f=0014BbnMIa8lC7SqZiuVEK5nZhbF3uKTi0vOb8wWBGi-_UCA0nUAYt0-aF3M3kI7T8c12CYOHALqeZs51skk9pSqjgxuQXu0XBDDb7-RFU0efOnNK4dRR5SXrDFYX8bWKRVVGx-gIOapxHINtI57yx5Zhuh2Aahj93MroiTlPvBLFg=&amp\;c=5tQlS8BBb72hG-9DjFS2KyReDsjuS-9JArl0aNxICEkllICq9rZoRQ==&amp\;ch=w_MmvN1G3o0Fe_k5qBRDqkgftpw-f3kqVTE84udYXFCnUEnOQMU5MQ==" shape="rect" target="_blank">www.hoosierstar.com</a>&nbsp\;\,&nbsp\;or the following ticket outlets:</span></span></span></strong>\n\n<ul>\n	<li style="color:black\;"><strong><span style="font-family:arial\,sans-serif\;"><span style="font-size:10.0pt\;">Civic Auditorium\, 1001 Ridge Street\, La Porte\, IN&nbsp\;</span></span></strong></li>\n	<li style="color:black\;"><strong><span style="font-family:arial\,sans-serif\;"><span style="font-size:10.0pt\;">La Porte Savings Bank - 710 Indiana Avenue\, La Porte\, IN&nbsp\;&nbsp\;</span></span></strong></li>\n	<li style="color:black\;"><strong><span style="font-family:arial\,sans-serif\;"><span style="font-size:10.0pt\;">ROXY Music - 1012 Lincolnway\, La Porte\, IN&nbsp\;</span></span></strong></li>\n	<li style="color:black\;"><strong><span style="font-family:arial\,sans-serif\;"><span style="font-size:10.0pt\;">La Porte Co. Convention &amp\; Visitors Bureau - Marquette Mall\, Franklin Street\, Michigan City\, IN &nbsp\;</span></span></strong></li>\n</ul>\n<strong><span style="color:black\;"><span style="font-family:arial\,sans-serif\;"><span style="font-size:10.0pt\;">For more information\, contact Laura Cutler\, Executive Director at the LCSO office:&nbsp\;</span></span></span></strong><br />\n<strong><span style="color:black\;"><span style="font-family:arial\,sans-serif\;"><span style="font-size:10.0pt\;">219-362-9020 or <a href="mailto:executive@lcso.net"><span style="font-weight:normal\;">executive@lcso.net</span></a>&nbsp\;</span></span></span></strong>
LOCATION:La Porte Civic Auditorium 1001 Ridge Street La Porte
UID:e.1949.2607
SEQUENCE:3
DTSTAMP:20260425T223321Z
URL:https://members.laportepartnership.com/events/details/11th-hoosier-star-09-10-2016-2607
END:VEVENT

END:VCALENDAR
