BEGIN:VCALENDAR
VERSION:2.0
PRODID:-//ChamberMaster//Event Calendar 2.0//EN
METHOD:PUBLISH
X-PUBLISHED-TTL:P3D
REFRESH-INTERVAL:P3D
CALSCALE:GREGORIAN
BEGIN:VEVENT
DTSTART:20190520T140000Z
DTEND:20190720T200000Z
X-MICROSOFT-CDO-ALLDAYEVENT:FALSE
SUMMARY:12TH ANNUAL OLD CAR SHOW
DESCRIPTION:The La Porte County Historical Society Museum will host the 12th Annual Old Car Show on Saturday\, July 20. The event is open to cars that are 1989 and older. All the cars will be on display on the museum grounds. Trophies will be awarded. Registration begins at 8:00 a.m.\, and the fee is $15.00 per car. A DJ will be playing period music and Homerun Hot Dogs will sell food and beverages. Admission is $5.00 per car load.
X-ALT-DESC;FMTTYPE=text/html:The La Porte County Historical Society Museum will host the 12th Annual Old Car Show on Saturday\, July 20. The event is open to cars that are 1989 and older. All the cars will be on display on the museum grounds. Trophies will be awarded. Registration begins at 8:00 a.m.\, and the fee is $15.00 per car. A DJ will be playing period music and Homerun Hot Dogs will sell food and beverages. Admission is $5.00 per car load.
LOCATION:La Porte County Historical Society Museum
UID:e.1949.4366
SEQUENCE:3
DTSTAMP:20260423T114628Z
URL:https://members.laportepartnership.com/events/details/12th-annual-old-car-show-4366
END:VEVENT

END:VCALENDAR
