BEGIN:VCALENDAR
VERSION:2.0
PRODID:-//ChamberMaster//Event Calendar 2.0//EN
METHOD:PUBLISH
X-PUBLISHED-TTL:P3D
REFRESH-INTERVAL:P3D
CALSCALE:GREGORIAN
BEGIN:VEVENT
DTSTART:20160610T153000Z
DTEND:20160610T210000Z
X-MICROSOFT-CDO-ALLDAYEVENT:FALSE
SUMMARY:13th Annual La Porte Kiwanis Club Golf Outing
DESCRIPTION:Friday\, June 10\, 2016\n\nRegistration from 10:30-11:30am\, Lunch provided\n\nShot-gun start at 11:30a.m.\n\nDinner and awards immediately following golf\n\n \n\nBeechwood Golf Course\n\n2222 Woodlawn Drive\n\nLa Porte\, Indiana\n\n \n\nCost: $340 for a four-golfer team (* - $20 discount for teams that pay in full  before May 27th). Individuals may register for $85 per golfer. Guests may join us for lunch and/or dinner for $10. Registration includes 18 holes of golf (scramble format)\; gift\; contests on the course\, including Hole-In-One\; lunch and dinner\; and cold beverages before\, during and after golf.\n\nHole Sponsors: Sponsorships available to businesses and individuals for $85\n\nRain Policy: If the outing is cancelled by the golf course staff\, a voucher for a round of golf at Beechwood will be provided to each paid participant.\n\nPrizes: Awarded for first-\, second- and third-place teams as well as golf     contests. There will also be a 50/50 drawing and prize raffle.\n\nContact: Chairman Mike Riehle by phone at (219) 575-2038 or by e-mail at riehles@comcast.net. Information also available on the Kiwanis Club website at www.kiwaniscluboflaporte.org.\n\n \n\n \n\nJoin us for a day of fun\, golf\, food and fellowship!
X-ALT-DESC;FMTTYPE=text/html:<span style="font-weight:bold\;language:en-US\;"><span style="font-family:arial\;"><span style="font-size:18.0pt\;">Friday\, June 10\, 2016</span></span></span><br />\n<span style="font-weight:bold\;language:en-US\;"><span style="font-family:arial\;"><span style="font-size:18.0pt\;">Registration from 10:30-11:30am\, Lunch provided</span></span></span><br />\n<span style="font-weight:bold\;language:en-US\;"><span style="font-family:arial\;"><span style="font-size:18.0pt\;">Shot-gun start at 11:30a.m.</span></span></span><br />\n<span style="font-weight:bold\;language:en-US\;"><span style="font-family:arial\;"><span style="font-size:18.0pt\;">Dinner and awards immediately following golf</span></span></span><br />\n&nbsp\;<br />\n<span style="font-weight:bold\;language:en-US\;"><span style="font-family:arial\;"><span style="font-size:18.0pt\;">Beechwood Golf Course</span></span></span><br />\n<span style="font-weight:bold\;language:en-US\;"><span style="font-family:arial\;"><span style="font-size:18.0pt\;">2222 Woodlawn Drive</span></span></span><br />\n<span style="font-weight:bold\;language:en-US\;"><span style="font-family:arial\;"><span style="font-size:18.0pt\;">La Porte\, Indiana</span></span></span><br />\n&nbsp\;<br />\n<span style="font-weight:bold\;language:en-US\;"><span style="font-family:arial\;"><span style="font-size:14.0pt\;">Cost: </span></span></span><span style="language:en-US\;"><span style="font-family:arial\;"><span style="font-size:14.0pt\;">$340 for a four-golfer team (* - $20 discount for teams that pay in full&nbsp\; before May 27th). Individuals may register for $85 per golfer. Guests may join us for lunch and/or dinner for $10. Registration includes 18 holes of golf (scramble format)\; gift\; contests on the course\, including </span></span></span><span style="font-family:arial\;"><span style="font-size:14pt\;">Hole-In-One</span></span><span style="language:en-US\;"><span style="font-family:arial\;"><span style="font-size:14.0pt\;">\; lunch and dinner\; and cold beverages before\, during and after golf.</span></span></span><br />\n<span style="font-weight:bold\;language:en-US\;"><span style="font-family:arial\;"><span style="font-size:14.0pt\;">Hole Sponsors: </span></span></span><span style="language:en-US\;"><span style="font-family:arial\;"><span style="font-size:14.0pt\;">Sponsorships available to businesses and individuals for $85</span></span></span><br />\n<span style="font-weight:bold\;language:en-US\;"><span style="font-family:arial\;"><span style="font-size:14.0pt\;">Rain Policy: </span></span></span><span style="language:en-US\;"><span style="font-family:arial\;"><span style="font-size:14.0pt\;">If the outing is cancelled by the golf course staff\, a voucher for a round of golf at Beechwood will be provided to each paid participant.</span></span></span><br />\n<span style="font-weight:bold\;language:en-US\;"><span style="font-family:arial\;"><span style="font-size:14.0pt\;">Prizes: </span></span></span><span style="language:en-US\;"><span style="font-family:arial\;"><span style="font-size:14.0pt\;">Awarded for first-\, second- and third-place teams as well as golf&nbsp\;&nbsp\;&nbsp\;&nbsp\; contests. There will also be a 50/50 drawing and prize raffle.</span></span></span><br />\n<span style="font-weight:bold\;language:en-US\;"><span style="font-family:arial\;"><span style="font-size:14.0pt\;">Contact: </span></span></span><span style="language:en-US\;"><span style="font-family:arial\;"><span style="font-size:14.0pt\;">Chairman Mike Riehle by phone at (219) 575-2038 or by e-mail at riehles@comcast.net. Information also available on the Kiwanis Club website at www.kiwaniscluboflaporte.org.</span></span></span><br />\n&nbsp\;<br />\n&nbsp\;<br />\n<span style="font-weight:bold\;"><span style="font-family:arial\;"><span style="font-size:14pt\;">Join us for a day of fun\, golf\, food and fellowship!</span></span></span><br />\n&nbsp\;
LOCATION:Beechwood Golf Course 2222 Woodlawn Drive La Porte
UID:e.1949.2560
SEQUENCE:3
DTSTAMP:20260426T034647Z
URL:https://members.laportepartnership.com/events/details/13th-annual-la-porte-kiwanis-club-golf-outing-06-10-2016-2560
END:VEVENT

END:VCALENDAR
