BEGIN:VCALENDAR
VERSION:2.0
PRODID:-//ChamberMaster//Event Calendar 2.0//EN
METHOD:PUBLISH
X-PUBLISHED-TTL:P3D
REFRESH-INTERVAL:P3D
CALSCALE:GREGORIAN
BEGIN:VEVENT
DTSTART:20170325T140000Z
DTEND:20170325T170000Z
X-MICROSOFT-CDO-ALLDAYEVENT:FALSE
SUMMARY:14TH Annual YMCA 10K Run & 5K Run and Walk
DESCRIPTION:Course: The course starts near Stone Lake beach\, takes you past Pine Lake\, through scenic La Porte County and back through Soldiers Memorial Park. The 10K course is certified by USA Track & Field (Code: IN 06018 MW). The 10K and 5K have separate start lines\, however\, both races finish at Cummings Lodge. Please plan to arrive early. Featuring CHIP TIMING and AWARDS for both 10K and 5K events!
X-ALT-DESC;FMTTYPE=text/html:Course: The course starts near Stone Lake beach\, takes you past Pine Lake\, through scenic La Porte County and back through Soldiers Memorial Park. The 10K course is certified by USA Track &amp\; Field (Code: IN 06018 MW). The 10K and 5K have separate start lines\, however\, both races finish at Cummings Lodge. Please plan to arrive early. Featuring CHIP TIMING and AWARDS for both 10K and 5K events!
LOCATION:Soldier Memorial Park
UID:e.1949.2743
SEQUENCE:3
DTSTAMP:20260425T133428Z
URL:https://members.laportepartnership.com/events/details/14th-annual-ymca-10k-run-5k-run-and-walk-2743
END:VEVENT

END:VCALENDAR
