BEGIN:VCALENDAR
VERSION:2.0
PRODID:-//ChamberMaster//Event Calendar 2.0//EN
METHOD:PUBLISH
X-PUBLISHED-TTL:P3D
REFRESH-INTERVAL:P3D
CALSCALE:GREGORIAN
BEGIN:VEVENT
DTSTART:20180428T140000Z
DTEND:20180428T170000Z
X-MICROSOFT-CDO-ALLDAYEVENT:FALSE
SUMMARY:15th Annual 10K Run & 5K Run / Walk
DESCRIPTION:Join us on April 28th for our 15th Annual La Porte County Family YMCA 10K Run & 5K Run/Walk at the beautiful Soldiers Memorial Park in La Porte\, Indiana! This exciting event is a Calumet Region Striders Gold Cup Series Race. \n\n\n\nCourse: The course starts near Stone Lake beach\, takes you past Pine Lake\, though scenic La Porte County and back through Soldiers Memorial Park. The 10K course is certified by USA Track & Field. The 10K and 5K have separate start lines\, however\, both races finish at Cummings Lodge. Please plan to arrive early.\n\n\n\nAwards: Awards will be given to top overall male and female finishers and top overall Masters (over age 40) male and female finishers in both races\, as well as top three finishers in listed age groups for both races. \n\n\n\nSee registration form for more information. Registration is now open athttps://runsignup.com/Race/IN/LaPorte/LaPorteYMCARun. Questions? Please contact Elizabeth Downs at (219) 325-9622 or edowns@lpymca.org. We hope to see you on the course!\n\n\n\n	Causes
X-ALT-DESC;FMTTYPE=text/html:<div class="_2qgs" style="color: rgb(75\, 79\, 86)\; padding: 12px\; position: relative\; border-top: none\; font-family: Helvetica\, Arial\, sans-serif\; font-size: 12px\;"><span class="_4n-j _3cht fsl" data-testid="event-permalink-details" style="font-size: 14px\; font-family: inherit\;">Join us on April 28th for our 15th Annual La Porte County Family YMCA 10K Run &amp\; 5K Run/Walk at the beautiful Soldiers Memorial Park in La Porte\, Indiana! This exciting event is a Calumet Region Striders Gold Cup Series Race.&nbsp\;<br />\n<br />\nCourse: The course starts near Stone Lake beach\, takes you past Pine Lake\, though scenic La Porte County and back through Soldiers Memorial Park. The 10K course is certified by USA Track &amp\; Field. The 10K and 5K have separate start lines\, however\, both races finish at Cummings Lodge. Please plan to arrive early.<br />\n<br />\nAwards: Awards will be given to top overall male and female finishers and top overall Masters (over age 40) male and female finishers in both races\, as well as top three finishers in listed age groups for both races.&nbsp\;<br />\n<br />\nSee registration form for more information. Registration is now open at<a data-lynx-mode="asynclazy" data-lynx-uri="https://l.facebook.com/l.php?u=https%3A%2F%2Frunsignup.com%2FRace%2FIN%2FLaPorte%2FLaPorteYMCARun&amp\;h=ATPqO0YR2OcPnu2IAzTCBKrjwv3pHmLNmfB2fBMNXJVowIVaG_eozuMYdN_FXsrAJWdc7JAaZ7pQ-uEJSut9BqNPJ0GEbKM-mMjAbCHNzitYiztzsQ" href="https://runsignup.com/Race/IN/LaPorte/LaPorteYMCARun" rel="nofollow noopener" style="color: rgb(54\, 88\, 153)\; cursor: pointer\; text-decoration-line: none\; font-family: inherit\;" target="_blank"><span style="font-family: inherit\;">https</span></a><a data-lynx-mode="asynclazy" data-lynx-uri="https://l.facebook.com/l.php?u=https%3A%2F%2Frunsignup.com%2FRace%2FIN%2FLaPorte%2FLaPorteYMCARun&amp\;h=ATPqO0YR2OcPnu2IAzTCBKrjwv3pHmLNmfB2fBMNXJVowIVaG_eozuMYdN_FXsrAJWdc7JAaZ7pQ-uEJSut9BqNPJ0GEbKM-mMjAbCHNzitYiztzsQ" href="https://runsignup.com/Race/IN/LaPorte/LaPorteYMCARun" rel="nofollow noopener" style="color: rgb(54\, 88\, 153)\; cursor: pointer\; text-decoration-line: none\; font-family: inherit\;" target="_blank"><span style="font-family: inherit\;">://runsignup.com/</span><wbr /><span style="font-family: inherit\;">Race/IN/LaPorte/</span><wbr />LaPorteYMCARun</a>. Questions? Please contact Elizabeth Downs at (219) 325-9622 or edowns@lpymca.org. We hope to see you on the course!</span></div>\n\n<div class="_1r51" style="line-height: 24px\; margin: 4px 12px 12px\; min-height: 24px\; font-family: Helvetica\, Arial\, sans-serif\; color: rgb(29\, 33\, 41)\; font-size: 12px\;">\n<ul class="uiList uiCollapsedList uiCollapsedListHidden _509- _4ki" id="u_0_1n" style="list-style-type: none\; margin: 0px\; padding-right: 0px\; padding-left: 0px\;">\n	<li style="border-width: 0px\; display: inline-block\; vertical-align: top\;"><a href="https://www.facebook.com/events/discovery/?acontext=%7B%22source%22%3A1%2C%22page_id_source%22%3A186389871136%2C%22action_history%22%3A%22%5B%7B%5C%22surface%5C%22%3A%5C%22page%5C%22%2C%5C%22mechanism%5C%22%3A%5C%22main_list%5C%22%2C%5C%22extra_data%5C%22%3A%5C%22%7B%5C%5C%5C%22page_id%5C%5C%5C%22%3A186389871136%2C%5C%5C%5C%22tour_id%5C%5C%5C%22%3Anull%7D%5C%22%7D%2C%7B%5C%22surface%5C%22%3A%5C%22permalink%5C%22%2C%5C%22mechanism%5C%22%3A%5C%22surface%5C%22%2C%5C%22extra_data%5C%22%3A%5B%5D%7D%2C%7B%5C%22surface%5C%22%3A%5C%22permalink%5C%22%2C%5C%22mechanism%5C%22%3A%5C%22event_information%5C%22%2C%5C%22extra_data%5C%22%3A%7B%5C%22tag%5C%22%3A%5C%22Causes%5C%22%7D%7D%5D%22%2C%22has_source%22%3Atrue%7D&amp\;suggestion_token=%7B%22event_categories%22%3A%5B1284277608291920%5D%7D" style="color: rgb(54\, 88\, 153)\; cursor: pointer\; text-decoration-line: none\; font-family: inherit\;"><span class="_47od" style="background-color: rgb(237\, 242\, 250)\; border-radius: 2px\; color: rgb(32\, 55\, 95)\; display: block\; height: 14px\; line-height: 14px\; margin: 0px 4px 4px 0px\; padding: 4px 6px\; position: relative\; font-family: inherit\;">Causes</span></a></li>\n</ul>\n</div>\n
LOCATION:Soldiers Memorial Park La Porte
UID:e.1949.4092
SEQUENCE:3
DTSTAMP:20260424T134133Z
URL:https://members.laportepartnership.com/events/details/15th-annual-10k-run-5k-run-walk-4092
END:VEVENT

END:VCALENDAR
