BEGIN:VCALENDAR
VERSION:2.0
PRODID:-//ChamberMaster//Event Calendar 2.0//EN
METHOD:PUBLISH
X-PUBLISHED-TTL:P3D
REFRESH-INTERVAL:P3D
CALSCALE:GREGORIAN
BEGIN:VEVENT
DTSTART:20171005T230000Z
DTEND:20171006T020000Z
X-MICROSOFT-CDO-ALLDAYEVENT:FALSE
SUMMARY:16th Annual Chancellors’ Scholarship Fundraising Event-Ivy Tech
DESCRIPTION:The Ivy Tech Foundation presents the 16th Annual Chancellors' Scholarship Fundraising Event on Thursday\, October 5 at the Avalon Manor\, 3550 East U.S. Highway 30 in Merrillville\, Indiana. The Reception to meet the scholarship recipients will start at 6:00 PM\, and Dinner will be served at 6:45 PM\, followed by the Program.  Proceeds benefit the Chancellors' Scholarship Fund for Ivy Tech Northwest students.  The Special Guest will be Dr. Sue Ellspermann\, President of Ivy Tech. \n\nThe highlight of the evening will be the awarding of $42\,000 in Chancellors' Scholarships to 28 Ivy Tech students\, seven scholarships for each of the campuses in East Chicago\, Gary\, Valparaiso and Michigan City.  In addition\, the Ivy Tech Community College-Northwest will honor their Benefactor of the Year\, Leonard J. and Irene Brown Foundation\, Inc. \n\n \n\nTickets are $85 per person\, of which $40 is tax deductible.  Tickets can be purchased on line at https://connect.ivytech.edu/chancellorsevent2017.  Sponsor opportunities are available and include ticket benefits and program book recognition.  Reservations and ticket purchases are needed by Friday\, September 29.  For more information\, please contact Cindy Hall at (219) 476-4710 or cjhall@ivytech.edu.
X-ALT-DESC;FMTTYPE=text/html:<span style="font-family:times new roman\,serif\;"><span style="font-size:12.0pt\;">The Ivy Tech Foundation presents the 16<sup>th</sup> Annual Chancellors&rsquo\; Scholarship Fundraising Event on Thursday\, October 5 at the Avalon Manor\, 3550 East U.S. Highway 30 in Merrillville\, Indiana. The Reception to meet the scholarship recipients will start at 6:00 PM\, and Dinner will be served at 6:45 PM\, followed by the Program.&nbsp\; Proceeds benefit the Chancellors&rsquo\; Scholarship Fund for Ivy Tech Northwest students.&nbsp\; The Special Guest will be Dr. Sue Ellspermann\, President of Ivy Tech. </span></span><br />\n<span style="font-family:times new roman\,serif\;"><span style="font-size:12.0pt\;">The highlight of the evening will be the awarding of $42\,000 in Chancellors&rsquo\; Scholarships to 28 Ivy Tech students\, seven scholarships for each of the campuses in East Chicago\, Gary\, Valparaiso and Michigan City.&nbsp\; In addition\, the Ivy Tech Community College-Northwest will honor their Benefactor of the Year\, Leonard J. and Irene Brown Foundation\, Inc. </span></span><br />\n&nbsp\;<br />\n<span style="font-family:times new roman\,serif\;"><span style="font-size:12.0pt\;">Tickets are $85 per person\, of which $40 is tax deductible.&nbsp\; Tickets can be purchased on line at <a href="https://connect.ivytech.edu/chancellorsevent2017">https://connect.ivytech.edu/chancellorsevent2017</a>.&nbsp\; Sponsor opportunities are available and include ticket benefits and program book recognition.&nbsp\; Reservations and ticket purchases are needed by Friday\, September 29.&nbsp\; For more information\, please contact Cindy Hall at (219) 476-4710 or <a href="mailto:cjhall@ivytech.edu">cjhall@ivytech.edu</a>. &nbsp\;</span></span>
LOCATION:Avalon Manor 3550 East U.S. Highway 30 Merrillville
UID:e.1949.2889
SEQUENCE:3
DTSTAMP:20260425T002647Z
URL:https://members.laportepartnership.com/events/details/16th-annual-chancellors-scholarship-fundraising-event-ivy-tech-2889
END:VEVENT

END:VCALENDAR
