BEGIN:VCALENDAR
VERSION:2.0
PRODID:-//ChamberMaster//Event Calendar 2.0//EN
METHOD:PUBLISH
X-PUBLISHED-TTL:P3D
REFRESH-INTERVAL:P3D
CALSCALE:GREGORIAN
BEGIN:VEVENT
DTSTART:20171129T230000Z
DTEND:20171130T010000Z
X-MICROSOFT-CDO-ALLDAYEVENT:FALSE
SUMMARY:17th Annual Winter Glo with Visit Michigan City La Porte
DESCRIPTION:Visit Michigan City La Porte\n\n17th Annual Winter Glo\n\nand\n\nLegislative Event\n\nHosted by\n\nBlue Chip Casino\, Hotel & Spa\n\n777 Blue Chip Dr.\, Michigan City\n\nWed.\, November 29\, 2017\n\n5:00 p.m.-7:00 p.m.\n\n\n\nThis will be our Winter Glo and Legislative Idea & Information Exchange\, with Indiana Representatives & Senators\n\nGuest Speaker: Mark Newman- Exec. Dir.\n\n\n\nHors d'oeuvres and a host bar will be provided by Blue Chip\n\nEntertainment- Foot Notes\n\nWe will have a mitten tree\, so please bring hats and mittens for children of all sizes.\n\n\n\nKindly RSVP to Jane Daley by Nov. 20th\n\nPhone: 219-872-5055 or email jane@michigancitylapote.com
X-ALT-DESC;FMTTYPE=text/html:Visit Michigan City La Porte<br />\n17th Annual Winter Glo<br />\nand<br />\nLegislative Event<br />\nHosted by<br />\nBlue Chip Casino\, Hotel &amp\; Spa<br />\n777 Blue Chip Dr.\, Michigan City<br />\nWed.\, November 29\, 2017<br />\n5:00 p.m.-7:00 p.m.<br />\n<br />\nThis will be our Winter Glo and Legislative Idea &amp\; Information Exchange\, with Indiana Representatives &amp\; Senators<br />\nGuest Speaker: Mark Newman- Exec. Dir.<br />\n<br />\nHors d&#39\;oeuvres and a host bar will be provided by Blue Chip<br />\nEntertainment- Foot Notes<br />\nWe will have a mitten tree\, so please bring hats and mittens for children of all sizes.<br />\n<br />\nKindly RSVP to Jane Daley by Nov. 20th<br />\nPhone: 219-872-5055 or email jane@michigancitylapote.com
LOCATION:Blue Chip Casino\, Hotel & Spa 777 Blue Chip Dr. Michigan City
UID:e.1949.2938
SEQUENCE:3
DTSTAMP:20260424T230858Z
URL:https://members.laportepartnership.com/events/details/17th-annual-winter-glo-with-visit-michigan-city-la-porte-2938
END:VEVENT

END:VCALENDAR
