BEGIN:VCALENDAR
VERSION:2.0
PRODID:-//ChamberMaster//Event Calendar 2.0//EN
METHOD:PUBLISH
X-PUBLISHED-TTL:P3D
REFRESH-INTERVAL:P3D
CALSCALE:GREGORIAN
BEGIN:VEVENT
DTSTART:20160917T130000Z
DTEND:20160917T210000Z
X-MICROSOFT-CDO-ALLDAYEVENT:FALSE
SUMMARY:18th Annual Sunflower Fair
DESCRIPTION:The Sunflower Fair in beautiful\, historic Downtown La Porte is one of the largest area festivals with over 100 craft and nonprofit vendors. Enjoy a day with family and friends for food\, entertainment\, rides\, and much\, much more. Enjoy the many activities of the day- a rib cook-off\, a 5K run and fun walk\, sunflower contest\, an art walk\, rides\, food\, and of course much\, much more! Visitors may also see the many vendors- last year approximately 150 vendors participated!\n\nBrought to you by the Greater La Porte Chamber of Commerce and a volunteer committee of dedicated community members\, the unique fair celebrates everything fall and community. The fair comes downtown every 3rd Saturday in September. Save the Date for the 18th Annual Sunflower Fair September 17\, 2016!
X-ALT-DESC;FMTTYPE=text/html:<p style="margin: 0px 0px 30px\; padding: 0px\; border: 0px\; outline: 0px\; font-size: 15px\; vertical-align: baseline\; color: rgb(95\, 98\, 99)\; font-family: Lora\, &quot\;Open Sans&quot\;\, Arial\, sans-serif\; line-height: 30px\; background-image: initial\; background-attachment: initial\; background-size: initial\; background-origin: initial\; background-clip: initial\; background-position: initial\; background-repeat: initial\;">The Sunflower Fair in beautiful\, historic Downtown La Porte is one of the largest area festivals with over 100 craft and nonprofit vendors. Enjoy a day with family and friends for food\, entertainment\, rides\, and much\, much more. Enjoy the many activities of the day- a rib cook-off\, a 5K run and fun walk\, sunflower contest\, an art walk\, rides\, food\, and of course much\, much more! Visitors may also see the many vendors- last year approximately 150 vendors participated!</p>\n\n<p style="margin-top: 0px\; margin-right: 0px\; margin-left: 0px\; padding: 0px\; border: 0px\; outline: 0px\; font-size: 15px\; vertical-align: baseline\; color: rgb(95\, 98\, 99)\; font-family: Lora\, &quot\;Open Sans&quot\;\, Arial\, sans-serif\; line-height: 30px\; margin-bottom: 0px !important\; background-image: initial\; background-attachment: initial\; background-size: initial\; background-origin: initial\; background-clip: initial\; background-position: initial\; background-repeat: initial\;">Brought to you by the Greater La Porte Chamber of Commerce and a volunteer committee of dedicated community members\, the unique fair celebrates everything fall and community. The fair comes downtown every 3rd Saturday in September. Save the Date for the 18th Annual Sunflower Fair September 17\, 2016!</p>\n
LOCATION:Downtown La Porte along Michigan Avenue
UID:e.1949.2615
SEQUENCE:3
DTSTAMP:20260426T003608Z
URL:https://members.laportepartnership.com/events/details/18th-annual-sunflower-fair-09-17-2016-2615
END:VEVENT

END:VCALENDAR
