BEGIN:VCALENDAR
VERSION:2.0
PRODID:-//ChamberMaster//Event Calendar 2.0//EN
METHOD:PUBLISH
X-PUBLISHED-TTL:P3D
REFRESH-INTERVAL:P3D
CALSCALE:GREGORIAN
BEGIN:VEVENT
DTSTART:20170315T150000Z
DTEND:20170315T170000Z
X-MICROSOFT-CDO-ALLDAYEVENT:FALSE
SUMMARY:1st Northwest Indiana CIO Roundtable
DESCRIPTION:Purdue University Northwest\n\nInvites you to the\n\n1st Northwest Indiana CIO Roundtable\n\nSponsored by Gartner\, Inc.\n\nWednesday\, March 15\, 2017\n\nPurdue University Northwest\n\n1401 S. U.S. 421\n\nWestville\, Indiana 46391\n\nDworkin Complex\, Westville Campus - Great Hall A\n\nWith guest Speaker\n\nArun Chandrasekaran\, Research VP\n\nPresenting on Hybrid Cloud\n\nMaking Hybrid Cloud is a top area of focus as it enables agility\, cost control and more. Making Hybrid Cloud Work   Cloud computing affects every aspect of IT and the business\, so organizations need a high-level bimodal strategy and decision process to manage its impacts. The ultimate goal for enterprises is to build a hybrid cloud infrastructure that enables agility\, elasticity\, cost control\, and dynamic policy-based optimization to address the needs of digital business. This hybrid cloud infrastructure may be provided by a combination of dedicated private cloud resources (for example\, built and supported by the internal IT staff or a third party\, where it is either deployed on-premises or hosted) and/or public cloud services. While two-thirds of enterprises plan to enable hybrid cloud in the next two years\, very few of them are there today. This session will help CIOs to lead and coordinate the effort to develop and implement a hybrid cloud strategy for the enterprise\n\nAgenda\n\n  10:00 a.m. Networking and Continental Breakfast\n\n  10:30 a.m. Welcome by Tim Winders\, Vice Chancellor Information Services and Ben Ingersoll\, Gartner\n\n  10:45a.m. Presentation by Arun Chandrasekaran\, Research VP\n\n  11:45a.m. Q&A Session\n\n  12:00p.m. Closing Remarks and Lunch\n\nRegistration is limited. To register or for more information please email Nancy Malag n at nmalagon@pnw.edu\n\nPNW Westville Campus Map http://www.pnw.edu/visitors-guide/maps/westville-campus/
X-ALT-DESC;FMTTYPE=text/html:Purdue University Northwest<br />\nInvites you to the<br />\n1st Northwest Indiana CIO Roundtable<br />\nSponsored by Gartner\, Inc.<br />\nWednesday\, March 15\, 2017<br />\nPurdue University Northwest<br />\n1401 S. U.S. 421<br />\nWestville\, Indiana 46391<br />\nDworkin Complex\, Westville Campus - Great Hall A<br />\nWith guest Speaker<br />\nArun Chandrasekaran\, Research VP<br />\nPresenting on Hybrid Cloud<br />\nMaking Hybrid Cloud is a top area of focus as it enables agility\, cost control and more. Making Hybrid Cloud Work &mdash\; Cloud computing affects every aspect of IT and the business\, so organizations need a high-level bimodal strategy and decision process to manage its impacts. The ultimate goal for enterprises is to build a hybrid cloud infrastructure that enables agility\, elasticity\, cost control\, and dynamic policy-based optimization to address the needs of digital business. This hybrid cloud infrastructure may be provided by a combination of dedicated private cloud resources (for example\, built and supported by the internal IT staff or a third party\, where it is either deployed on-premises or hosted) and/or public cloud services. While two-thirds of enterprises plan to enable hybrid cloud in the next two years\, very few of them are there today. This session will help CIOs to lead and coordinate the effort to develop and implement a hybrid cloud strategy for the enterprise<br />\nAgenda<br />\n&#61623\; 10:00 a.m. Networking and Continental Breakfast<br />\n&#61623\; 10:30 a.m. Welcome by Tim Winders\, Vice Chancellor Information Services and Ben Ingersoll\, Gartner<br />\n&#61623\; 10:45a.m. Presentation by Arun Chandrasekaran\, Research VP<br />\n&#61623\; 11:45a.m. Q&amp\;A Session<br />\n&#61623\; 12:00p.m. Closing Remarks and Lunch<br />\nRegistration is limited. To register or for more information please email Nancy Malag&oacute\;n at nmalagon@pnw.edu<br />\nPNW Westville Campus Map http://www.pnw.edu/visitors-guide/maps/westville-campus/
LOCATION:Purdue University Northwest 1401 S. U.S. 421 Westville
UID:e.1949.2729
SEQUENCE:3
DTSTAMP:20260425T114516Z
URL:https://members.laportepartnership.com/events/details/1st-northwest-indiana-cio-roundtable-2729
END:VEVENT

END:VCALENDAR
