BEGIN:VCALENDAR
VERSION:2.0
PRODID:-//ChamberMaster//Event Calendar 2.0//EN
METHOD:PUBLISH
X-PUBLISHED-TTL:P3D
REFRESH-INTERVAL:P3D
CALSCALE:GREGORIAN
BEGIN:VEVENT
DTSTART:20170222T230000Z
DTEND:20170223T010000Z
X-MICROSOFT-CDO-ALLDAYEVENT:FALSE
SUMMARY:1st Source Bank- Exporting 101 Workshop
DESCRIPTION:Exporting 101\n\n			5:00 pm   7:00 pm\n\n			Wednesday\, February 22\n\n			Hampton Inn & Suites\n\n			3674 N. Frontage Road\, Michigan City\, IN\n			 \n		\n	\n\nBusinesses that export have more revenue\, are more profitable and create more jobs than non-exporters. But how do you know if there is an international market for your product or service?\n\nThis free\, no-obligation workshop is for companies that have little or no proactive export strategy\, but want to learn about the steps and resources available for identifying foreign markets and distributors\, as well as how to finance an export business strategy.\n\nProgram Agenda\n\n\n	\n		\n			4:30   5:00\n			Registration\, Networking\, Food & Refreshments\n		\n		\n			5:00 - 5:10\n			Welcome & Introductions\n\n			Karri Krumnow   Business Banker\, 1st Source Bank\n		\n		\n			5:10-5:20\n			Capital Access\n\n			Eric Armacost   Lead lender Relations Specialist\, U.S. Small Business Administration\n		\n		\n			5:20-5:30\n			Counseling\n\n			Lorri Feldt   Regional Director\, Northwest ISBCD\n		\n		\n			5:30-5:50\n			Export Finance Support\n\n			John O'Gara   Regional Manager\, SBA Export Assistance Center's Export Solutions Group\n		\n		\n			5:50-6:10\n			US Competitiveness\, Core Steps to Exporting and Export Resources\n\n			Andrew Reinke   President\, Foreign Targets\, Inc.\n		\n		\n			6:10-6:30\n			Open for Q&A\n		\n	\n\n \n\n\n	\n		\n			RSVP by February 15:\n			Email: KrumnowK@1stsource.com\n\n			Online: 1stsource.com/SBAexport\n\n			Phone: (219) 872-2953\n		\n	\n\nWhy Exports Matter\n\n\n	U.S. exports of goods and services totaled $2.26T in 2015\n	96% of the world's consumers (75% of the world's purchasing power) reside outside the U.S.\n	Exports counter domestic economic downturns\n	Firms that export are up to 40% more profitable than non-exporters\n	U.S. is currently 3rd most competitive nation (up from 5th)\n\nU.S. exports comprise nearly 14% of GDP\, up from 4% in the 1950s
X-ALT-DESC;FMTTYPE=text/html:<table border="0" cellpadding="0" style="width:100.0%\;" width="100%">\n	<tbody>\n		<tr>\n			<td style="padding:.75pt .75pt .75pt .75pt\;">&nbsp\;</td>\n			<td style="padding:.75pt .75pt .75pt .75pt\;"><strong><span style="font-size:24.0pt\;">Exporting 101</span></strong><br />\n			<span style="font-size:13.5pt\;">5:00 pm &ndash\; 7:00 pm</span><br />\n			<span style="font-size:13.5pt\;">Wednesday\, February 22</span><br />\n			<span style="font-size:13.5pt\;">Hampton Inn &amp\; Suites</span><br />\n			<span style="font-size:13.5pt\;">3674 N. Frontage Road\, Michigan City\, IN</span></td>\n			<td style="padding:.75pt .75pt .75pt .75pt\;">&nbsp\;</td>\n		</tr>\n	</tbody>\n</table>\n<span style="font-family:arial\,sans-serif\;"><span style="font-size:10.5pt\;">Businesses that export have more revenue\, are more profitable and create more jobs than non-exporters. But how do you know if there is an international market for your product or service?</span></span><br />\n<span style="font-family:arial\,sans-serif\;"><span style="font-size:10.5pt\;">This free\, no-obligation workshop is for companies that have little or no proactive export strategy\, but want to learn about the steps and resources available for identifying foreign markets and distributors\, as well as how to finance an export business strategy.</span></span><br />\n<strong><span style="font-family:arial\,sans-serif\;"><span style="font-size:13.5pt\;">Program Agenda</span></span></strong>\n\n<table border="0" cellpadding="0" style="width:100.0%\;" width="100%">\n	<tbody>\n		<tr>\n			<td style="width:20.0%\;padding:.75pt .75pt .75pt .75pt\;"><span style="font-size:10.5pt\;">4:30 &ndash\; 5:00</span></td>\n			<td style="padding:.75pt .75pt .75pt .75pt\;"><strong><span style="font-size:10.5pt\;">Registration\, Networking\, Food &amp\; Refreshments</span></strong></td>\n		</tr>\n		<tr>\n			<td style="width:20.0%\;padding:.75pt .75pt .75pt .75pt\;"><span style="font-size:10.5pt\;">5:00 - 5:10</span></td>\n			<td style="padding:.75pt .75pt .75pt .75pt\;"><strong><span style="font-size:10.5pt\;">Welcome &amp\; Introductions</span></strong><br />\n			<span style="font-size:10.5pt\;">Karri Krumnow &ndash\; Business Banker\, 1st Source Bank</span></td>\n		</tr>\n		<tr>\n			<td style="width:20.0%\;padding:.75pt .75pt .75pt .75pt\;"><span style="font-size:10.5pt\;">5:10-5:20</span></td>\n			<td style="padding:.75pt .75pt .75pt .75pt\;"><strong><span style="font-size:10.5pt\;">Capital Access</span></strong><br />\n			<span style="font-size:10.5pt\;">Eric Armacost &ndash\; Lead lender Relations Specialist\, U.S. Small Business Administration</span></td>\n		</tr>\n		<tr>\n			<td style="width:20.0%\;padding:.75pt .75pt .75pt .75pt\;"><span style="font-size:10.5pt\;">5:20-5:30</span></td>\n			<td style="padding:.75pt .75pt .75pt .75pt\;"><strong><span style="font-size:10.5pt\;">Counseling</span></strong><br />\n			<span style="font-size:10.5pt\;">Lorri Feldt &ndash\; Regional Director\, Northwest ISBCD</span></td>\n		</tr>\n		<tr>\n			<td style="width:20.0%\;padding:.75pt .75pt .75pt .75pt\;"><span style="font-size:10.5pt\;">5:30-5:50</span></td>\n			<td style="padding:.75pt .75pt .75pt .75pt\;"><strong><span style="font-size:10.5pt\;">Export Finance Support</span></strong><br />\n			<span style="font-size:10.5pt\;">John O&rsquo\;Gara &ndash\; Regional Manager\, SBA Export Assistance Center&rsquo\;s Export Solutions Group</span></td>\n		</tr>\n		<tr>\n			<td style="width:20.0%\;padding:.75pt .75pt .75pt .75pt\;"><span style="font-size:10.5pt\;">5:50-6:10</span></td>\n			<td style="padding:.75pt .75pt .75pt .75pt\;"><strong><span style="font-size:10.5pt\;">US Competitiveness\, Core Steps to Exporting and Export Resources</span></strong><br />\n			<span style="font-size:10.5pt\;">Andrew Reinke &ndash\; President\, Foreign Targets\, Inc.</span></td>\n		</tr>\n		<tr>\n			<td style="width:20.0%\;padding:.75pt .75pt .75pt .75pt\;"><span style="font-size:10.5pt\;">6:10-6:30</span></td>\n			<td style="padding:.75pt .75pt .75pt .75pt\;"><strong><span style="font-size:10.5pt\;">Open for Q&amp\;A</span></strong></td>\n		</tr>\n	</tbody>\n</table>\n&nbsp\;\n\n<table border="0" cellpadding="0" style="width:100.0%\;" width="100%">\n	<tbody>\n		<tr>\n			<td style="width:45.0%\;padding:.75pt .75pt .75pt .75pt\;"><strong><span style="font-size:10.5pt\;">RSVP by February 15:</span></strong></td>\n			<td style="padding:.75pt .75pt .75pt .75pt\;"><strong><span style="font-size:10.5pt\;">Email:</span></strong><span style="font-size:10.5pt\;"> <a href="mailto:KrumnowK@1stsource.com"><strong><span style="font-family:arial\,sans-serif\;"><span style="font-size:10.0pt\;">KrumnowK@1stsource.com</span></span></strong></a></span><br />\n			<strong><span style="font-size:10.5pt\;">Online:</span></strong><span style="font-size:10.5pt\;"> <a href="http://tr.subscribermail.com/cc.cfm?sendto=https%3A%2F%2F1stsource%2Eco1%2Equaltrics%2Ecom%2FSE%2F%3FSID%3DSV%5FeX5A2DdL051Rlop&amp\;tempid=a6fdae6796194a1cb4baeb6f30de375e&amp\;mailid=0d51d2982a714c6e8b19f1a8d1df0917" target="_blank"><strong><span style="font-family:arial\,sans-serif\;"><span style="font-size:10.0pt\;">1stsource.com/SBAexport</span></span></strong></a></span><br />\n			<strong><span style="font-size:10.5pt\;">Phone:</span></strong><span style="font-size:10.5pt\;"> (219) 872-2953</span></td>\n		</tr>\n	</tbody>\n</table>\n<strong><span style="font-family:arial\,sans-serif\;"><span style="font-size:10.5pt\;">Why Exports Matter</span></span></strong>\n\n<ul>\n	<li><span style="font-family:arial\,sans-serif\;"><span style="font-size:10.5pt\;">U.S. exports of goods and services totaled $2.26T in 2015</span></span></li>\n	<li><span style="font-family:arial\,sans-serif\;"><span style="font-size:10.5pt\;">96% of the world&rsquo\;s consumers (75% of the world&rsquo\;s purchasing power) reside outside the U.S.</span></span></li>\n	<li><span style="font-family:arial\,sans-serif\;"><span style="font-size:10.5pt\;">Exports counter domestic economic downturns</span></span></li>\n	<li><span style="font-family:arial\,sans-serif\;"><span style="font-size:10.5pt\;">Firms that export are up to 40% more profitable than non-exporters</span></span></li>\n	<li><span style="font-family:arial\,sans-serif\;"><span style="font-size:10.5pt\;">U.S. is currently 3rd most competitive nation (up from 5th)</span></span></li>\n</ul>\n<span style="color:#666666\;"><span style="font-family:arial\,sans-serif\;"><span style="font-size:10.5pt\;">U.S. exports comprise nearly 14% of GDP\, up from 4% in the 1950s</span></span></span>
LOCATION:Hampton Inn & Suites 3674 N. Frontage Road Michigan City
UID:e.1949.2721
SEQUENCE:3
DTSTAMP:20260425T132905Z
URL:https://members.laportepartnership.com/events/details/1st-source-bank-exporting-101-workshop-2721
END:VEVENT

END:VCALENDAR
