BEGIN:VCALENDAR
VERSION:2.0
PRODID:-//ChamberMaster//Event Calendar 2.0//EN
METHOD:PUBLISH
X-PUBLISHED-TTL:P3D
REFRESH-INTERVAL:P3D
CALSCALE:GREGORIAN
BEGIN:VEVENT
DTSTART:20161126T180000Z
DTEND:20161126T210000Z
X-MICROSOFT-CDO-ALLDAYEVENT:FALSE
SUMMARY:2016 La Porte Santa Parade
DESCRIPTION:Baby its cold outside\, and Santa is getting ready to come to downtown La Porte! Applications are now available for the 2016 Santa Parade in downtown La Porte held on November 26 at 12:00pm. The parade is free to participate in and all groups are welcome to participate. The parade runs through downtown and ends at Santa's Chalet in the historic Chamber Square\, 803 Washington Street. After the parade\, children can visit with newly-arrived Santa at his chalet.\n\n\n\nInterest in participating in the Santa Parade or being a sponsor of the event? Click the link above for more information!
X-ALT-DESC;FMTTYPE=text/html:<span style="font-size:18px\;"><span style="font-family:arial\;">Baby its cold outside\, and Santa is getting ready to come to downtown La Porte! Applications are now available for the 2016 Santa Parade in downtown La Porte held on November 26 at 12:00pm. The parade is free to participate in and all groups are welcome to participate. The parade runs through downtown and ends at Santa&rsquo\;s Chalet in the historic Chamber Square\, 803 Washington Street.&nbsp\;After the parade\, children can visit with newly-arrived Santa at his chalet.<br />\n<br />\nInterest in participating in the Santa Parade or being a sponsor of the event? Click the link above for more information!</span></span>
LOCATION:Downtown La Porte Starting at Teegarden\, follows Lincolnway to Detroit Street where route turns left toward State Street. Route continues down State Street to Michigan Avenue where it takes a right to head towards the route's end at the Greater La Porte Chamber of Commerce.
UID:e.1949.2645
SEQUENCE:3
DTSTAMP:20260425T185755Z
URL:https://members.laportepartnership.com/events/details/2016-la-porte-santa-parade-2645
END:VEVENT

END:VCALENDAR
