BEGIN:VCALENDAR
VERSION:2.0
PRODID:-//ChamberMaster//Event Calendar 2.0//EN
METHOD:PUBLISH
X-PUBLISHED-TTL:P3D
REFRESH-INTERVAL:P3D
CALSCALE:GREGORIAN
BEGIN:VEVENT
DTSTART:20161112T180000Z
DTEND:20161112T220000Z
X-MICROSOFT-CDO-ALLDAYEVENT:FALSE
SUMMARY:2016 La Pour Brew & Wine Fest
DESCRIPTION:Get ready for the 2016 LaPour Brew & Wine Fest hosted at the La Porte Civic Auditorium! The event will be held on November 12\, 2016 with VIP Entrance at noon and General Admission at 1:00 p.m. Live music\, great food\, local and national microbreweries... This event is going to be a great time! Proceeds from this year's La Pour will help purchase an outdoor screen for Downtown Movie Nights. Live music will be provided by George and Nate from Midwest Hype.
X-ALT-DESC;FMTTYPE=text/html:<span style="color: rgb(69\, 69\, 69)\; font-family: Arial\, Helvetica\, sans-serif\; font-size: 13.3333px\;">Get ready for the 2016 LaPour Brew &amp\; Wine Fest hosted at the La Porte Civic Auditorium! The event will be held on&nbsp\;</span><span style="color: rgb(69\, 69\, 69)\; font-family: Arial\, Helvetica\, sans-serif\; font-size: 13.3333px\;">November 12\, 2016 with&nbsp\;</span><span style="color: rgb(69\, 69\, 69)\; font-family: Arial\, Helvetica\, sans-serif\; font-size: 13.3333px\;">VIP Entrance at noon and&nbsp\;</span><span style="color: rgb(69\, 69\, 69)\; font-family: Arial\, Helvetica\, sans-serif\; font-size: 13.3333px\;">General Admission at 1:00 p.m.&nbsp\;</span><span style="color: rgb(69\, 69\, 69)\; font-family: Arial\, Helvetica\, sans-serif\; font-size: 13.3333px\;">Live music\, great food\, local and national microbreweries... This event is going to be a great time!&nbsp\;</span><span style="color: rgb(69\, 69\, 69)\; font-family: Arial\, Helvetica\, sans-serif\; font-size: 13.3333px\;">Proceeds from this year&#39\;s La Pour will help purchase an outdoor screen for Downtown Movie Nights.&nbsp\;</span><span style="color: rgb(69\, 69\, 69)\; font-family: Arial\, Helvetica\, sans-serif\; font-size: 13.3333px\;">Live music will be provided by George and Nate from Midwest Hype.</span>
LOCATION:La Porte Civic Auditorium 1001 Ridge Street La Porte
UID:e.1949.2655
SEQUENCE:3
DTSTAMP:20260425T184815Z
URL:https://members.laportepartnership.com/events/details/2016-la-pour-brew-wine-fest-2655
END:VEVENT

END:VCALENDAR
