BEGIN:VCALENDAR
VERSION:2.0
PRODID:-//ChamberMaster//Event Calendar 2.0//EN
METHOD:PUBLISH
X-PUBLISHED-TTL:P3D
REFRESH-INTERVAL:P3D
CALSCALE:GREGORIAN
BEGIN:VEVENT
DTSTART:20161208T180000Z
DTEND:20161209T000000Z
X-MICROSOFT-CDO-ALLDAYEVENT:FALSE
SUMMARY:2016 Membership Appreciation & Mike's Retirement Party
DESCRIPTION:The La Porte Chamber of Commerce appreciates its members! Let us celebrate you as members and join us at our Membership Appreciation Party at the Chamber Office\, 803 Washington Street in La Porte. This event will take place on December 8 from 12:00 p.m.-3:00 p.m. Be sure to join also join us later at 4:00 p.m. as we give a farewell to Mike Seitz\, our 15 year president\, as moves into retirement.\n\n\n\nIf you have already sent an RSVP for Mike's Retirement Party by contacting the Chamber staff\, you do not need to register again for either event. We hope to see you all on December 8!
X-ALT-DESC;FMTTYPE=text/html:The La Porte Chamber of Commerce appreciates its members! Let us celebrate you as members and join us at our Membership Appreciation Party at the Chamber Office\, 803 Washington Street in La Porte. This event will take place on December 8 from 12:00 p.m.-3:00 p.m. Be sure to join also join us later at 4:00 p.m. as we give a farewell to Mike Seitz\, our 15 year president\, as moves into retirement.<br />\n<br />\n<span style="color: rgb(0\, 0\, 0)\; font-family: Arial\, Helvetica\, sans-serif\; font-size: 16px\;">If you have already sent an RSVP for Mike&#39\;s Retirement Party by contacting the Chamber staff\, you do not need to register again for either event. We hope to see you all on December 8!</span>
LOCATION:Chamber Office 803 Washington Street La Porte
UID:e.1949.2681
SEQUENCE:3
DTSTAMP:20260425T191035Z
URL:https://members.laportepartnership.com/events/details/2016-membership-appreciation-mike-s-retirement-party-2681
END:VEVENT

END:VCALENDAR
