BEGIN:VCALENDAR
VERSION:2.0
PRODID:-//ChamberMaster//Event Calendar 2.0//EN
METHOD:PUBLISH
X-PUBLISHED-TTL:P3D
REFRESH-INTERVAL:P3D
CALSCALE:GREGORIAN
BEGIN:VEVENT
DTSTART:20160804T160000Z
DTEND:20160804T180000Z
X-MICROSOFT-CDO-ALLDAYEVENT:FALSE
SUMMARY:2016 New Teachers Welcome Luncheon
DESCRIPTION:Please join us in welcoming and celebrating New Teachers and Administrators from La Porte\, New Prairie\, South Central\, Tri-Township and New Durham public schools as well as La Lumiere\, Brown Mackie College\, Ivy Tech Community College and Purdue Northwest at the New Teachers luncheon.\n\n\n\nAll Chamber members and their employees are invited to attend\, which includes a buffet lunch.  Please complete and return the registration form.  \n\n\n\nMembers can sponsor an educator for as little as $25.00 per person.\n\n\n\nPlease let us know if you have any exceptions or special needs by 7/20/17. By attending this event\, you are accepting to be photographed and have those materials utilized in future Chamber marketing materials. If you would prefer to not be photographed\, please let a Chamber staff member know by calling 219.362.3178\, emailing info@lpchamber.com or informing a staff member at the event.
X-ALT-DESC;FMTTYPE=text/html:Please join us in welcoming and celebrating New Teachers and Administrators from La Porte\, New Prairie\, South Central\, Tri-Township and New Durham public schools as well as La Lumiere\, Brown Mackie College\, Ivy Tech Community College and Purdue Northwest&nbsp\;at the New Teachers luncheon.<br />\n<br />\nAll Chamber members and their employees are invited to attend\, which includes a buffet lunch. &nbsp\;Please complete and return the registration form. &nbsp\;<br />\n<br />\nMembers can sponsor&nbsp\;an educator for as little as&nbsp\;$25.00 per person.<br />\n<br />\n<span style="font-family: calibri\, sans-serif\; font-size: 14.6667px\;">Please let us know if you have any exceptions or special needs by 7/20/17. By attending this event\, you are accepting to be photographed and have those materials utilized in future Chamber marketing materials. If you would prefer to not be photographed\, please let a Chamber staff member know by calling 219.362.3178\, emailing info@lpchamber.com or informing a staff member at the event.</span>
LOCATION:Silver Palace 1719 State Street La Porte\, IN 46350
UID:e.1949.2580
SEQUENCE:3
DTSTAMP:20260426T021554Z
URL:https://members.laportepartnership.com/events/details/2016-new-teachers-welcome-luncheon-08-04-2016-2580
END:VEVENT

END:VCALENDAR
