BEGIN:VCALENDAR
VERSION:2.0
PRODID:-//ChamberMaster//Event Calendar 2.0//EN
METHOD:PUBLISH
X-PUBLISHED-TTL:P3D
REFRESH-INTERVAL:P3D
CALSCALE:GREGORIAN
BEGIN:VEVENT
DTSTART:20170304T150000Z
DTEND:20170305T220000Z
X-MICROSOFT-CDO-ALLDAYEVENT:FALSE
SUMMARY:2017 Builders Association of La Porte County Home & Lifestyle Expo
DESCRIPTION:Builders Association of La Porte County Home & Lifestyle Expo- Free Admmission\, Bring the whole family!\n\n\n\nBlue Chip Casino Hotel\, 777 Blue Chip Drive\, Michigan City\, Indiana\n\n\n\nSaturday\, March 4\, 2017 9 AM-5 PM\n\nSunday\, March 5\, 2017   9 AM-4 PM\n\n\n\nTalk with professionals in home building\, home maintenance\, gardening\, and more!\n\nYou will find ideas and answers at the show regarding any project you might be considering in your home or garden.\n\nExperts will help you find solutions to all your maintenance challenges. From kitchens and baths to floors and doors\, heating and cooling\, sunrooms\, patio and yards\, furnishings\, crafts and more\, you will find the products and advice you need.\n\n\n\nContact B.A.L.C. 219-326-0624 for more information or visit bac.org\n\n\n\nFREE SEMINARS\n\nSaturday 3/4/2017\n\nPresented by :\n\nMASTER GARDENERS\n\n11 AM -"Master Gardener Hotline :\n\n How\, Where\, What\, Why for your \n\nGarden Questions"\n\n2:00 PM - "Trees - Things You May Not Know"  \n\n \n\nSunday 3/5/2017\n\nPresented by :\n\nHORIZON BANK\n\n11 AM - Construct your loan 101\n\nPresented by :\n\nMASTER GARDENERS\n\n1:00 PM. - "Why Landscape with \n\nNative Plants?" \n\n2:30 PM. - "Starting a Lavender Farm"\n\n \n\nFor more information about these FREE seminars  see:\n\nwww.balc.org
X-ALT-DESC;FMTTYPE=text/html:Builders Association of La Porte County Home &amp\; Lifestyle Expo- Free Admmission\, Bring the whole family!<br />\n<br />\nBlue Chip Casino Hotel\, 777 Blue Chip Drive\, Michigan City\, Indiana<br />\n<br />\nSaturday\, March 4\, 2017 9 AM-5 PM<br />\nSunday\, March 5\, 2017 &nbsp\; 9 AM-4 PM<br />\n<br />\nTalk with professionals in home building\, home maintenance\, gardening\, and more!<br />\nYou will find ideas and answers at the show regarding any project you might be considering in your home or garden.<br />\nExperts will help you find solutions to all your maintenance challenges. From kitchens and baths to floors and doors\, heating and cooling\, sunrooms\, patio and yards\, furnishings\, crafts and more\, you will find the products and advice you need.<br />\n<br />\nContact B.A.L.C. 219-326-0624 for more information or visit bac.org<br />\n<br />\n<span style="font-weight:bold\;language:en-US\;">FREE SEMINARS</span><br />\n<span style="text-decoration:underline\;text-underline:single\;language:en-US\;"><span style="font-family:arial\;">Saturday 3/4/2017</span></span><br />\n<span style="font-weight:bold\;language:en-US\;"><span style="font-size:9.0pt\;">Presented by :</span></span><br />\n<span style="font-weight:bold\;language:en-US\;"><span style="font-size:9.0pt\;">MASTER GARDENERS</span></span><br />\n<span style="font-family:arial\;"><span style="font-size:8pt\;">11 AM -&quot\;Master Gardener Hotline :</span></span><br />\n<span style="font-family:arial\;"><span style="font-size:8pt\;">&nbsp\;How\, Where\, What\, Why for your </span></span><br />\n<span style="font-family:arial\;"><span style="font-size:8pt\;">Garden Questions&rdquo\;</span></span><br />\n<span style="language:en-US\;"><span style="font-family:arial\;"><span style="font-size:8.0pt\;">2:00 PM - &quot\;Trees - Things You May Not Know&quot\; &nbsp\;</span></span></span><br />\n&nbsp\;<br />\n<span style="text-decoration:underline\;text-underline:single\;language:en-US\;"><span style="font-family:arial\;">Sunday&nbsp\;3/5/2017</span></span><br />\n<span style="font-weight:bold\;language:en-US\;"><span style="font-size:9.0pt\;">Presented by :</span></span><br />\n<span style="font-weight:bold\;language:en-US\;"><span style="font-size:9.0pt\;">HORIZON BANK</span></span><br />\n<span style="language:en-US\;"><span style="font-family:arial\;"><span style="font-size:8.0pt\;">11 AM - </span></span></span><span style="language:en-US\;"><span style="font-size:8.0pt\;">Construct your loan 101</span></span><br />\n<span style="font-weight:bold\;language:en-US\;"><span style="font-size:9.0pt\;">Presented by :</span></span><br />\n<span style="font-weight:bold\;language:en-US\;"><span style="font-size:9.0pt\;">MASTER GARDENERS</span></span><br />\n<span style="font-family:arial\;"><span style="font-size:8pt\;">1:00 PM. - &ldquo\;Why Landscape with </span></span><br />\n<span style="font-family:arial\;"><span style="font-size:8pt\;">Native Plants?&rdquo\;&nbsp\;</span></span><br />\n<span style="font-family:arial\;"><span style="font-size:8pt\;">2:30 PM. -&nbsp\;&ldquo\;Starting a Lavender Farm&rdquo\;</span></span><br />\n&nbsp\;<br />\nFor more information about these FREE seminars&nbsp\; see:<br />\n<span style="font-weight:bold\;language:en-US\;">www.balc.org </span><br />\n&nbsp\;<br />\n&nbsp\;
LOCATION:Blue Chip Casino 777 Blue Chip Drive Michigan City
UID:e.1949.2732
SEQUENCE:3
DTSTAMP:20260425T133856Z
URL:https://members.laportepartnership.com/events/details/2017-builders-association-of-la-porte-county-home-lifestyle-expo-2732
END:VEVENT

END:VCALENDAR
