BEGIN:VCALENDAR
VERSION:2.0
PRODID:-//ChamberMaster//Event Calendar 2.0//EN
METHOD:PUBLISH
X-PUBLISHED-TTL:P3D
REFRESH-INTERVAL:P3D
CALSCALE:GREGORIAN
BEGIN:VEVENT
DTSTART:20170303T170000Z
DTEND:20170303T190000Z
X-MICROSOFT-CDO-ALLDAYEVENT:FALSE
SUMMARY:2017 Chamber Annual Meeting\, sponsored by La Porte County Convention & Visitors Bureau
DESCRIPTION:The Greater La Porte Chamber of Commerce will host its Annual Meeting at the Best Western Plus\, located at 444 Pine Lake Avenue La Porte\, on March 3.\n\n\n\nRegistration will begin at 11:00 a.m. with lunch starting at 11:30 a.m. This year's event will take a look at the year of 2016 for the Chamber and its significant events and accomplishments.  There will also be awards given to the Chamber's Ambassador of the Year and Business Person of the Year.\n\n\n\nThe event will feature a speech by Craig Dwight (pictured below)\, who in 1998\, became President of Horizon Bank and in 2003 became Chairman & Chief Executive Officer.  Under his leadership Horizon increased its total assets from $360 million to over $3.0 billion. He has served and chaired the regional hospital board\, United Way of La Porte County and the local economic development corporation.  In addition he has chaired several fund raising campaigns including the United Way\, Salvation Army\, Boys and Girls Club\, The Martin Luther King Center\, Michigan City Area Schools and the YMCA. In 2016 he became a board member of the Indiana Chamber of Commerce.\n\n\n\nRegistration is encouraged and can be done by clicking the link above. The cost is $33.00 for Chamber members and $38.00 for non-members.\n\n\n\nThis event is sponsored by the La Porte County Convention & Visitors Bureau\, Walsh & Kelly\, Inc.\, First Trust Credit Union\, and R2 Strategies\, LLC.
X-ALT-DESC;FMTTYPE=text/html:<div class="mn-module-content" id="mn-events" style="border: none\; font-variant: inherit\; font-stretch: inherit\; line-height: inherit\; font-family: inherit\; font-size: inherit\; font-style: inherit\; font-weight: inherit\; margin: 0px 0px 30px\; outline: 0px\; padding: 0px\; vertical-align: baseline\; bottom: auto\; box-sizing: content-box\; clear: none\; color: inherit\; content: normal\; direction: inherit\; empty-cells: show\; left: auto\; letter-spacing: inherit\; max-height: none\; max-width: none\; min-height: initial\; min-width: initial\; opacity: 1\; outline-offset: 0px\; overflow: visible\; position: static\; resize: none\; right: auto\; table-layout: auto\; text-align: inherit\; text-indent: inherit\; text-overflow: clip\; text-transform: inherit\; top: auto\; visibility: inherit\; white-space: inherit\; word-break: inherit\; word-spacing: inherit\; word-wrap: inherit\; z-index: auto\; background: none\; border-collapse: separate\; border-radius: 0px\; height: auto\; width: 1000px\; box-shadow: none\;">\n<div id="mn-events-details" itemscope="itemscope" itemtype="http://schema.org/Event" style="border: none\; font-variant: inherit\; font-stretch: inherit\; line-height: inherit\; font-family: inherit\; font-size: inherit\; font-style: inherit\; font-weight: inherit\; margin: 0px\; outline: 0px\; padding: 0px\; vertical-align: baseline\; bottom: auto\; box-sizing: content-box\; clear: none\; color: inherit\; content: normal\; direction: inherit\; empty-cells: show\; left: auto\; letter-spacing: inherit\; max-height: none\; max-width: none\; min-height: initial\; min-width: initial\; opacity: 1\; outline-offset: 0px\; overflow: visible\; position: static\; resize: none\; right: auto\; table-layout: auto\; text-align: inherit\; text-indent: inherit\; text-overflow: clip\; text-transform: inherit\; top: auto\; visibility: inherit\; white-space: inherit\; word-break: inherit\; word-spacing: inherit\; word-wrap: inherit\; z-index: auto\; background: none\; border-collapse: separate\; border-radius: 0px\; height: auto\; width: auto\; box-shadow: none\;">\n<div class="mn-section mn-event-detail-listing" style="border: none\; font-variant: inherit\; font-stretch: inherit\; line-height: inherit\; font-family: inherit\; font-size: inherit\; font-style: inherit\; font-weight: inherit\; margin: 0px\; outline: 0px\; padding: 0px\; vertical-align: baseline\; bottom: auto\; box-sizing: content-box\; clear: both\; color: inherit\; content: normal\; direction: inherit\; empty-cells: show\; left: auto\; letter-spacing: inherit\; max-height: none\; max-width: none\; min-height: initial\; min-width: initial\; opacity: 1\; outline-offset: 0px\; overflow: visible\; position: relative\; resize: none\; right: auto\; table-layout: auto\; text-align: inherit\; text-indent: inherit\; text-overflow: clip\; text-transform: inherit\; top: auto\; visibility: inherit\; white-space: inherit\; word-break: inherit\; word-spacing: inherit\; word-wrap: inherit\; z-index: auto\; background: none\; border-collapse: separate\; border-radius: 0px\; height: auto\; width: auto\; box-shadow: none\;">\n<div class="mn-event-info mn-listing-infobasic" style="border: none\; font-variant: inherit\; font-stretch: inherit\; line-height: inherit\; font-family: inherit\; font-size: inherit\; font-style: inherit\; font-weight: inherit\; margin: 0px\; outline: 0px\; padding: 0px\; vertical-align: baseline\; bottom: auto\; box-sizing: content-box\; clear: left\; color: inherit\; content: normal\; direction: inherit\; empty-cells: show\; left: auto\; letter-spacing: inherit\; max-height: none\; max-width: none\; min-height: initial\; min-width: 280px\; opacity: 1\; outline-offset: 0px\; overflow: visible\; position: static\; resize: none\; right: auto\; table-layout: auto\; text-align: inherit\; text-indent: inherit\; text-overflow: clip\; text-transform: inherit\; top: auto\; visibility: inherit\; white-space: inherit\; word-break: inherit\; word-spacing: inherit\; word-wrap: inherit\; z-index: auto\; background: none\; border-collapse: separate\; border-radius: 0px\; height: auto\; width: 600px\; box-shadow: none\;">\n<div class="mn-event-section mn-event-desc" style="border: none\; font-variant: inherit\; font-stretch: inherit\; line-height: inherit\; font-family: inherit\; font-size: inherit\; font-style: inherit\; font-weight: inherit\; margin: 16px 0px\; outline: 0px\; padding: 0px\; vertical-align: baseline\; bottom: auto\; box-sizing: content-box\; clear: both\; color: inherit\; content: normal\; direction: inherit\; empty-cells: show\; left: auto\; letter-spacing: inherit\; max-height: none\; max-width: none\; min-height: initial\; min-width: initial\; opacity: 1\; outline-offset: 0px\; overflow: visible\; position: static\; resize: none\; right: auto\; table-layout: auto\; text-align: inherit\; text-indent: inherit\; text-overflow: clip\; text-transform: inherit\; top: auto\; visibility: inherit\; white-space: inherit\; word-break: inherit\; word-spacing: inherit\; word-wrap: inherit\; z-index: auto\; background: none\; border-collapse: separate\; border-radius: 0px\; height: auto\; width: auto\; box-shadow: none\;">\n<div class="mn-event-content" style="border: none\; font-variant: inherit\; font-stretch: inherit\; line-height: inherit\; font-family: inherit\; font-size: inherit\; font-style: inherit\; font-weight: inherit\; margin: 0px\; outline: 0px\; padding: 0px\; vertical-align: baseline\; bottom: auto\; box-sizing: content-box\; clear: none\; color: inherit\; content: normal\; direction: inherit\; empty-cells: show\; left: auto\; letter-spacing: inherit\; max-height: none\; max-width: none\; min-height: initial\; min-width: initial\; opacity: 1\; outline-offset: 0px\; overflow: visible\; position: static\; resize: none\; right: auto\; table-layout: auto\; text-align: inherit\; text-indent: inherit\; text-overflow: clip\; text-transform: inherit\; top: auto\; visibility: inherit\; white-space: inherit\; word-break: inherit\; word-spacing: inherit\; word-wrap: inherit\; z-index: auto\; background: none\; border-collapse: separate\; border-radius: 0px\; height: auto\; width: auto\; box-shadow: none\;">\n<div class="mn-raw mn-print-url" itemprop="description" style="border: none\; font-variant: inherit\; font-stretch: inherit\; line-height: 1.3\; font-family: inherit\; font-size: inherit\; font-style: inherit\; font-weight: inherit\; margin: 0px\; outline: 0px\; padding: 0px\; vertical-align: baseline\; bottom: auto\; box-sizing: content-box\; clear: none\; color: inherit\; content: normal\; direction: inherit\; empty-cells: show\; left: auto\; letter-spacing: inherit\; max-height: none\; max-width: none\; min-height: initial\; min-width: initial\; opacity: 1\; outline-offset: 0px\; overflow: visible\; position: static\; resize: none\; right: auto\; table-layout: auto\; text-align: inherit\; text-indent: inherit\; text-overflow: clip\; text-transform: inherit\; top: auto\; visibility: inherit\; white-space: inherit\; word-break: inherit\; word-spacing: inherit\; word-wrap: inherit\; z-index: auto\; background: none\; border-collapse: separate\; border-radius: 0px\; height: auto\; width: auto\; box-shadow: none\;"><span style="font-size:16px\;"><span style="font-family:tahoma\;"><span style="border: none\; font-variant-numeric: inherit\; font-stretch: inherit\; line-height: inherit\; font-weight: inherit\; margin: 0px\; outline: 0px\; padding: 0px\; vertical-align: baseline\; bottom: auto\; box-sizing: content-box\; clear: none\; color: rgb(0\, 0\, 0)\; content: normal\; direction: inherit\; empty-cells: show\; left: auto\; max-height: none\; max-width: none\; min-height: initial\; min-width: initial\; opacity: 1\; outline-offset: 0px\; overflow: visible\; position: static\; resize: none\; right: auto\; table-layout: auto\; text-overflow: clip\; top: auto\; visibility: inherit\; word-break: inherit\; word-wrap: inherit\; z-index: auto\; background-image: none\; background-position: initial\; background-size: initial\; background-repeat: initial\; background-attachment: initial\; background-origin: initial\; background-clip: initial\; border-collapse: separate\; border-radius: 0px\; height: auto\; width: auto\; box-shadow: none\;">The Greater La Porte Chamber of Commerce will host its Annual Meeting at the Best Western Plus\, located at 444 Pine Lake Avenue La Porte\, on March 3.<br style="bottom: auto\; box-sizing: content-box\; clear: none\; color: inherit\; content: normal\; direction: inherit\; display: inline\; empty-cells: show\; float: none\; font-style: inherit\; font-variant: inherit\; font-weight: inherit\; font-stretch: inherit\; font-size: inherit\; font-family: inherit\; left: auto\; letter-spacing: inherit\; line-height: inherit\; margin: 0px\; max-height: none\; max-width: none\; min-height: initial\; min-width: initial\; opacity: 1\; outline-offset: 0px\; overflow: visible\; padding: 0px\; position: static\; resize: none\; right: auto\; table-layout: auto\; text-align: inherit\; text-indent: inherit\; text-overflow: clip\; text-transform: inherit\; top: auto\; vertical-align: baseline\; visibility: inherit\; white-space: inherit\; word-break: inherit\; word-spacing: inherit\; word-wrap: inherit\; z-index: auto\; background: none\; border: none\; border-collapse: separate\; border-radius: 0px\; height: auto\; width: auto\;" />\n<br style="bottom: auto\; box-sizing: content-box\; clear: none\; color: inherit\; content: normal\; direction: inherit\; display: inline\; empty-cells: show\; float: none\; font-style: inherit\; font-variant: inherit\; font-weight: inherit\; font-stretch: inherit\; font-size: inherit\; font-family: inherit\; left: auto\; letter-spacing: inherit\; line-height: inherit\; margin: 0px\; max-height: none\; max-width: none\; min-height: initial\; min-width: initial\; opacity: 1\; outline-offset: 0px\; overflow: visible\; padding: 0px\; position: static\; resize: none\; right: auto\; table-layout: auto\; text-align: inherit\; text-indent: inherit\; text-overflow: clip\; text-transform: inherit\; top: auto\; vertical-align: baseline\; visibility: inherit\; white-space: inherit\; word-break: inherit\; word-spacing: inherit\; word-wrap: inherit\; z-index: auto\; background: none\; border: none\; border-collapse: separate\; border-radius: 0px\; height: auto\; width: auto\;" />\nRegistration will begin at 11:00 a.m. with lunch starting at 11:30 a.m. This year&#39\;s event will take a look at the year of 2016&nbsp\;for the Chamber and its significant events and accomplishments.&nbsp\; There will also be awards given to the Chamber&#39\;s Ambassador of the Year and Business Person of the Year.<br style="bottom: auto\; box-sizing: content-box\; clear: none\; color: inherit\; content: normal\; direction: inherit\; display: inline\; empty-cells: show\; float: none\; font-style: inherit\; font-variant: inherit\; font-weight: inherit\; font-stretch: inherit\; font-size: inherit\; font-family: inherit\; left: auto\; letter-spacing: inherit\; line-height: inherit\; margin: 0px\; max-height: none\; max-width: none\; min-height: initial\; min-width: initial\; opacity: 1\; outline-offset: 0px\; overflow: visible\; padding: 0px\; position: static\; resize: none\; right: auto\; table-layout: auto\; text-align: inherit\; text-indent: inherit\; text-overflow: clip\; text-transform: inherit\; top: auto\; vertical-align: baseline\; visibility: inherit\; white-space: inherit\; word-break: inherit\; word-spacing: inherit\; word-wrap: inherit\; z-index: auto\; background: none\; border: none\; border-collapse: separate\; border-radius: 0px\; height: auto\; width: auto\;" />\n<br />\nThe event will feature a speech by Craig Dwight (pictured below)\, who i</span>n 1998\, became President of Horizon Bank and in 2003 became Chairman &amp\; Chief Executive Officer.&nbsp\; Under his leadership Horizon increased its total assets from $360 million to over $3.0 billion.&nbsp\;He has served and chaired the regional hospital board\, United Way of La Porte County and the local economic development corporation.&nbsp\; In addition he has chaired several fund raising campaigns including the United Way\, Salvation Army\, Boys and Girls Club\, The Martin Luther King Center\, Michigan City Area Schools and the YMCA.&nbsp\;In 2016 he became a board member of the Indiana Chamber of Commerce.<br />\n<br style="bottom: auto\; box-sizing: content-box\; clear: none\; color: inherit\; content: normal\; direction: inherit\; display: inline\; empty-cells: show\; float: none\; font-style: inherit\; font-variant: inherit\; font-weight: inherit\; font-stretch: inherit\; font-size: inherit\; font-family: inherit\; left: auto\; letter-spacing: inherit\; line-height: inherit\; margin: 0px\; max-height: none\; max-width: none\; min-height: initial\; min-width: initial\; opacity: 1\; outline-offset: 0px\; overflow: visible\; padding: 0px\; position: static\; resize: none\; right: auto\; table-layout: auto\; text-align: inherit\; text-indent: inherit\; text-overflow: clip\; text-transform: inherit\; top: auto\; vertical-align: baseline\; visibility: inherit\; white-space: inherit\; word-break: inherit\; word-spacing: inherit\; word-wrap: inherit\; z-index: auto\; background: none\; border: none\; border-collapse: separate\; border-radius: 0px\; height: auto\; width: auto\;" />\n<span style="border: none\; font-variant-numeric: inherit\; font-stretch: inherit\; line-height: inherit\; font-weight: inherit\; margin: 0px\; outline: 0px\; padding: 0px\; vertical-align: baseline\; bottom: auto\; box-sizing: content-box\; clear: none\; color: rgb(0\, 0\, 0)\; content: normal\; direction: inherit\; empty-cells: show\; left: auto\; max-height: none\; max-width: none\; min-height: initial\; min-width: initial\; opacity: 1\; outline-offset: 0px\; overflow: visible\; position: static\; resize: none\; right: auto\; table-layout: auto\; text-overflow: clip\; top: auto\; visibility: inherit\; word-break: inherit\; word-wrap: inherit\; z-index: auto\; background-image: none\; background-position: initial\; background-size: initial\; background-repeat: initial\; background-attachment: initial\; background-origin: initial\; background-clip: initial\; border-collapse: separate\; border-radius: 0px\; height: auto\; width: auto\; box-shadow: none\;">Registration is encouraged and can be done by clicking the link above. The cost is $33.00 for Chamber members and $38.00 for non-members.<br />\n<br />\nThis event is sponsored by the La Porte County Convention &amp\; Visitors Bureau\, Walsh &amp\; Kelly\, Inc.\,&nbsp\;First Trust Credit Union\, and R2 Strategies\, LLC.</span></span></span></div>\n</div>\n</div>\n</div>\n</div>\n</div>\n</div>\n
LOCATION:Best Western Plus 444 Pine Lake Avenue\, La Porte
UID:e.1949.2713
SEQUENCE:3
DTSTAMP:20260425T115030Z
URL:https://members.laportepartnership.com/events/details/2017-chamber-annual-meeting-sponsored-by-la-porte-county-convention-visitors-bureau-2713
END:VEVENT

END:VCALENDAR
