BEGIN:VCALENDAR
VERSION:2.0
PRODID:-//ChamberMaster//Event Calendar 2.0//EN
METHOD:PUBLISH
X-PUBLISHED-TTL:P3D
REFRESH-INTERVAL:P3D
CALSCALE:GREGORIAN
BEGIN:VEVENT
DTSTART:20170419T230000Z
DTEND:20170420T010000Z
X-MICROSOFT-CDO-ALLDAYEVENT:FALSE
SUMMARY:2017 JA Achieve-A-Bowl
DESCRIPTION:Join us for this year's Achieve-A-Bowl by gathering a team of\n\n5 people to help raise $70 each ($350 team total) to support\n\nJA programs. Teams who raise $350 or more will receive a pizza\n\nand beverage pitcher at their lane and will be eligible for door\n\nprizes and drawings.\n\nFor more information about Achieve-A-Bowl or Junior Achievement please contact\n\nLisa Scheller | (219) 508-4676 | lisa.scheller@ja.org | jani.org
X-ALT-DESC;FMTTYPE=text/html:Join us for this year&rsquo\;s Achieve-A-Bowl by gathering a team of<br />\n5 people to help raise $70 each ($350 team total) to support<br />\nJA programs. Teams who raise $350 or more will receive a pizza<br />\nand beverage pitcher at their lane and will be eligible for door<br />\nprizes and drawings.<br />\nFor more information about Achieve-A-Bowl or Junior Achievement please contact<br />\nLisa Scheller | (219) 508-4676 | lisa.scheller@ja.org | jani.org
LOCATION:Thunderbird Lanes 1251 Pine Lake Avenue\, La Porte
UID:e.1949.2759
SEQUENCE:3
DTSTAMP:20260425T114523Z
URL:https://members.laportepartnership.com/events/details/2017-ja-achieve-a-bowl-2759
END:VEVENT

END:VCALENDAR
