BEGIN:VCALENDAR
VERSION:2.0
PRODID:-//ChamberMaster//Event Calendar 2.0//EN
METHOD:PUBLISH
X-PUBLISHED-TTL:P3D
REFRESH-INTERVAL:P3D
CALSCALE:GREGORIAN
BEGIN:VEVENT
DTSTART:20170324T160000Z
DTEND:20170324T180000Z
X-MICROSOFT-CDO-ALLDAYEVENT:FALSE
SUMMARY:2017 State of the City\, Sponsored by 1st Source Bank
DESCRIPTION:The Greater La Porte Chamber of Commerce will host the State of the City at Best Western Plus\, located at 444 Pine Lake Avenue in La Porte\, on March 24. The presenting sponsor of this event is 1st Source Bank. Other sponsors include: Holladay Properties\, Purdue Federal Credit Union\, Walsh & Kelly\, Harbour Trust & Investment Management Company\, and Surf Air Wireless.\n\n\n\nThe event will feature a speech by Mayor Blair Milo. Registration will begin at 11:00 a.m. with lunch starting at 11:30 a.m. This year's event will highlight some of the most significant accomplishments of the last year and outline upcoming goals in the areas of public safety\, parks and community services\, community development\, traffic and transportation\, and other quality of life issues.\n\n\n\nRegistration is encouraged and can be done at www.lpchamber.com or by calling 219.362.3178. The cost is $33 for Chamber members and $38 for non-Chamber members. \n\n\n\nTo register for this event click the link above or call 219.362.3178.
X-ALT-DESC;FMTTYPE=text/html:<span style="font-family:georgia\,serif\;"><span style="font-size:12.0pt\;">The Greater La Porte Chamber of Commerce will host the State of the City at Best Western Plus\, located at 444 Pine Lake Avenue in La Porte\, on March 24. The presenting sponsor of this event is 1<sup>st</sup> Source Bank. Other sponsors include: Holladay Properties\, Purdue Federal Credit Union\, Walsh &amp\; Kelly\, Harbour Trust &amp\; Investment Management Company\, and Surf Air Wireless.</span></span><br />\n<br />\n<span style="font-family:georgia\,serif\;"><span style="font-size:12.0pt\;">The event will feature a speech by Mayor Blair Milo. Registration will begin at 11:00 a.m. with lunch starting at 11:30 a.m. This year&#39\;s event will highlight some of the most significant accomplishments of the last year and outline upcoming goals in the areas of public safety\, parks and community services\, community development\, traffic and transportation\, and other quality of life issues.</span></span><br />\n<br />\n<span style="font-family:georgia\,serif\;"><span style="font-size:12.0pt\;">Registration is encouraged and can be done at www.lpchamber.com or by calling 219.362.3178. The cost is $33 for Chamber members and $38 for non-Chamber members.&nbsp\;</span></span><br />\n<br />\n<span style="font-family:georgia\,serif\;"><span style="font-size:12.0pt\;">To register for this event click the link above or call 219.362.3178.</span></span>
LOCATION:Best Western Plus 444 Pine Lake Avenue La Porte
UID:e.1949.2693
SEQUENCE:3
DTSTAMP:20260425T114818Z
URL:https://members.laportepartnership.com/events/details/2017-state-of-the-city-sponsored-by-1st-source-bank-2693
END:VEVENT

END:VCALENDAR
