BEGIN:VCALENDAR
VERSION:2.0
PRODID:-//ChamberMaster//Event Calendar 2.0//EN
METHOD:PUBLISH
X-PUBLISHED-TTL:P3D
REFRESH-INTERVAL:P3D
CALSCALE:GREGORIAN
BEGIN:VEVENT
DTSTART:20170428T160000Z
DTEND:20170428T180000Z
X-MICROSOFT-CDO-ALLDAYEVENT:FALSE
SUMMARY:2017 State of the County
DESCRIPTION:The Greater La Porte Chamber of Commerce and Michigan City Area Chamber of Commerce will host the State of the County at Heston Hills Event Center\, located at 1933 E. 800 N.\, La Porte\, IN 46350.\n\n\n\nThe event will feature a speech by County Commissioner President Rich Mrozinski. Registration will begin at 11:00 a.m. with lunch starting at 11:30 a.m. This 2nd annual event will highlight the accomplishments of La Porte County in the past year and will showcase the goals of the upcoming year.\n\n\n\nRegistration is encouraged and can be done by clicking the "Register Now" button above. The cost is $30 for Chamber members and $35 for non-Chamber members
X-ALT-DESC;FMTTYPE=text/html:The <strong>Greater La Porte Chamber of Commerce</strong> and <strong>Michigan City Area Chamber of Commerce</strong> will host the <strong>State of the County</strong> at Heston Hills Event Center\, located at 1933 E. 800 N.\, La Porte\, IN 46350.<br />\n<br />\nThe event will feature a speech by <strong>County Commissioner President Rich Mrozinski</strong>. Registration will begin at 11:00 a.m. with lunch starting at 11:30 a.m. This 2<sup>nd</sup> annual event will highlight the accomplishments of La Porte County in the past year and will showcase the goals of the upcoming year.<br />\n<br />\n<span style="font-family:calibri\,sans-serif\;"><span style="font-size:11.0pt\;">Registration is encouraged and can be done by clicking the &quot\;Register Now&quot\; button above. The cost is $30 for Chamber members and $35 for non-Chamber members</span></span>
LOCATION:Heston Hill Event Center 1933 E. 800 N. La Porte
UID:e.1949.2692
SEQUENCE:3
DTSTAMP:20260425T114613Z
URL:https://members.laportepartnership.com/events/details/2017-state-of-the-county-2692
END:VEVENT

END:VCALENDAR
