BEGIN:VCALENDAR
VERSION:2.0
PRODID:-//ChamberMaster//Event Calendar 2.0//EN
METHOD:PUBLISH
X-PUBLISHED-TTL:P3D
REFRESH-INTERVAL:P3D
CALSCALE:GREGORIAN
BEGIN:VEVENT
DTSTART:20170314T150000Z
DTEND:20170314T190000Z
X-MICROSOFT-CDO-ALLDAYEVENT:FALSE
SUMMARY:2017 Statewide Chamber Day at the Statehouse
DESCRIPTION:On March 14th\, chamber colleagues and small business owners will get a chance to see the Indiana General Assembly in action.  Whether this is your first trip to the statehouse or you are a seasoned-veteran in leading your chamber's approach to advocacy\, this day is sure to enlighten your team on the Indiana governmental process and why chamber's are vital to Indiana's future. By participating\, you can\; tour the Statehouse\, hear powerful presentations from key leaders\, get a personal look at the legislative process\, and have lunch with other chamber professionals and advocacy teams from throughout Indiana.
X-ALT-DESC;FMTTYPE=text/html:On March 14th\, chamber colleagues and small business owners will get a chance to see the Indiana General Assembly in action.&nbsp\; Whether this&nbsp\;is&nbsp\;your first trip to the statehouse or you are a seasoned-veteran in leading your chamber&#39\;s approach to advocacy\,&nbsp\;this day is sure to enlighten your team on the Indiana governmental process and why chamber&#39\;s are vital to Indiana&#39\;s future. By participating\, you can\; tour the Statehouse\, hear powerful presentations from key leaders\, get a personal look at the legislative process\, and have lunch with other chamber professionals and advocacy teams from throughout Indiana.
LOCATION:Hyatt - Downtown Indy and the Indiana State House 1 S Capitol Avenue Indianapolis\, IN
UID:e.1949.2694
SEQUENCE:3
DTSTAMP:20260425T114736Z
URL:https://members.laportepartnership.com/events/details/2017-statewide-chamber-day-at-the-statehouse-2694
END:VEVENT

END:VCALENDAR
