BEGIN:VCALENDAR
VERSION:2.0
PRODID:-//ChamberMaster//Event Calendar 2.0//EN
METHOD:PUBLISH
X-PUBLISHED-TTL:P3D
REFRESH-INTERVAL:P3D
CALSCALE:GREGORIAN
BEGIN:VEVENT
DTSTART:20170317T123000Z
DTEND:20170317T140000Z
X-MICROSOFT-CDO-ALLDAYEVENT:FALSE
SUMMARY:2017 Third House Session I- March
DESCRIPTION:The Greater La Porte\, Michigan City Area\, and Westville Area Chambers of Commerce have joined together to present an Indiana Third House Session slated for March 17th from 7:30 a.m. to 9:00 a.m. The event will take place at the La Porte County Public Library Main Branch in Meeting Room B\, located at 904 Indiana Avenue in La Porte. There is no cost to attend.\n\n\n\nIf you have questions you would like to ask at this event\, please email them to info@lpchamber.com.\n\n\n\nJoin our local state legislators as they discuss important topics that affect our community and region. RSVP to the Greater La Porte Chamber of Commerce by calling 219.362.3178 or emailing info@lpchamber.com. Registration may also be done online at www.lpchamber.com. Interested attendees may also contact the Michigan City Area Chamber of Commerce at 219.874.6221 or Westville Area Chamber of Commerce at 219.379.7918.
X-ALT-DESC;FMTTYPE=text/html:<span style="font-family:georgia\,serif\;"><span style="font-size:12.0pt\;">The Greater La Porte\, Michigan City Area\, and Westville Area Chambers of Commerce have joined together to present an Indiana Third House Session slated for March 17th from 7:30 a.m. to 9:00 a.m. The event will take place at the La Porte County Public Library Main Branch in Meeting Room B\, located at 904 Indiana Avenue in La Porte. There is no cost to attend.<br />\n<br />\nIf you have questions you would like to ask at this event\, please email them to info@lpchamber.com.</span></span><br />\n<br />\n<span style="font-family:georgia\,serif\;"><span style="font-size:12.0pt\;">Join our local state legislators as they discuss important topics that affect our community and region. RSVP to the Greater La Porte Chamber of Commerce by calling 219.362.3178 or emailing info@lpchamber.com. Registration may also be done online at www.lpchamber.com. Interested attendees may also contact the Michigan City Area Chamber of Commerce at 219.874.6221 or Westville Area Chamber of Commerce at 219.379.7918.</span></span>
LOCATION:La Porte County Public Library- Main Branch Meeting Room B 904 Indiana Avenue\, La Porte
UID:e.1949.2695
SEQUENCE:3
DTSTAMP:20260425T114310Z
URL:https://members.laportepartnership.com/events/details/2017-third-house-session-i-march-2695
END:VEVENT

END:VCALENDAR
