BEGIN:VCALENDAR
VERSION:2.0
PRODID:-//ChamberMaster//Event Calendar 2.0//EN
METHOD:PUBLISH
X-PUBLISHED-TTL:P3D
REFRESH-INTERVAL:P3D
CALSCALE:GREGORIAN
BEGIN:VEVENT
DTSTART:20180202T170000Z
DTEND:20180202T190000Z
X-MICROSOFT-CDO-ALLDAYEVENT:FALSE
SUMMARY:2018 Annual Meeting featuring Lt. Gov. Suzanne Crouch
DESCRIPTION:The Greater La Porte Chamber of Commerce will host its Annual Meeting at the Best Western Plus\, located at 444 Pine Lake Avenue La Porte\, on February 2.\n\n\n\nRegistration will begin at 11:00 a.m. with lunch starting at 11:30 a.m. This year's event will take a look at the year of 2017 for the Chamber and its significant events and accomplishments.  There will also be awards given to the Chamber's Ambassador of the Year and Business Person of the Year.\n\n\n\nThe event will feature a speech by Lt. Governor Suzanne Crouch.\n\n\n\nThis event is sponsored by 1st Source Bank\, LaPorteCountyLife.com\, the La Porte County Convention & Visitors Bureau\, La Porte Hospital\, Walsh & Kelly\, Centier Bank\, Rieth-Riley Construction Company\, Horizon Bank\, and Larson-Danielson Construction Company.\n\n\n\nRegistration is encouraged and can be done by clicking the link above. The cost is $33.00 for Chamber members and $38.00 for general admission. Sponsorship opportunities are also available which are listed to the side of this event page.\n\n\n\nIf you have any special requests or dietary restrictions\, please contact the Chamber. By attending this event\, you agreeing to have your photo taken and used in future promotional materials. If you would prefer to not have your photo taken\, please let a Chamber staff member know.
X-ALT-DESC;FMTTYPE=text/html:<span style="font-family: tahoma\; font-size: 16px\; font-weight: inherit\; background-image: none\; background-position: initial\; background-size: initial\; background-repeat: initial\; background-attachment: initial\; background-origin: initial\; background-clip: initial\; border: none\; font-variant-numeric: inherit\; font-stretch: inherit\; line-height: inherit\; margin: 0px\; outline: 0px\; padding: 0px\; vertical-align: baseline\; bottom: auto\; box-sizing: content-box\; clear: none\; color: rgb(0\, 0\, 0)\; content: normal\; direction: inherit\; empty-cells: show\; left: auto\; max-height: none\; max-width: none\; min-height: initial\; min-width: initial\; opacity: 1\; outline-offset: 0px\; overflow: visible\; position: static\; resize: none\; right: auto\; table-layout: auto\; text-overflow: clip\; top: auto\; visibility: inherit\; word-break: inherit\; word-wrap: inherit\; z-index: auto\; border-collapse: separate\; border-radius: 0px\; height: auto\; width: auto\; box-shadow: none\;">The Greater La Porte Chamber of Commerce will host its Annual Meeting at the Best Western Plus\, located at 444 Pine Lake Avenue La Porte\, on February 2.<br style="bottom: auto\; box-sizing: content-box\; clear: none\; color: inherit\; content: normal\; direction: inherit\; display: inline\; empty-cells: show\; float: none\; font-style: inherit\; font-variant: inherit\; font-weight: inherit\; font-stretch: inherit\; font-size: inherit\; font-family: inherit\; left: auto\; letter-spacing: inherit\; line-height: inherit\; margin: 0px\; max-height: none\; max-width: none\; min-height: initial\; min-width: initial\; opacity: 1\; outline-offset: 0px\; overflow: visible\; padding: 0px\; position: static\; resize: none\; right: auto\; table-layout: auto\; text-align: inherit\; text-indent: inherit\; text-overflow: clip\; text-transform: inherit\; top: auto\; vertical-align: baseline\; visibility: inherit\; white-space: inherit\; word-break: inherit\; word-spacing: inherit\; word-wrap: inherit\; z-index: auto\; background: none\; border: none\; border-collapse: separate\; border-radius: 0px\; height: auto\; width: auto\;" />\n<br style="bottom: auto\; box-sizing: content-box\; clear: none\; color: inherit\; content: normal\; direction: inherit\; display: inline\; empty-cells: show\; float: none\; font-style: inherit\; font-variant: inherit\; font-weight: inherit\; font-stretch: inherit\; font-size: inherit\; font-family: inherit\; left: auto\; letter-spacing: inherit\; line-height: inherit\; margin: 0px\; max-height: none\; max-width: none\; min-height: initial\; min-width: initial\; opacity: 1\; outline-offset: 0px\; overflow: visible\; padding: 0px\; position: static\; resize: none\; right: auto\; table-layout: auto\; text-align: inherit\; text-indent: inherit\; text-overflow: clip\; text-transform: inherit\; top: auto\; vertical-align: baseline\; visibility: inherit\; white-space: inherit\; word-break: inherit\; word-spacing: inherit\; word-wrap: inherit\; z-index: auto\; background: none\; border: none\; border-collapse: separate\; border-radius: 0px\; height: auto\; width: auto\;" />\nRegistration will begin at 11:00 a.m. with lunch starting at 11:30 a.m. This year&#39\;s event will take a look at the year of 2017 for the Chamber and its significant events and accomplishments.&nbsp\; There will also be awards given to the Chamber&#39\;s Ambassador of the Year and Business Person of the Year.<br style="bottom: auto\; box-sizing: content-box\; clear: none\; color: inherit\; content: normal\; direction: inherit\; display: inline\; empty-cells: show\; float: none\; font-style: inherit\; font-variant: inherit\; font-weight: inherit\; font-stretch: inherit\; font-size: inherit\; font-family: inherit\; left: auto\; letter-spacing: inherit\; line-height: inherit\; margin: 0px\; max-height: none\; max-width: none\; min-height: initial\; min-width: initial\; opacity: 1\; outline-offset: 0px\; overflow: visible\; padding: 0px\; position: static\; resize: none\; right: auto\; table-layout: auto\; text-align: inherit\; text-indent: inherit\; text-overflow: clip\; text-transform: inherit\; top: auto\; vertical-align: baseline\; visibility: inherit\; white-space: inherit\; word-break: inherit\; word-spacing: inherit\; word-wrap: inherit\; z-index: auto\; background: none\; border: none\; border-collapse: separate\; border-radius: 0px\; height: auto\; width: auto\;" />\n<br />\nThe event will feature a speech by Lt. Governor Suzanne Crouch.<br />\n<br />\nThis event is sponsored by 1st Source Bank\, LaPorteCountyLife.com\, the La Porte County Convention &amp\; Visitors Bureau\, La Porte Hospital\, Walsh &amp\; Kelly\,&nbsp\;Centier Bank\,&nbsp\;Rieth-Riley Construction Company\, Horizon Bank\, and Larson-Danielson Construction Company.</span><br />\n<br style="color: inherit\; font-family: inherit\; font-size: inherit\; font-style: inherit\; font-variant: inherit\; font-weight: inherit\; letter-spacing: inherit\; text-align: inherit\; text-indent: inherit\; text-transform: inherit\; white-space: inherit\; word-spacing: inherit\; background: none\; bottom: auto\; box-sizing: content-box\; clear: none\; content: normal\; direction: inherit\; display: inline\; empty-cells: show\; float: none\; font-stretch: inherit\; left: auto\; line-height: inherit\; margin: 0px\; max-height: none\; max-width: none\; min-height: initial\; min-width: initial\; opacity: 1\; outline-offset: 0px\; overflow: visible\; padding: 0px\; position: static\; resize: none\; right: auto\; table-layout: auto\; text-overflow: clip\; top: auto\; vertical-align: baseline\; visibility: inherit\; word-break: inherit\; word-wrap: inherit\; z-index: auto\; border: none\; border-collapse: separate\; border-radius: 0px\; height: auto\; width: auto\;" />\n<span style="font-family: tahoma\; font-size: 16px\; font-weight: inherit\; background-image: none\; background-position: initial\; background-size: initial\; background-repeat: initial\; background-attachment: initial\; background-origin: initial\; background-clip: initial\; border: none\; font-variant-numeric: inherit\; font-stretch: inherit\; line-height: inherit\; margin: 0px\; outline: 0px\; padding: 0px\; vertical-align: baseline\; bottom: auto\; box-sizing: content-box\; clear: none\; color: rgb(0\, 0\, 0)\; content: normal\; direction: inherit\; empty-cells: show\; left: auto\; max-height: none\; max-width: none\; min-height: initial\; min-width: initial\; opacity: 1\; outline-offset: 0px\; overflow: visible\; position: static\; resize: none\; right: auto\; table-layout: auto\; text-overflow: clip\; top: auto\; visibility: inherit\; word-break: inherit\; word-wrap: inherit\; z-index: auto\; border-collapse: separate\; border-radius: 0px\; height: auto\; width: auto\; box-shadow: none\;">Registration is encouraged and can be done by clicking the link above. The cost is $33.00 for Chamber members and $38.00 for general admission. Sponsorship opportunities are also available which are listed to the side of this event page.<br />\n<br />\nIf you have any special requests or dietary restrictions\, please contact the Chamber. By attending this event\, you agreeing to have your photo taken and used in future promotional materials. If you would prefer to not have your photo taken\, please let a Chamber staff member know.</span>
LOCATION:Best Western Plus 444 Pine Lake Avenue La Porte
UID:e.1949.2962
SEQUENCE:3
DTSTAMP:20260424T154905Z
URL:https://members.laportepartnership.com/events/details/2018-annual-meeting-featuring-lt-gov-suzanne-crouch-2962
END:VEVENT

END:VCALENDAR
