BEGIN:VCALENDAR
VERSION:2.0
PRODID:-//ChamberMaster//Event Calendar 2.0//EN
METHOD:PUBLISH
X-PUBLISHED-TTL:P3D
REFRESH-INTERVAL:P3D
CALSCALE:GREGORIAN
BEGIN:VEVENT
DTSTART:20181013T180000Z
DTEND:20181013T200000Z
X-MICROSOFT-CDO-ALLDAYEVENT:FALSE
SUMMARY:2018 Downtown La Porte Trick-or-Treat Spooktacular
DESCRIPTION:The Downtown La Porte Trick or Treat will take place from 1 till 3 pm on Saturday\, October 13th. Bring the kids downtown to fill their bags with candy from several downtown businesses. This event is not to be confused with the City-wide trick-or-treat that takes place later in the month of October.\n\n\n\nParticipating businesses include:\n\nA.J. Schmitt Jewelry - 721 Lincolnway\n\nAs Time Goes By - 614 Lincolnway\n\nCarter's Barbershop - 711 Jefferson Ave.\n\nCo-Op Shoppes - 512 State St.\n\nDairy Queen - 1409 Lincolnway\n\nEdward Jones (Jennie Girton) - 601 State St.\n\nFenker's Home Furnishings - 1114 Lincolnway\n\nFor Life Tattoo Studio - 1402 Lincolnway\n\n\n\nHotSpot Cafe La Porte IN - 602 Lincolnway\n\nGo Aerial Fitness - 505 Lincolnway\n\nMr. Mattress - 525 Lincolnway\n\nPaul Marsh Insurance - 903 Indiana Ave.\n\nRoxy Music - 1012 Lincolnway\n\nSuds on State Street - 600 Clay St.\n\nTemple News Agency - 816 Jefferson Ave.\n\nThaddeus C. Gallery - 822 Lincolnway\n\nWE-PAY-MORE - 1002 Lincolnway\n\nWK Hair Studio - 717 Monroe
X-ALT-DESC;FMTTYPE=text/html:<span style="font-size:16px\;"><span style="color: rgb(75\, 79\, 86)\; font-family: Helvetica\, Arial\, sans-serif\;">The Downtown La Porte Trick or Treat will take place from 1 till 3 pm on Saturday\, October 13th. Bring the kids downtown to fill their bags with candy from several downtown businesses. This event is not to be confused with the City-wide trick-or-treat that takes place later in the month of October.</span><br />\n<br />\nParticipating businesses include:<br />\nA.J. Schmitt Jewelry - 721 Lincolnway<br />\nAs Time Goes By - 614 Lincolnway<br />\nCarter&#39\;s Barbershop - 711 Jefferson Ave.<br />\nCo-Op Shoppes - 512 State St.<br />\nDairy Queen - 1409 Lincolnway<br />\nEdward Jones (Jennie Girton) - 601 State St.<br />\nFenker&#39\;s Home Furnishings - 1114 Lincolnway</span>\n<div data-block="true" data-editor="b10vi" data-offset-key="r0ej-0-0">\n<div class="_1mf _1mj" data-offset-key="r0ej-0-0"><span style="font-size:16px\;"><span data-offset-key="r0ej-0-0"><span data-text="true">For Life Tattoo Studio - 1402 Lincolnway</span></span></span></div>\n</div>\n\n<div data-block="true" data-editor="b10vi" data-offset-key="2pbkg-0-0">\n<div class="_1mf _1mj" data-offset-key="2pbkg-0-0"><span style="font-size:16px\;"><span class="_247o" data-offset-key="2pbkg-0-0" spellcheck="false" start="0"><span data-offset-key="2pbkg-0-0"><span data-text="true">HotSpot Cafe La Porte IN</span></span></span><span data-offset-key="2pbkg-1-0"><span data-text="true"> - 602 Lincolnway</span></span></span></div>\n</div>\n<span style="font-size:16px\;">Go Aerial Fitness - 505 Lincolnway<br />\nMr. Mattress - 525 Lincolnway<br />\nPaul Marsh Insurance - 903 Indiana Ave.<br />\nRoxy Music - 1012 Lincolnway<br />\nSuds on State Street - 600 Clay St.<br />\nTemple News Agency - 816 Jefferson Ave.<br />\nThaddeus C. Gallery - 822 Lincolnway<br />\nWE-PAY-MORE - 1002 Lincolnway<br />\nWK Hair Studio - 717 Monroe</span>
LOCATION:Downtown La Porte
UID:e.1949.4254
SEQUENCE:3
DTSTAMP:20260424T023424Z
URL:https://members.laportepartnership.com/events/details/2018-downtown-la-porte-trick-or-treat-spooktacular-4254
END:VEVENT

END:VCALENDAR
