BEGIN:VCALENDAR
VERSION:2.0
PRODID:-//ChamberMaster//Event Calendar 2.0//EN
METHOD:PUBLISH
X-PUBLISHED-TTL:P3D
REFRESH-INTERVAL:P3D
CALSCALE:GREGORIAN
BEGIN:VEVENT
DTSTART:20180703T200000Z
DTEND:20180704T030000Z
X-MICROSOFT-CDO-ALLDAYEVENT:FALSE
SUMMARY:2018 Red Wine & Brew
DESCRIPTION:Be the FIRST to see some of Nashville's HOTTEST Rising Stars LIVE - here in LaPorte. Red Wine and Brew is a update to the 40 year tradition - "The Beer Barns". 201 8  features Nashville's talented girl duo\, McCoy\, followed by hot new Nashville male duo\, Walker McGuire and    headliner\, ParmaLee\, with #1 hit\, Carolina!\n\nLocated in the Pioneer Land area of the LaPorte Fairgrounds\, you can pull into the fairgrounds to park near the quaint buildings of Pioneer Land\, where you will see them transformed to craft beer saloons with some rocking country/classic rock on the stage at the end of the street from 3:30-8:30pm.
X-ALT-DESC;FMTTYPE=text/html:<p data-alt-style="line-height: 1.5\; margin-bottom: 0.7em\;" style="margin: 0px 0px 0.7em\; padding: 0px\; border: none\; outline: none\; font-size: 15px\; vertical-align: baseline\; background: rgb(250\, 250\, 250)\; -webkit-font-smoothing: subpixel-antialiased\; color: rgb(0\, 0\, 0)\; font-family: helvetica\; line-height: 1.5\;"><span data-alt-style="font-family:'helvetica'\; font-size:15px\; font-style:normal\; text-decoration:none" style="margin: 0px\; padding: 0px\; border: none\; outline: none\; vertical-align: baseline\; background: transparent\; -webkit-font-smoothing: subpixel-antialiased\; font-family: raleway\; font-weight: bold\;"><span style="margin: 0px\; padding: 0px\; border: none\; outline: none\; vertical-align: baseline\; background: transparent\; -webkit-font-smoothing: subpixel-antialiased\;"><span style="margin: 0px\; padding: 0px\; border: none\; outline: none\; vertical-align: baseline\; background: transparent\; -webkit-font-smoothing: subpixel-antialiased\;">Be the FIRST to see some of Nashville&rsquo\;s HOTTEST Rising Stars LIVE - here in LaPorte. Red Wine and Brew is a update to the 40 year tradition - &ldquo\;The Beer Barns&rdquo\;. 201&zwj\;8&zwj\; features Nashville&#39\;s talented girl duo\, McCoy\, followed by hot new Nashville male duo\, Walker McGuire and&zwj\;&zwj\;&zwj\; headliner\, ParmaLee\, with #1 hit\, Carolina!</span></span></span></p>\n\n<p data-alt-style="line-height: 1.5\;" data-margin-bottom="0.7em" style="margin: 0px\; padding: 0px\; border: none\; outline: none\; font-size: 15px\; vertical-align: baseline\; background: rgb(250\, 250\, 250)\; -webkit-font-smoothing: subpixel-antialiased\; color: rgb(0\, 0\, 0)\; font-family: helvetica\; line-height: 1.5\;"><span data-alt-style="font-family:'helvetica'\; font-size:15px\; font-style:normal\; text-decoration:none" style="margin: 0px\; padding: 0px\; border: none\; outline: none\; font-size: 16px\; vertical-align: baseline\; background: transparent\; -webkit-font-smoothing: subpixel-antialiased\; font-family: raleway\; font-weight: bold\;">Located in the Pioneer Land area of the LaPorte Fairgrounds\, you can pull into the fairgrounds to park near the quaint buildings of Pioneer Land\, where you will see them transformed to craft beer saloons with some rocking country/classic rock on the stage at the end of the street from 3:30-8:30pm.</span></p>\n
LOCATION:Pioneerland of the La Porte County Fairground 2581 W. State Road 2 La Porte
UID:e.1949.4178
SEQUENCE:3
DTSTAMP:20260424T070647Z
URL:https://members.laportepartnership.com/events/details/2018-red-wine-brew-4178
END:VEVENT

END:VCALENDAR
