BEGIN:VCALENDAR
VERSION:2.0
PRODID:-//ChamberMaster//Event Calendar 2.0//EN
METHOD:PUBLISH
X-PUBLISHED-TTL:P3D
REFRESH-INTERVAL:P3D
CALSCALE:GREGORIAN
BEGIN:VEVENT
DTSTART:20180427T160000Z
DTEND:20180427T180000Z
X-MICROSOFT-CDO-ALLDAYEVENT:FALSE
SUMMARY:2018 State of the County
DESCRIPTION:The Greater La Porte Chamber of Commerce and Michigan City Area Chamber of Commerce will host the State of the County at Blue Chip Casino in the Orleans Room\, located at 777 Blue Chip Drive in Michigan City\, on April 27.\n\n\n\nThe event will feature a speech by County Commissioner President Rich Mrozinski. Registration will begin at 11:00 a.m. with lunch starting at 11:30 a.m. This 3rd annual event will highlight the accomplishments of La Porte County in the past year and will showcase the goals of the upcoming year.\n\n\n\nRegistration is encouraged and can be done by using the link above. The cost is $35 for Chamber members and $40 for non-Chamber members.
X-ALT-DESC;FMTTYPE=text/html:The <strong>Greater La Porte Chamber of Commerce</strong> and <strong>Michigan City Area Chamber of Commerce</strong> will host the <strong>State of the County</strong> at Blue Chip Casino in the Orleans Room\, located at 777 Blue Chip Drive in Michigan City\, on April 27.<br />\n<br />\nThe event will feature a speech by <strong>County Commissioner President Rich Mrozinski</strong>. Registration will begin at 11:00 a.m. with lunch starting at 11:30 a.m. This 3<sup>rd</sup> annual event will highlight the accomplishments of La Porte County in the past year and will showcase the goals of the upcoming year.<br />\n<br />\nRegistration is encouraged and can be done by using the link above.&nbsp\;The cost is $35 for Chamber members and $40 for non-Chamber members.
LOCATION:
UID:e.1949.3027
SEQUENCE:3
DTSTAMP:20260424T134133Z
URL:https://members.laportepartnership.com/events/details/2018-state-of-the-county-3027
END:VEVENT

END:VCALENDAR
