BEGIN:VCALENDAR
VERSION:2.0
PRODID:-//ChamberMaster//Event Calendar 2.0//EN
METHOD:PUBLISH
X-PUBLISHED-TTL:P3D
REFRESH-INTERVAL:P3D
CALSCALE:GREGORIAN
BEGIN:VEVENT
DTSTART:20180213T160000Z
DTEND:20180213T200000Z
X-MICROSOFT-CDO-ALLDAYEVENT:FALSE
SUMMARY:2018 Statewide Chamber Day at the Statehouse
DESCRIPTION:Join the Greater La Porte Chamber of Commerce and over a dozen other chambers from around Indiana for the 2018 Statewide Chamber Day at the Statehouse\, coordinated by the ICEA.\n\n \n\nOn February 13\, your La Porte area colleagues and small business owners will get a chance to see the Indiana General Assembly in action. By participating\, you can\; tour the Statehouse\, hear powerful presentations\, get a personal look at the legislative process\, and have lunch with other chamber advocacy teams from throughout Indiana.
X-ALT-DESC;FMTTYPE=text/html:<span style="letter-spacing:-.1pt\;"><span style="color:#404040\;"><span style="font-size:11.0pt\;">Join the Greater La Porte Chamber of Commerce and over a dozen other chambers from around Indiana for the 2018 Statewide Chamber Day at the Statehouse\, coordinated by the ICEA.</span></span></span><br />\n&nbsp\;<br />\n<span style="letter-spacing:-.1pt\;"><span style="color:#404040\;"><span style="font-size:11.0pt\;">On February 13\, your La Porte area colleagues and small business owners will get a chance to see the Indiana General Assembly in action. By participating\, you can\; tour the Statehouse\, hear powerful presentations\, get a personal look at the legislative process\, and have lunch with other chamber advocacy teams from throughout Indiana.</span></span></span>
LOCATION:February 13 10:00 a.m. (Central Time)
UID:e.1949.2970
SEQUENCE:3
DTSTAMP:20260424T155033Z
URL:https://members.laportepartnership.com/events/details/2018-statewide-chamber-day-at-the-statehouse-2970
END:VEVENT

END:VCALENDAR
