BEGIN:VCALENDAR
VERSION:2.0
PRODID:-//ChamberMaster//Event Calendar 2.0//EN
METHOD:PUBLISH
X-PUBLISHED-TTL:P3D
REFRESH-INTERVAL:P3D
CALSCALE:GREGORIAN
BEGIN:VEVENT
DTSTART:20191024T230000Z
DTEND:20191024T230000Z
X-MICROSOFT-CDO-ALLDAYEVENT:FALSE
SUMMARY:2019 Candidates Forum
DESCRIPTION:The La Porte Economic Advancement Partnership in affiliation with the La Porte Jaycees will host the 2019 Candidates Forum on Thursday\, October 24\, at 6:00 p.m.\n\n\n\nForum: 6:00 p.m. to 7:00 p.m.\n\nMeet the Candidates: 7:00 p.m. to 7:30 p.m.
X-ALT-DESC;FMTTYPE=text/html:<span style="color: rgb(29\, 33\, 41)\; font-family: Helvetica\, Arial\, sans-serif\; font-size: 14px\; white-space: pre-wrap\; background-color: rgb(255\, 255\, 255)\;">The La Porte Economic Advancement Partnership in affiliation with the La Porte Jaycees will host the 2019 Candidates Forum on Thursday\, October 24\, at 6:00 p.m.</span><br style="color: rgb(29\, 33\, 41)\; font-family: Helvetica\, Arial\, sans-serif\; font-size: 14px\; white-space: pre-wrap\; background-color: rgb(255\, 255\, 255)\;" />\n<br style="color: rgb(29\, 33\, 41)\; font-family: Helvetica\, Arial\, sans-serif\; font-size: 14px\; white-space: pre-wrap\; background-color: rgb(255\, 255\, 255)\;" />\n<span style="color: rgb(29\, 33\, 41)\; font-family: Helvetica\, Arial\, sans-serif\; font-size: 14px\; white-space: pre-wrap\; background-color: rgb(255\, 255\, 255)\;">Forum: 6:00 p.m. to 7:00 p.m.</span><br style="color: rgb(29\, 33\, 41)\; font-family: Helvetica\, Arial\, sans-serif\; font-size: 14px\; white-space: pre-wrap\; background-color: rgb(255\, 255\, 255)\;" />\n<span style="color: rgb(29\, 33\, 41)\; font-family: Helvetica\, Arial\, sans-serif\; font-size: 14px\; white-space: pre-wrap\; background-color: rgb(255\, 255\, 255)\;">Meet the Candidates: 7:00 p.m. to 7:30 p.m.</span>
LOCATION:LPHS Performing Arts Center 602 F Street La Porte
UID:e.1949.4541
SEQUENCE:3
DTSTAMP:20260423T063003Z
URL:https://members.laportepartnership.com/events/details/2019-candidates-forum-4541
END:VEVENT

END:VCALENDAR
