BEGIN:VCALENDAR
VERSION:2.0
PRODID:-//ChamberMaster//Event Calendar 2.0//EN
METHOD:PUBLISH
X-PUBLISHED-TTL:P3D
REFRESH-INTERVAL:P3D
CALSCALE:GREGORIAN
BEGIN:VEVENT
DTSTART:20191214T160000Z
DTEND:20191214T190000Z
X-MICROSOFT-CDO-ALLDAYEVENT:FALSE
SUMMARY:2019 Downtown La Porte Cookie Walk
DESCRIPTION:Save the Date! The 7th annual Downtown Cookie Walk is Saturday\, December 14th!\n\nHERE IS HOW IT WORKS:\n\n1.Come to Plaza 618 at 10 a.m.\n\n(618 Lincolnway - we will only sell tins until 11 am or until supplies run out)\n\n2. Buy a Limited Edition La Porte Cookie Tin for $10.00\n\n(limit ONE per family)\n\n3.Fill your tin by visiting all participating shops*\n\n(One cookie at each stop)\n\n*a list of all participating shops will be available at the Plaza on Saturday\, December 14th at 10 a.m.\n\n\n\nUPDATE: We are now SOLD OUT of cookie tins!
X-ALT-DESC;FMTTYPE=text/html:<span style="color: rgb(75\, 79\, 86)\; font-family: Helvetica\, Arial\, sans-serif\; font-size: 14px\;">Save the Date! The 7th annual Downtown Cookie Walk is Saturday\, December 14th!</span><br />\n<span style="color: rgb(75\, 79\, 86)\; font-family: Helvetica\, Arial\, sans-serif\; font-size: 14px\;">HERE IS HOW IT WORKS:</span><br style="color: rgb(75\, 79\, 86)\; font-family: Helvetica\, Arial\, sans-serif\; font-size: 14px\;" />\n<span style="color: rgb(75\, 79\, 86)\; font-family: Helvetica\, Arial\, sans-serif\; font-size: 14px\;">1.Come to Plaza 618 at 10 a.m.</span><br style="color: rgb(75\, 79\, 86)\; font-family: Helvetica\, Arial\, sans-serif\; font-size: 14px\;" />\n<span style="color: rgb(75\, 79\, 86)\; font-family: Helvetica\, Arial\, sans-serif\; font-size: 14px\;">(618 Lincolnway - we will only sell tins until 11 am or until supplies run out)</span><br style="color: rgb(75\, 79\, 86)\; font-family: Helvetica\, Arial\, sans-serif\; font-size: 14px\;" />\n<span style="color: rgb(75\, 79\, 86)\; font-family: Helvetica\, Arial\, sans-serif\; font-size: 14px\;">2. Buy a Limited Edition La Porte Cookie Tin for $10.00</span><br style="color: rgb(75\, 79\, 86)\; font-family: Helvetica\, Arial\, sans-serif\; font-size: 14px\;" />\n<span style="color: rgb(75\, 79\, 86)\; font-family: Helvetica\, Arial\, sans-serif\; font-size: 14px\;">(limit ONE per family)</span><br style="color: rgb(75\, 79\, 86)\; font-family: Helvetica\, Arial\, sans-serif\; font-size: 14px\;" />\n<span style="color: rgb(75\, 79\, 86)\; font-family: Helvetica\, Arial\, sans-serif\; font-size: 14px\;">3.Fill your tin by visiting all participating shops*</span><br style="color: rgb(75\, 79\, 86)\; font-family: Helvetica\, Arial\, sans-serif\; font-size: 14px\;" />\n<span style="color: rgb(75\, 79\, 86)\; font-family: Helvetica\, Arial\, sans-serif\; font-size: 14px\;">(One cookie at each stop)</span><br style="color: rgb(75\, 79\, 86)\; font-family: Helvetica\, Arial\, sans-serif\; font-size: 14px\;" />\n<span style="color: rgb(75\, 79\, 86)\; font-family: Helvetica\, Arial\, sans-serif\; font-size: 14px\;">*a list of all participating shops will be available at the Plaza on Saturday\, December 14th at 10 a.m.<br />\n<br />\nUPDATE: We are now SOLD OUT of cookie tins!</span>
LOCATION:Downtown La Porte List of Participating Businesses Coming Soon
UID:e.1949.4553
SEQUENCE:3
DTSTAMP:20260423T043858Z
URL:https://members.laportepartnership.com/events/details/2019-downtown-la-porte-cookie-walk-4553
END:VEVENT

END:VCALENDAR
