BEGIN:VCALENDAR
VERSION:2.0
PRODID:-//ChamberMaster//Event Calendar 2.0//EN
METHOD:PUBLISH
X-PUBLISHED-TTL:P3D
REFRESH-INTERVAL:P3D
CALSCALE:GREGORIAN
BEGIN:VEVENT
DTSTART:20191012T180000Z
DTEND:20191012T200000Z
X-MICROSOFT-CDO-ALLDAYEVENT:FALSE
SUMMARY:2019 Downtown La Porte Trick-or-Treat Spooktacular
DESCRIPTION:The Downtown La Porte Trick or Treat will take place from 1 till 3 pm on Saturday\, October 12th. Bring the kids downtown to fill their bags with candy from several downtown businesses. This event is not to be confused with the City-wide trick-or-treat that takes place later in the month of October.\n\n\n\nParticipating businesses will be announced closer to the event.
X-ALT-DESC;FMTTYPE=text/html:<span style="font-size:16px\;"><span style="color: rgb(75\, 79\, 86)\; font-family: Helvetica\, Arial\, sans-serif\;">The Downtown La Porte Trick or Treat will take place from 1 till 3 pm on Saturday\, October 12th. Bring the kids downtown to fill their bags with candy from several downtown businesses. This event is not to be confused with the City-wide trick-or-treat that takes place later in the month of October.</span><br />\n<br />\nParticipating businesses will be announced closer to the event.</span>
LOCATION:Downtown La Porte
UID:e.1949.4546
SEQUENCE:3
DTSTAMP:20260423T063444Z
URL:https://members.laportepartnership.com/events/details/2019-downtown-la-porte-trick-or-treat-spooktacular-4546
END:VEVENT

END:VCALENDAR
