BEGIN:VCALENDAR
VERSION:2.0
PRODID:-//ChamberMaster//Event Calendar 2.0//EN
METHOD:PUBLISH
X-PUBLISHED-TTL:P3D
REFRESH-INTERVAL:P3D
CALSCALE:GREGORIAN
BEGIN:VEVENT
DTSTART:20190117T220000Z
DTEND:20190117T233000Z
X-MICROSOFT-CDO-ALLDAYEVENT:FALSE
SUMMARY:2019 Elected Officials Reception
DESCRIPTION:Join the Chamber for an informal reception to welcome La Porte's newly elected officials. This is an excellent opportunity to network and discuss issues with local representatives and business leaders. Area officials elected in the 2018 elections from the State\, County\, and School Board levels are invited to this event.\n\n\n\nThe reception is open to all La Porte Chamber members and newly elected officials. Wine and hors d'oeuvres will be served courtesy of the Greater La Porte Chamber of Commerce.\n\n\n\nPlease call or email by January 11 to 219.362.3178 or jongkind@lpchamber.com to indicate whether or not you are able to attend. You may also register on our website by clicking the link above.
X-ALT-DESC;FMTTYPE=text/html:<font color="#222222" face="Lora\, serif"><span style="font-size: 16.6031px\; font-variant-ligatures: no-common-ligatures\; background-color: rgb(235\, 236\, 237)\;"><i>Join the Chamber for an informal reception to welcome La Porte&#39\;s newly elected officials. This is an excellent opportunity to network and discuss issues with local representatives and business leaders. Area officials elected in the 2018 elections from the State\, County\, and School Board levels are invited to this event.<br />\n<br />\nThe reception is open to all La Porte Chamber members and newly elected officials. Wine and hors d&#39\;oeuvres will be served courtesy of the Greater La Porte Chamber of Commerce.<br />\n<br />\nPlease call or email by January 11 to 219.362.3178 or jongkind@lpchamber.com to indicate whether or not you are able to attend. You may also register on our website by clicking the link above.</i></span></font>
LOCATION:Greater La Porte Chamber of Commerce 803 Washington Street
UID:e.1949.4269
SEQUENCE:3
DTSTAMP:20260423T214559Z
URL:https://members.laportepartnership.com/events/details/2019-elected-officials-reception-4269
END:VEVENT

END:VCALENDAR
