BEGIN:VCALENDAR
VERSION:2.0
PRODID:-//ChamberMaster//Event Calendar 2.0//EN
METHOD:PUBLISH
X-PUBLISHED-TTL:P3D
REFRESH-INTERVAL:P3D
CALSCALE:GREGORIAN
BEGIN:VEVENT
DTSTART:20190808T160000Z
DTEND:20190808T180000Z
X-MICROSOFT-CDO-ALLDAYEVENT:FALSE
SUMMARY:2019 New Teachers Luncheon Sponsored by Newby\, Lewis\, Kaminski & Jones\, LLP
DESCRIPTION:Please join us in welcoming and celebrating New Teachers and Administrators from La Porte\, New Prairie\, South Central\, Tri-Township\, New Durham and La Lumiere schools at the New Teachers luncheon.\n\n\n\nAll Chamber members and their employees are invited to attend\, which includes a plated lunch. The luncheon will take place at the Allure\, 301 B Street in La Porte\, on August 8 with registration beginning at 11:00 a.m. and the luncheon and program beginning at 11:30 a.m.\n\n\n\nThe title sponsor of this event is Newby\, Lewis\, Kaminski\, & Jones LLP. Other sponsors include:\n\nAchievement Sponsors: Qubit Networks\, Unity Foundation of La Porte County\n\nExcellence Sponsors: Hatfield Pest Control\n\n\n\nPlease let us know if you have any exceptions or special needs by 8/7/18. By attending this event\, you are accepting to be photographed and have those materials utilized in future LEAP marketing materials. If you would prefer to not be photographed\, please let a LEAP staff member know by calling 219.324.8584\, emailing lindsayj@laportepartnership.com or informing a staff member at the event.
X-ALT-DESC;FMTTYPE=text/html:<div class="mn-module-content" id="mn-events" style="border: none\; font-variant: inherit\; font-stretch: inherit\; line-height: inherit\; font-family: inherit\; font-size: inherit\; font-style: inherit\; font-weight: inherit\; margin: 0px 0px 30px\; outline: 0px\; padding: 0px\; vertical-align: baseline\; bottom: auto\; box-sizing: content-box\; clear: none\; color: inherit\; content: normal\; direction: inherit\; empty-cells: show\; left: auto\; letter-spacing: inherit\; max-height: none\; max-width: none\; min-height: initial\; min-width: initial\; opacity: 1\; outline-offset: 0px\; overflow: visible\; position: static\; resize: none\; right: auto\; table-layout: auto\; text-align: inherit\; text-indent: inherit\; text-overflow: clip\; text-transform: inherit\; top: auto\; visibility: inherit\; white-space: inherit\; word-break: inherit\; word-spacing: inherit\; word-wrap: inherit\; z-index: auto\; background: none\; border-collapse: separate\; border-radius: 0px\; height: auto\; width: 1000px\; box-shadow: none\;">\n<div id="mn-events-details" itemscope="itemscope" itemtype="http://schema.org/Event" style="border: none\; font-variant: inherit\; font-stretch: inherit\; line-height: inherit\; font-family: inherit\; font-size: inherit\; font-style: inherit\; font-weight: inherit\; margin: 0px\; outline: 0px\; padding: 0px\; vertical-align: baseline\; bottom: auto\; box-sizing: content-box\; clear: none\; color: inherit\; content: normal\; direction: inherit\; empty-cells: show\; left: auto\; letter-spacing: inherit\; max-height: none\; max-width: none\; min-height: initial\; min-width: initial\; opacity: 1\; outline-offset: 0px\; overflow: visible\; position: static\; resize: none\; right: auto\; table-layout: auto\; text-align: inherit\; text-indent: inherit\; text-overflow: clip\; text-transform: inherit\; top: auto\; visibility: inherit\; white-space: inherit\; word-break: inherit\; word-spacing: inherit\; word-wrap: inherit\; z-index: auto\; background: none\; border-collapse: separate\; border-radius: 0px\; height: auto\; width: auto\; box-shadow: none\;">\n<div class="mn-section mn-event-detail-listing" style="border: none\; font-variant: inherit\; font-stretch: inherit\; line-height: inherit\; font-family: inherit\; font-size: inherit\; font-style: inherit\; font-weight: inherit\; margin: 0px\; outline: 0px\; padding: 0px\; vertical-align: baseline\; bottom: auto\; box-sizing: content-box\; clear: both\; color: inherit\; content: normal\; direction: inherit\; empty-cells: show\; left: auto\; letter-spacing: inherit\; max-height: none\; max-width: none\; min-height: initial\; min-width: initial\; opacity: 1\; outline-offset: 0px\; overflow: visible\; position: relative\; resize: none\; right: auto\; table-layout: auto\; text-align: inherit\; text-indent: inherit\; text-overflow: clip\; text-transform: inherit\; top: auto\; visibility: inherit\; white-space: inherit\; word-break: inherit\; word-spacing: inherit\; word-wrap: inherit\; z-index: auto\; background: none\; border-collapse: separate\; border-radius: 0px\; height: auto\; width: auto\; box-shadow: none\;">\n<div class="mn-event-info mn-listing-infobasic" style="border: none\; font-variant: inherit\; font-stretch: inherit\; line-height: inherit\; font-family: inherit\; font-size: inherit\; font-style: inherit\; font-weight: inherit\; margin: 0px\; outline: 0px\; padding: 0px\; vertical-align: baseline\; bottom: auto\; box-sizing: content-box\; clear: left\; color: inherit\; content: normal\; direction: inherit\; empty-cells: show\; left: auto\; letter-spacing: inherit\; max-height: none\; max-width: none\; min-height: initial\; min-width: 280px\; opacity: 1\; outline-offset: 0px\; overflow: visible\; position: static\; resize: none\; right: auto\; table-layout: auto\; text-align: inherit\; text-indent: inherit\; text-overflow: clip\; text-transform: inherit\; top: auto\; visibility: inherit\; white-space: inherit\; word-break: inherit\; word-spacing: inherit\; word-wrap: inherit\; z-index: auto\; background: none\; border-collapse: separate\; border-radius: 0px\; height: auto\; width: 600px\; box-shadow: none\;">\n<div class="mn-event-section mn-event-desc" style="border: none\; font-variant: inherit\; font-stretch: inherit\; line-height: inherit\; font-family: inherit\; font-size: inherit\; font-style: inherit\; font-weight: inherit\; margin: 16px 0px\; outline: 0px\; padding: 0px\; vertical-align: baseline\; bottom: auto\; box-sizing: content-box\; clear: both\; color: inherit\; content: normal\; direction: inherit\; empty-cells: show\; left: auto\; letter-spacing: inherit\; max-height: none\; max-width: none\; min-height: initial\; min-width: initial\; opacity: 1\; outline-offset: 0px\; overflow: visible\; position: static\; resize: none\; right: auto\; table-layout: auto\; text-align: inherit\; text-indent: inherit\; text-overflow: clip\; text-transform: inherit\; top: auto\; visibility: inherit\; white-space: inherit\; word-break: inherit\; word-spacing: inherit\; word-wrap: inherit\; z-index: auto\; background: none\; border-collapse: separate\; border-radius: 0px\; height: auto\; width: auto\; box-shadow: none\;">\n<div class="mn-event-content" style="border: none\; font-variant: inherit\; font-stretch: inherit\; line-height: inherit\; font-family: inherit\; font-size: inherit\; font-style: inherit\; font-weight: inherit\; margin: 0px\; outline: 0px\; padding: 0px\; vertical-align: baseline\; bottom: auto\; box-sizing: content-box\; clear: none\; color: inherit\; content: normal\; direction: inherit\; empty-cells: show\; left: auto\; letter-spacing: inherit\; max-height: none\; max-width: none\; min-height: initial\; min-width: initial\; opacity: 1\; outline-offset: 0px\; overflow: visible\; position: static\; resize: none\; right: auto\; table-layout: auto\; text-align: inherit\; text-indent: inherit\; text-overflow: clip\; text-transform: inherit\; top: auto\; visibility: inherit\; white-space: inherit\; word-break: inherit\; word-spacing: inherit\; word-wrap: inherit\; z-index: auto\; background: none\; border-collapse: separate\; border-radius: 0px\; height: auto\; width: auto\; box-shadow: none\;">\n<div class="mn-raw mn-print-url" itemprop="description" style="border: none\; font-variant: inherit\; font-stretch: inherit\; line-height: 1.3\; font-family: inherit\; font-size: inherit\; font-style: inherit\; font-weight: inherit\; margin: 0px\; outline: 0px\; padding: 0px\; vertical-align: baseline\; bottom: auto\; box-sizing: content-box\; clear: none\; color: inherit\; content: normal\; direction: inherit\; empty-cells: show\; left: auto\; letter-spacing: inherit\; max-height: none\; max-width: none\; min-height: initial\; min-width: initial\; opacity: 1\; outline-offset: 0px\; overflow: visible\; position: static\; resize: none\; right: auto\; table-layout: auto\; text-align: inherit\; text-indent: inherit\; text-overflow: clip\; text-transform: inherit\; top: auto\; visibility: inherit\; white-space: inherit\; word-break: inherit\; word-spacing: inherit\; word-wrap: inherit\; z-index: auto\; background: none\; border-collapse: separate\; border-radius: 0px\; height: auto\; width: auto\; box-shadow: none\;">\n<div class="mn-module-content" id="mn-events" style="border: none\; font-variant: inherit\; font-stretch: inherit\; line-height: inherit\; font-family: inherit\; font-size: inherit\; font-style: inherit\; font-weight: inherit\; margin: 0px 0px 30px\; outline: 0px\; padding: 0px\; vertical-align: baseline\; bottom: auto\; box-sizing: content-box\; clear: none\; color: inherit\; content: normal\; direction: inherit\; empty-cells: show\; float: left\; left: auto\; letter-spacing: inherit\; max-height: none\; max-width: none\; min-height: initial\; min-width: initial\; opacity: 1\; outline-offset: 0px\; overflow: visible\; position: static\; resize: none\; right: auto\; table-layout: auto\; text-align: inherit\; text-indent: inherit\; text-overflow: clip\; text-transform: inherit\; top: auto\; visibility: inherit\; white-space: inherit\; word-break: inherit\; word-spacing: inherit\; word-wrap: inherit\; z-index: auto\; background: none\; border-collapse: separate\; border-radius: 0px\; height: auto\; width: 1000px\; box-shadow: none\;">\n<div id="mn-events-details" itemscope="itemscope" itemtype="http://schema.org/Event" style="border: none\; font-variant: inherit\; font-stretch: inherit\; line-height: inherit\; font-family: inherit\; font-size: inherit\; font-style: inherit\; font-weight: inherit\; margin: 0px\; outline: 0px\; padding: 0px\; vertical-align: baseline\; bottom: auto\; box-sizing: content-box\; clear: none\; color: inherit\; content: normal\; direction: inherit\; empty-cells: show\; float: none\; left: auto\; letter-spacing: inherit\; max-height: none\; max-width: none\; min-height: initial\; min-width: initial\; opacity: 1\; outline-offset: 0px\; overflow: visible\; position: static\; resize: none\; right: auto\; table-layout: auto\; text-align: inherit\; text-indent: inherit\; text-overflow: clip\; text-transform: inherit\; top: auto\; visibility: inherit\; white-space: inherit\; word-break: inherit\; word-spacing: inherit\; word-wrap: inherit\; z-index: auto\; background: none\; border-collapse: separate\; border-radius: 0px\; height: auto\; width: auto\; box-shadow: none\;">\n<div class="mn-section mn-event-detail-listing" style="border: none\; font-variant: inherit\; font-stretch: inherit\; line-height: inherit\; font-family: inherit\; font-size: inherit\; font-style: inherit\; font-weight: inherit\; margin: 0px\; outline: 0px\; padding: 0px\; vertical-align: baseline\; bottom: auto\; box-sizing: content-box\; clear: both\; color: inherit\; content: normal\; direction: inherit\; empty-cells: show\; float: none\; left: auto\; letter-spacing: inherit\; max-height: none\; max-width: none\; min-height: initial\; min-width: initial\; opacity: 1\; outline-offset: 0px\; overflow: visible\; position: relative\; resize: none\; right: auto\; table-layout: auto\; text-align: inherit\; text-indent: inherit\; text-overflow: clip\; text-transform: inherit\; top: auto\; visibility: inherit\; white-space: inherit\; word-break: inherit\; word-spacing: inherit\; word-wrap: inherit\; z-index: auto\; background: none\; border-collapse: separate\; border-radius: 0px\; height: auto\; width: auto\; box-shadow: none\;">\n<div class="mn-event-info mn-listing-infobasic" style="border: none\; font-variant: inherit\; font-stretch: inherit\; line-height: inherit\; font-family: inherit\; font-size: inherit\; font-style: inherit\; font-weight: inherit\; margin: 0px\; outline: 0px\; padding: 0px\; vertical-align: baseline\; bottom: auto\; box-sizing: content-box\; clear: left\; color: inherit\; content: normal\; direction: inherit\; empty-cells: show\; float: left\; left: auto\; letter-spacing: inherit\; max-height: none\; max-width: none\; min-height: initial\; min-width: 280px\; opacity: 1\; outline-offset: 0px\; overflow: visible\; position: static\; resize: none\; right: auto\; table-layout: auto\; text-align: inherit\; text-indent: inherit\; text-overflow: clip\; text-transform: inherit\; top: auto\; visibility: inherit\; white-space: inherit\; word-break: inherit\; word-spacing: inherit\; word-wrap: inherit\; z-index: auto\; background: none\; border-collapse: separate\; border-radius: 0px\; height: auto\; width: 600px\; box-shadow: none\;">\n<div class="mn-event-section mn-event-desc" style="border: none\; font-variant: inherit\; font-stretch: inherit\; line-height: inherit\; font-family: inherit\; font-size: inherit\; font-style: inherit\; font-weight: inherit\; margin: 16px 0px\; outline: 0px\; padding: 0px\; vertical-align: baseline\; bottom: auto\; box-sizing: content-box\; clear: both\; color: inherit\; content: normal\; direction: inherit\; empty-cells: show\; float: none\; left: auto\; letter-spacing: inherit\; max-height: none\; max-width: none\; min-height: initial\; min-width: initial\; opacity: 1\; outline-offset: 0px\; overflow: visible\; position: static\; resize: none\; right: auto\; table-layout: auto\; text-align: inherit\; text-indent: inherit\; text-overflow: clip\; text-transform: inherit\; top: auto\; visibility: inherit\; white-space: inherit\; word-break: inherit\; word-spacing: inherit\; word-wrap: inherit\; z-index: auto\; background: none\; border-collapse: separate\; border-radius: 0px\; height: auto\; width: auto\; box-shadow: none\;">\n<div class="mn-event-content" style="border: none\; font-variant: inherit\; font-stretch: inherit\; line-height: inherit\; font-family: inherit\; font-size: inherit\; font-style: inherit\; font-weight: inherit\; margin: 0px\; outline: 0px\; padding: 0px\; vertical-align: baseline\; bottom: auto\; box-sizing: content-box\; clear: none\; color: inherit\; content: normal\; direction: inherit\; empty-cells: show\; float: none\; left: auto\; letter-spacing: inherit\; max-height: none\; max-width: none\; min-height: initial\; min-width: initial\; opacity: 1\; outline-offset: 0px\; overflow: visible\; position: static\; resize: none\; right: auto\; table-layout: auto\; text-align: inherit\; text-indent: inherit\; text-overflow: clip\; text-transform: inherit\; top: auto\; visibility: inherit\; white-space: inherit\; word-break: inherit\; word-spacing: inherit\; word-wrap: inherit\; z-index: auto\; background: none\; border-collapse: separate\; border-radius: 0px\; height: auto\; width: auto\; box-shadow: none\;">\n<div class="mn-raw mn-print-url" itemprop="description" style="border: none\; font-variant: inherit\; font-stretch: inherit\; line-height: 1.3\; font-family: inherit\; font-size: inherit\; font-style: inherit\; font-weight: inherit\; margin: 0px\; outline: 0px\; padding: 0px\; vertical-align: baseline\; bottom: auto\; box-sizing: content-box\; clear: none\; color: inherit\; content: normal\; direction: inherit\; empty-cells: show\; float: none\; left: auto\; letter-spacing: inherit\; max-height: none\; max-width: none\; min-height: initial\; min-width: initial\; opacity: 1\; outline-offset: 0px\; overflow: visible\; position: static\; resize: none\; right: auto\; table-layout: auto\; text-align: inherit\; text-indent: inherit\; text-overflow: clip\; text-transform: inherit\; top: auto\; visibility: inherit\; white-space: inherit\; word-break: inherit\; word-spacing: inherit\; word-wrap: inherit\; z-index: auto\; background: none\; border-collapse: separate\; border-radius: 0px\; height: auto\; width: auto\; box-shadow: none\;"><span style="font-size:16px\;"><span style="border: none\; font-variant-numeric: inherit\; font-variant-east-asian: inherit\; font-stretch: inherit\; line-height: inherit\; font-family: Arial\, Helvetica\, sans-serif\; font-weight: inherit\; margin: 0px\; outline: 0px\; padding: 0px\; vertical-align: baseline\; bottom: auto\; box-sizing: content-box\; clear: none\; color: rgb(0\, 0\, 0)\; content: normal\; direction: inherit\; empty-cells: show\; left: auto\; max-height: none\; max-width: none\; min-height: initial\; min-width: initial\; opacity: 1\; outline-offset: 0px\; overflow: visible\; position: static\; resize: none\; right: auto\; table-layout: auto\; text-overflow: clip\; top: auto\; visibility: inherit\; word-break: inherit\; word-wrap: inherit\; z-index: auto\; background-image: none\; background-position: initial\; background-size: initial\; background-repeat: initial\; background-attachment: initial\; background-origin: initial\; background-clip: initial\; border-collapse: separate\; border-radius: 0px\; height: auto\; width: auto\; box-shadow: none\;"><span style="border: none\; font-variant: inherit\; font-stretch: inherit\; line-height: inherit\; font-family: inherit\; font-style: inherit\; font-weight: inherit\; margin: 0px\; outline: 0px\; padding: 0px\; vertical-align: baseline\; bottom: auto\; box-sizing: content-box\; clear: none\; color: inherit\; content: normal\; direction: inherit\; empty-cells: show\; left: auto\; letter-spacing: inherit\; max-height: none\; max-width: none\; min-height: initial\; min-width: initial\; opacity: 1\; outline-offset: 0px\; overflow: visible\; position: static\; resize: none\; right: auto\; table-layout: auto\; text-align: inherit\; text-indent: inherit\; text-overflow: clip\; text-transform: inherit\; top: auto\; visibility: inherit\; white-space: inherit\; word-break: inherit\; word-spacing: inherit\; word-wrap: inherit\; z-index: auto\; background: none\; border-collapse: separate\; border-radius: 0px\; height: auto\; width: auto\; box-shadow: none\;"><span style="border: none\; font-variant: inherit\; font-stretch: inherit\; line-height: inherit\; font-family: arial\; font-style: inherit\; font-weight: inherit\; margin: 0px\; outline: 0px\; padding: 0px\; vertical-align: baseline\; bottom: auto\; box-sizing: content-box\; clear: none\; color: inherit\; content: normal\; direction: inherit\; empty-cells: show\; left: auto\; letter-spacing: inherit\; max-height: none\; max-width: none\; min-height: initial\; min-width: initial\; opacity: 1\; outline-offset: 0px\; overflow: visible\; position: static\; resize: none\; right: auto\; table-layout: auto\; text-align: inherit\; text-indent: inherit\; text-overflow: clip\; text-transform: inherit\; top: auto\; visibility: inherit\; white-space: inherit\; word-break: inherit\; word-spacing: inherit\; word-wrap: inherit\; z-index: auto\; background: none\; border-collapse: separate\; border-radius: 0px\; height: auto\; width: auto\; box-shadow: none\;">Please join us in welcoming and celebrating New Teachers and Administrators from La Porte\, New Prairie\, South Central\, Tri-Township\,&nbsp\;New Durham and La Lumiere schools at the New Teachers luncheon.<br style="bottom: auto\; box-sizing: content-box\; clear: none\; color: inherit\; content: normal\; direction: inherit\; display: inline\; empty-cells: show\; float: none\; font-style: inherit\; font-variant: inherit\; font-weight: inherit\; font-stretch: inherit\; font-size: inherit\; font-family: inherit\; left: auto\; letter-spacing: inherit\; line-height: inherit\; margin: 0px\; max-height: none\; max-width: none\; min-height: initial\; min-width: initial\; opacity: 1\; outline-offset: 0px\; overflow: visible\; padding: 0px\; position: static\; resize: none\; right: auto\; table-layout: auto\; text-align: inherit\; text-indent: inherit\; text-overflow: clip\; text-transform: inherit\; top: auto\; vertical-align: baseline\; visibility: inherit\; white-space: inherit\; word-break: inherit\; word-spacing: inherit\; word-wrap: inherit\; z-index: auto\; background: none\; border: none\; border-collapse: separate\; border-radius: 0px\; height: auto\; width: auto\;" />\n<br style="bottom: auto\; box-sizing: content-box\; clear: none\; color: inherit\; content: normal\; direction: inherit\; display: inline\; empty-cells: show\; float: none\; font-style: inherit\; font-variant: inherit\; font-weight: inherit\; font-stretch: inherit\; font-size: inherit\; font-family: inherit\; left: auto\; letter-spacing: inherit\; line-height: inherit\; margin: 0px\; max-height: none\; max-width: none\; min-height: initial\; min-width: initial\; opacity: 1\; outline-offset: 0px\; overflow: visible\; padding: 0px\; position: static\; resize: none\; right: auto\; table-layout: auto\; text-align: inherit\; text-indent: inherit\; text-overflow: clip\; text-transform: inherit\; top: auto\; vertical-align: baseline\; visibility: inherit\; white-space: inherit\; word-break: inherit\; word-spacing: inherit\; word-wrap: inherit\; z-index: auto\; background: none\; border: none\; border-collapse: separate\; border-radius: 0px\; height: auto\; width: auto\;" />\nAll Chamber members and their employees are invited to attend\, which includes a plated&nbsp\;lunch. The luncheon will take place at the Allure\, 301 B&nbsp\;Street in La Porte\, on August 8&nbsp\;with registration beginning at 11:00 a.m. and the luncheon and program beginning at 11:30 a.m.</span></span></span><br />\n<br />\n<span style="background-color: initial\; color: inherit\; font-family: arial\; font-style: inherit\; font-variant-ligatures: inherit\; font-variant-caps: inherit\; font-weight: inherit\; letter-spacing: inherit\; text-align: inherit\; text-indent: inherit\; text-transform: inherit\; white-space: inherit\; word-spacing: inherit\;">The title sponsor of this event is Newby\, Lewis\, Kaminski\, &amp\; Jones LLP. Other sponsors include:<br />\nAchievement Sponsors: Qubit Networks\, Unity Foundation of La Porte County<br />\nExcellence Sponsors: Hatfield Pest Control</span></span><br />\n<br />\n<span style="background-color: initial\; color: inherit\; font-family: calibri\, sans-serif\; font-size: 14.6667px\; font-style: inherit\; font-variant-ligatures: inherit\; font-variant-caps: inherit\; font-weight: inherit\; letter-spacing: inherit\; text-align: inherit\; text-indent: inherit\; text-transform: inherit\; white-space: inherit\; word-spacing: inherit\;">Please let us know if you have any exceptions or special needs by 8/7/18. By attending this event\, you are accepting to be photographed and have those materials utilized in future LEAP marketing materials. If you would prefer to not be photographed\, please let a LEAP&nbsp\;staff member know by calling 219.324.8584\, emailing lindsayj@laportepartnership.com or informing a staff member at the event.</span></div>\n</div>\n</div>\n</div>\n</div>\n</div>\n</div>\n</div>\n</div>\n</div>\n</div>\n</div>\n</div>\n</div>\n
LOCATION:The Allure 301 B Street La Porte
UID:e.1949.4374
SEQUENCE:3
DTSTAMP:20260423T095949Z
URL:https://members.laportepartnership.com/events/details/2019-new-teachers-luncheon-sponsored-by-newby-lewis-kaminski-jones-llp-4374
END:VEVENT

END:VCALENDAR
