BEGIN:VCALENDAR
VERSION:2.0
PRODID:-//ChamberMaster//Event Calendar 2.0//EN
METHOD:PUBLISH
X-PUBLISHED-TTL:P3D
REFRESH-INTERVAL:P3D
CALSCALE:GREGORIAN
BEGIN:VEVENT
DTSTART:20191130T190000Z
DTEND:20191201T000000Z
X-MICROSOFT-CDO-ALLDAYEVENT:FALSE
SUMMARY:2019 Shop Local Open House
DESCRIPTION:Join us on November 30th after the Santa Parade from 1:00 PM to 6:00 PM for our Shop Local Open House event! In an effort to support our local businesses during the holidays\, we are holding an event focused on getting customers downtown shopping "Small" during the national "Shop Small Saturday". Participating businesses are asked to have specials\, refreshments\, door prizes or other exciting activities to attract people into their storefront. Patrons will be given a list of participating businesses which they will travel to and receive a stamp or store owner initials to signify they have visited. Once every store is visited\, they will be entered into a drawing for a grand prize.\n\n\n\nThe community is also welcome to gather in Plaza 618 beginning at 4:00 PM for a Tree Lighting ceremony that includes a brief presentation by Mayor Mark Krentz and a performance by the La Porte High School Show Choir. Those attending may bring winter hats\, scarves\, gloves\, and mittens to be placed on the tree and later donated for those who are in need in our community.\n\n\n\nIf you are a Downtown La Porte business that would like to participate in the Shop Local Open House\, please either call our office at 219.324.8584 or email lindsayj@laportepartnership.com
X-ALT-DESC;FMTTYPE=text/html:Join us on November 30th after the Santa Parade from 1:00 PM to 6:00 PM for our Shop Local Open House event!&nbsp\;<span style="font-family:calibri\,sans-serif\;"><span style="font-size:11.0pt\;">In an effort to support our local businesses during the holidays\, we are holding an event focused on getting customers downtown shopping &ldquo\;Small&rdquo\; during the national &ldquo\;Shop Small Saturday&rdquo\;. Participating businesses are asked to have specials\, refreshments\, door prizes or other exciting activities to attract people into their storefront. Patrons will be given a list of participating businesses which they will travel to and receive a stamp or store owner initials to signify they have visited. Once every store is visited\, they will be entered into a drawing for a grand prize.</span></span><br />\n<br />\nThe community is also welcome to gather in Plaza 618 beginning at 4:00 PM for a Tree Lighting ceremony that includes a brief presentation by Mayor Mark Krentz and a performance by the La Porte High School Show Choir. Those attending may bring winter hats\, scarves\, gloves\, and mittens to be placed on the tree and later donated for those who are in need in our community.<br />\n<br />\nIf you are a Downtown La Porte business that would like to participate in the Shop Local Open House\, please either call our office at 219.324.8584 or email lindsayj@laportepartnership.com
LOCATION:Downtown La Porte Plaza 618
UID:e.1949.4548
SEQUENCE:3
DTSTAMP:20260423T044141Z
URL:https://members.laportepartnership.com/events/details/2019-shop-local-open-house-4548
END:VEVENT

END:VCALENDAR
