BEGIN:VCALENDAR
VERSION:2.0
PRODID:-//ChamberMaster//Event Calendar 2.0//EN
METHOD:PUBLISH
X-PUBLISHED-TTL:P3D
REFRESH-INTERVAL:P3D
CALSCALE:GREGORIAN
BEGIN:VEVENT
DTSTART:20190412T160000Z
DTEND:20190412T180000Z
X-MICROSOFT-CDO-ALLDAYEVENT:FALSE
SUMMARY:2019 State of the County
DESCRIPTION:The Greater La Porte Chamber of Commerce and Michigan City Area Chamber of Commerce will host the State of the County at Purdue University Northwest at the Dworkin Activity Center\, located at 1401 S. U.S. Hwy 421 in Westville\, on April 12.\n\n\n\nThe event will feature an update from the La Porte County Commissioners Panel complete with a Q&A session . Registration will begin at 11:00 a.m. with lunch starting at 11:30 a.m. This 4th annual event will highlight the accomplishments of La Porte County in the past year and will showcase the goals of the upcoming year.\n\n\n\nRegistration is encouraged and can be done by using the link above. The cost is $25 for Chamber members and $30 for non-Chamber members.
X-ALT-DESC;FMTTYPE=text/html:The <strong>Greater La Porte Chamber of Commerce</strong> and <strong>Michigan City Area Chamber of Commerce</strong> will host the <strong>State of the County</strong> at Purdue University Northwest at the Dworkin Activity Center\, located at 1401 S. U.S. Hwy 421 in Westville\, on April 12.<br />\n<br />\nThe event will feature an update from the La Porte County Commissioners Panel complete with a Q&amp\;A session . Registration will begin at 11:00 a.m. with lunch starting at 11:30 a.m. This 4th&nbsp\;annual event will highlight the accomplishments of La Porte County in the past year and will showcase the goals of the upcoming year.<br />\n<br />\nRegistration is encouraged and can be done by using the link above.&nbsp\;The cost is $25 for Chamber members and $30 for non-Chamber members.
LOCATION:Dworkin Student Services and Activities Complex Purdue University Northwest 1401 S. U.S. Hwy 421 Westville\, IN 46391
UID:e.1949.4343
SEQUENCE:3
DTSTAMP:20260423T165750Z
URL:https://members.laportepartnership.com/events/details/2019-state-of-the-county-4343
END:VEVENT

END:VCALENDAR
