BEGIN:VCALENDAR
VERSION:2.0
PRODID:-//ChamberMaster//Event Calendar 2.0//EN
METHOD:PUBLISH
X-PUBLISHED-TTL:P3D
REFRESH-INTERVAL:P3D
CALSCALE:GREGORIAN
BEGIN:VEVENT
DTSTART:20190215T140000Z
DTEND:20190215T160000Z
X-MICROSOFT-CDO-ALLDAYEVENT:FALSE
SUMMARY:2019 Third House Session - February 15
DESCRIPTION:The Greater La Porte\, Michigan City\, and Westville Area Chambers of Commerce have joined together with the La Porte County Convention & Visitors Bureau to present an Indiana Third House Session slated for February 15th starting at 8:00 a.m. The event will take place at the La Porte County Convention & Visitors Bureau\, located at 4073 Franklin Street in Michigan City. There is no cost to attend this event\, and light refreshments will be available.\n\n\n\nJoin our local state legislators as they discuss important topics that affect our community and region. Register by clicking the button above or calling 219.362.3178.
X-ALT-DESC;FMTTYPE=text/html:<span style="color: rgb(51\, 51\, 51)\; font-size: 13px\; font-family: georgia\, serif\;"><span style="font-size: 12pt\;">The Greater La Porte\, Michigan City\, and Westville Area Chambers of Commerce have joined together with the La Porte County Convention &amp\; Visitors Bureau to present an Indiana Third House Session slated for February 15<sup>th</sup>&nbsp\;starting at 8:00 a.m. The event will take place at the La Porte County Convention &amp\; Visitors Bureau\, located at 4073 Franklin Street in Michigan City. There is no cost to attend this event\, and light refreshments will be available.</span></span><br style="color: rgb(51\, 51\, 51)\; font-family: sans-serif\, Arial\, Verdana\, &quot\;Trebuchet MS&quot\;\; font-size: 13px\;" />\n<br style="color: rgb(51\, 51\, 51)\; font-family: sans-serif\, Arial\, Verdana\, &quot\;Trebuchet MS&quot\;\; font-size: 13px\;" />\n<span style="color: rgb(51\, 51\, 51)\; font-size: 13px\; font-family: georgia\, serif\;"><span style="font-size: 12pt\;">Join our local state legislators as they discuss important topics that affect our community and region. Register by clicking the button above or calling 219.362.3178.</span></span>
LOCATION:La Porte County Convention & Visitors Bureau 4073 Franklin Street\, Michigan City\, IN 46360
UID:e.1949.4278
SEQUENCE:3
DTSTAMP:20260423T202350Z
URL:https://members.laportepartnership.com/events/details/2019-third-house-session-february-15-4278
END:VEVENT

END:VCALENDAR
