BEGIN:VCALENDAR
VERSION:2.0
PRODID:-//ChamberMaster//Event Calendar 2.0//EN
METHOD:PUBLISH
X-PUBLISHED-TTL:P3D
REFRESH-INTERVAL:P3D
CALSCALE:GREGORIAN
BEGIN:VEVENT
DTSTART:20200129T223000Z
DTEND:20200130T000000Z
X-MICROSOFT-CDO-ALLDAYEVENT:FALSE
SUMMARY:2020 Elected Officials Reception
DESCRIPTION:Join LEAP for an informal reception to welcome La Porte's newly elected officials. This is an excellent opportunity to network and discuss issues with local representatives and business leaders.\n\n\n\nThe reception is open to all LEAP members and current and newly elected officials. Wine and hors d'oeuvres will be served.\n\n\n\nPlease call or email by January 29 to 219.324.8584 or lindsayj@laportepartnership.com to indicate whether or not you are able to attend. You may also register on our website by clicking the link.
X-ALT-DESC;FMTTYPE=text/html:<span style="color: rgb(29\, 33\, 41)\; font-family: Helvetica\, Arial\, sans-serif\; font-size: 14px\; white-space: pre-wrap\; background-color: rgb(255\, 255\, 255)\;">Join LEAP for an informal reception to welcome La Porte&#39\;s newly elected officials. This is an excellent opportunity to network and discuss issues with local representatives and business leaders.</span><br style="color: rgb(29\, 33\, 41)\; font-family: Helvetica\, Arial\, sans-serif\; font-size: 14px\; white-space: pre-wrap\; background-color: rgb(255\, 255\, 255)\;" />\n<br style="color: rgb(29\, 33\, 41)\; font-family: Helvetica\, Arial\, sans-serif\; font-size: 14px\; white-space: pre-wrap\; background-color: rgb(255\, 255\, 255)\;" />\n<span style="color: rgb(29\, 33\, 41)\; font-family: Helvetica\, Arial\, sans-serif\; font-size: 14px\; white-space: pre-wrap\; background-color: rgb(255\, 255\, 255)\;">The reception is open to all LEAP members and current and newly elected officials. Wine and hors d&#39\;oeuvres will be served.</span><br style="color: rgb(29\, 33\, 41)\; font-family: Helvetica\, Arial\, sans-serif\; font-size: 14px\; white-space: pre-wrap\; background-color: rgb(255\, 255\, 255)\;" />\n<br style="color: rgb(29\, 33\, 41)\; font-family: Helvetica\, Arial\, sans-serif\; font-size: 14px\; white-space: pre-wrap\; background-color: rgb(255\, 255\, 255)\;" />\n<span style="color: rgb(29\, 33\, 41)\; font-family: Helvetica\, Arial\, sans-serif\; font-size: 14px\; white-space: pre-wrap\; background-color: rgb(255\, 255\, 255)\;">Please call or email by January 29 to 219.324.8584 or lindsayj@laportepartnership.com to indicate whether or not you are able to attend. You may also register on our website by clicking the link.</span>
LOCATION:La Porte Economic Advancement Partnership
UID:e.1949.4559
SEQUENCE:3
DTSTAMP:20260423T005602Z
URL:https://members.laportepartnership.com/events/details/2020-elected-officials-reception-4559
END:VEVENT

END:VCALENDAR
