BEGIN:VCALENDAR
VERSION:2.0
PRODID:-//ChamberMaster//Event Calendar 2.0//EN
METHOD:PUBLISH
X-PUBLISHED-TTL:P3D
REFRESH-INTERVAL:P3D
CALSCALE:GREGORIAN
BEGIN:VEVENT
DTSTART:20200419T160000Z
DTEND:20200419T190000Z
X-MICROSOFT-CDO-ALLDAYEVENT:FALSE
SUMMARY:2020 Plow Day at the Door Prairie Barn
DESCRIPTION:Please join us in welcoming the La Porte County Draft Horse Association's 2020 Plow Day on Sunday\, April 19\, 2020 at the Door Prairie Barn next to the La Porte County Historical Society Museum. Plow Day events will be from 11:00 a.m. to 2:00 p.m.\, and will feature horse-drawn antique plowing\, wagon rides\, and concessions. Enjoy a horse-drawn wagon ride from The La Porte County Historical Society Museum to the Door Prairie Round Barn for the 2020 Draft Horse Plow Day (weather permitting)! There will be no rain date. In collaboration with the La Porte County Draft Horse Association\, the La Porte County Historical Society Museum will be open from 11:00 a.m. to 2:00 p.m. The La Porte County Historical Society Museum is located at 2405 Indiana Avenue in La Porte\, and is handicapped accessible.
X-ALT-DESC;FMTTYPE=text/html:Please join us in welcoming the La Porte County Draft Horse Association&rsquo\;s 2020 Plow Day on Sunday\, April 19\, 2020 at the Door Prairie Barn next to the La Porte County Historical Society Museum. Plow Day events will be from 11:00 a.m. to 2:00 p.m.\, and will feature horse-drawn antique plowing\, wagon rides\, and concessions. Enjoy a horse-drawn wagon ride from The La Porte County Historical Society Museum to the Door Prairie Round Barn for the 2020 Draft Horse Plow Day (weather permitting)! There will be no rain date. In collaboration with the La Porte County Draft Horse Association\, the La Porte County Historical Society Museum will be open from 11:00 a.m. to 2:00 p.m. The La Porte County Historical Society Museum is located at 2405 Indiana Avenue in La Porte\, and is handicapped accessible.
LOCATION:Door Prairie Barn next to the La Porte County Historical Society Museum\, 2405 Indiana Avenue\, La Porte\, IN 46350
UID:e.1949.4574
SEQUENCE:3
DTSTAMP:20260422T193037Z
URL:https://members.laportepartnership.com/events/details/2020-plow-day-at-the-door-prairie-barn-4574
END:VEVENT

END:VCALENDAR
