BEGIN:VCALENDAR
VERSION:2.0
PRODID:-//ChamberMaster//Event Calendar 2.0//EN
METHOD:PUBLISH
X-PUBLISHED-TTL:P3D
REFRESH-INTERVAL:P3D
CALSCALE:GREGORIAN
BEGIN:VEVENT
DTSTART:20200313T160000Z
DTEND:20200313T180000Z
X-MICROSOFT-CDO-ALLDAYEVENT:FALSE
SUMMARY:2020 State of the County
DESCRIPTION:The La Porte Economic Advancement Partnership\, Michigan City Area Chamber of Commerce\, and Westville Chamber of Commerce will host the State of the County at Purdue University Northwest at the Dworkin Activity Center\, located at 1401 S. U.S. Hwy 421 in Westville\, on March 13.\n\n\n\nThe event will feature an update from the La Porte County Panel complete with a Q&A session . Registration will begin at 11:00 a.m. with lunch starting at 11:30 a.m. This 5th annual event will highlight the accomplishments of La Porte County in the past year and will showcase the goals of the upcoming year.\n\n\n\nRegistration is encouraged and can be done by using the link above. The cost is $25 for Chamber members\, $40 for non-Chamber members and $350 for a table (seats 8) sponsor.
X-ALT-DESC;FMTTYPE=text/html:The <strong>La Porte Economic Advancement Partnership</strong><strong>\,</strong>&nbsp\;<strong>Michigan City Area Chamber of Commerce\, and Westville Chamber of Commerce</strong>&nbsp\;will host the <strong>State of the County</strong> at Purdue University Northwest at the Dworkin Activity Center\, located at 1401 S. U.S. Hwy 421 in Westville\, on March 13.<br />\n<br />\nThe event will feature an update from the La Porte County Panel complete with a Q&amp\;A session . Registration will begin at 11:00 a.m. with lunch starting at 11:30 a.m. This 5th&nbsp\;annual event will highlight the accomplishments of La Porte County in the past year and will showcase the goals of the upcoming year.<br />\n<br />\nRegistration is encouraged and can be done by using the link above.&nbsp\;The cost is $25 for Chamber members\, $40 for non-Chamber members and $350 for a table (seats 8) sponsor.
LOCATION:Dworkin Student Services and Activities Complex Purdue University Northwest 1401 S. U.S. Hwy 421 Westville\, IN 46391
UID:e.1949.4568
SEQUENCE:3
DTSTAMP:20260424T084559Z
URL:https://members.laportepartnership.com/events/details/2020-state-of-the-county-4568
END:VEVENT

END:VCALENDAR
