BEGIN:VCALENDAR
VERSION:2.0
PRODID:-//ChamberMaster//Event Calendar 2.0//EN
METHOD:PUBLISH
X-PUBLISHED-TTL:P3D
REFRESH-INTERVAL:P3D
CALSCALE:GREGORIAN
BEGIN:VEVENT
DTSTART:20190921T130000Z
DTEND:20190921T210000Z
X-MICROSOFT-CDO-ALLDAYEVENT:FALSE
SUMMARY:21st Annual Sunflower Fair
DESCRIPTION:The Sunflower Fair in beautiful\, historic Downtown La Porte is one of the largest area festivals with over 100 craft and nonprofit vendors. Enjoy a day with family and friends for food\, entertainment\, rides\, and much\, much more. Enjoy the many activities of the day- a rib cook-off\, a 5K run and fun walk\, sunflower contest\, an art walk\, rides\, food\, and of course much\, much more! Visitors may also see the many vendors- last year approximately 130 vendors participated!\n\nBrought to you by the La Porte Economic Advancement Partnership and a volunteer committee of dedicated community members\, the unique fair celebrates everything fall and community. The fair comes downtown every 3rd Saturday in September. Save the Date for the 21st Annual Sunflower Fair September 21\, 2019!
X-ALT-DESC;FMTTYPE=text/html:<p style="margin: 0px 0px 30px\; padding: 0px\; border: 0px\; outline: 0px\; font-size: 15px\; vertical-align: baseline\; background-image: initial\; background-position: initial\; background-size: initial\; background-repeat: initial\; background-attachment: initial\; background-origin: initial\; background-clip: initial\; color: rgb(95\, 98\, 99)\; font-family: Lora\, &quot\;Open Sans&quot\;\, Arial\, sans-serif\;">The Sunflower Fair in beautiful\, historic Downtown La Porte is one of the largest area festivals with over 100 craft and nonprofit vendors. Enjoy a day with family and friends for food\, entertainment\, rides\, and much\, much more. Enjoy the many activities of the day- a rib cook-off\, a 5K run and fun walk\, sunflower contest\, an art walk\, rides\, food\, and of course much\, much more! Visitors may also see the many vendors- last year approximately 130&nbsp\;vendors participated!</p>\n\n<p style="margin-top: 0px\; margin-right: 0px\; margin-left: 0px\; padding: 0px\; border: 0px\; outline: 0px\; font-size: 15px\; vertical-align: baseline\; background-image: initial\; background-position: initial\; background-size: initial\; background-repeat: initial\; background-attachment: initial\; background-origin: initial\; background-clip: initial\; color: rgb(95\, 98\, 99)\; font-family: Lora\, &quot\;Open Sans&quot\;\, Arial\, sans-serif\; margin-bottom: 0px !important\;">Brought to you by the La Porte Economic Advancement Partnership&nbsp\;and a volunteer committee of dedicated community members\, the unique fair celebrates everything fall and community. The fair comes downtown every 3rd Saturday in September. Save the Date for the 21st&nbsp\;Annual Sunflower Fair September 21\, 2019!</p>\n
LOCATION:Along Michigan Avenue in Downtown La Porte
UID:e.1949.4383
SEQUENCE:3
DTSTAMP:20260423T095458Z
URL:https://members.laportepartnership.com/events/details/21st-annual-sunflower-fair-4383
END:VEVENT

END:VCALENDAR
