BEGIN:VCALENDAR
VERSION:2.0
PRODID:-//ChamberMaster//Event Calendar 2.0//EN
METHOD:PUBLISH
X-PUBLISHED-TTL:P3D
REFRESH-INTERVAL:P3D
CALSCALE:GREGORIAN
BEGIN:VEVENT
DTSTART:20171114T233000Z
DTEND:20171115T010000Z
X-MICROSOFT-CDO-ALLDAYEVENT:FALSE
SUMMARY:23rd Annual Relay For Life Kick Off Party
DESCRIPTION:ALL AGES ARE INVITED TO A FREE PIZZA PARTY! The entire community is invited to attend and be part of the planning for an event that allows us to CELEBRATE our survivors\, REMEMBER loved ones lost\, and FIGHT BACK against cancer. *What is Relay?* *How can you get involved?* Come\, have fun and find out more!
X-ALT-DESC;FMTTYPE=text/html:ALL AGES ARE INVITED TO A FREE PIZZA PARTY! The entire community is invited to attend and be part of the planning for an event that allows us to CELEBRATE our survivors\, REMEMBER loved ones lost\, and FIGHT BACK against cancer. *What is Relay?* *How can you get involved?* Come\, have fun and find out more!
LOCATION:First Church of God 2020 E Lincolnway LaPorte
UID:e.1949.2913
SEQUENCE:3
DTSTAMP:20260424T211405Z
URL:https://members.laportepartnership.com/events/details/23rd-annual-relay-for-life-kick-off-party-2913
END:VEVENT

END:VCALENDAR
