BEGIN:VCALENDAR
VERSION:2.0
PRODID:-//ChamberMaster//Event Calendar 2.0//EN
METHOD:PUBLISH
X-PUBLISHED-TTL:P3D
REFRESH-INTERVAL:P3D
CALSCALE:GREGORIAN
BEGIN:VEVENT
DTSTART:20160625T130000Z
DTEND:20160625T200000Z
X-MICROSOFT-CDO-ALLDAYEVENT:FALSE
SUMMARY:2nd Annual Garage Sale for La Porte County Family YMCA
DESCRIPTION:Have some old items sitting around the house and thinking\, "I really should sell that?" The Childcare and Learning Center has a solution for you. Purchase a spot for $20.00 at our 2nd Annual Garage Sale. You will be helping children in your community have a safe and nurturing place to spend their day while their parents work. We also accept donated items to sell at the Y's table. Though the world may be unpredictable\, one thing remains certain   the Y is\, and always will be\, dedicated to building healthy\, confident\, secure and connected children\, families and communities.\n\n\n\nWhere: La Porte County Family YMCA\n\nChild Care & Learning Center\n\n2510 Monroe Street\n\nLa Porte\, IN\n\n\n\nWhy: To Raise money for the Annual Campaign\n\n\n\nWhen: June 25th from 8:00 a.m. to 3:00 p.m.\n\n\n\nWho: Anybody who wants to sell their own items \n\nmay do so by purchasing a spot $20. We also\n\naccept donated items to sell at the Y's table.
X-ALT-DESC;FMTTYPE=text/html:<span style="color: rgb(75\, 79\, 86)\; font-family: helvetica\, arial\, sans-serif\; font-size: 14px\; line-height: 18.76px\;">Have some old items sitting around the house and thinking\, &ldquo\;I really should sell that?&rdquo\; The Childcare and Learning Center has a solution for you. Purchase a spot for $20.00 at our 2nd Annual Garage Sale. You will be helping children in your community have a safe and nurturing place to spend their day while their parents work. We also accept donated items to sell at the Y&rsquo\;s table. Though the world may be unpredictable\, one thing remains certain &ndash\; the Y is\, and always will be\, dedicated to building healthy\, confident\, secure and connected children\, families and communities.</span><br style="color: rgb(75\, 79\, 86)\; font-family: helvetica\, arial\, sans-serif\; font-size: 14px\; line-height: 18.76px\;" />\n<br style="color: rgb(75\, 79\, 86)\; font-family: helvetica\, arial\, sans-serif\; font-size: 14px\; line-height: 18.76px\;" />\n<span style="color: rgb(75\, 79\, 86)\; font-family: helvetica\, arial\, sans-serif\; font-size: 14px\; line-height: 18.76px\;">Where: La Porte County Family YMCA</span><br style="color: rgb(75\, 79\, 86)\; font-family: helvetica\, arial\, sans-serif\; font-size: 14px\; line-height: 18.76px\;" />\n<span style="color: rgb(75\, 79\, 86)\; font-family: helvetica\, arial\, sans-serif\; font-size: 14px\; line-height: 18.76px\;">Child Care &amp\; Learning Center</span><br style="color: rgb(75\, 79\, 86)\; font-family: helvetica\, arial\, sans-serif\; font-size: 14px\; line-height: 18.76px\;" />\n<span style="color: rgb(75\, 79\, 86)\; font-family: helvetica\, arial\, sans-serif\; font-size: 14px\; line-height: 18.76px\;">2510 Monroe Street</span><br style="color: rgb(75\, 79\, 86)\; font-family: helvetica\, arial\, sans-serif\; font-size: 14px\; line-height: 18.76px\;" />\n<span style="color: rgb(75\, 79\, 86)\; font-family: helvetica\, arial\, sans-serif\; font-size: 14px\; line-height: 18.76px\;">La Porte\, IN</span><br style="color: rgb(75\, 79\, 86)\; font-family: helvetica\, arial\, sans-serif\; font-size: 14px\; line-height: 18.76px\;" />\n<br style="color: rgb(75\, 79\, 86)\; font-family: helvetica\, arial\, sans-serif\; font-size: 14px\; line-height: 18.76px\;" />\n<span style="color: rgb(75\, 79\, 86)\; font-family: helvetica\, arial\, sans-serif\; font-size: 14px\; line-height: 18.76px\;">Why: To Raise money for the Annual Campaign</span><br style="color: rgb(75\, 79\, 86)\; font-family: helvetica\, arial\, sans-serif\; font-size: 14px\; line-height: 18.76px\;" />\n<br style="color: rgb(75\, 79\, 86)\; font-family: helvetica\, arial\, sans-serif\; font-size: 14px\; line-height: 18.76px\;" />\n<span style="color: rgb(75\, 79\, 86)\; font-family: helvetica\, arial\, sans-serif\; font-size: 14px\; line-height: 18.76px\;">When: June 25th from 8:00 a.m. to 3:00 p.m.</span><br style="color: rgb(75\, 79\, 86)\; font-family: helvetica\, arial\, sans-serif\; font-size: 14px\; line-height: 18.76px\;" />\n<br style="color: rgb(75\, 79\, 86)\; font-family: helvetica\, arial\, sans-serif\; font-size: 14px\; line-height: 18.76px\;" />\n<span style="color: rgb(75\, 79\, 86)\; font-family: helvetica\, arial\, sans-serif\; font-size: 14px\; line-height: 18.76px\;">Who: Anybody who wants to sell their own items&nbsp\;</span><br style="color: rgb(75\, 79\, 86)\; font-family: helvetica\, arial\, sans-serif\; font-size: 14px\; line-height: 18.76px\;" />\n<span style="color: rgb(75\, 79\, 86)\; font-family: helvetica\, arial\, sans-serif\; font-size: 14px\; line-height: 18.76px\;">may do so by purchasing a spot $20. We also</span><br style="color: rgb(75\, 79\, 86)\; font-family: helvetica\, arial\, sans-serif\; font-size: 14px\; line-height: 18.76px\;" />\n<span style="color: rgb(75\, 79\, 86)\; font-family: helvetica\, arial\, sans-serif\; font-size: 14px\; line-height: 18.76px\;">accept donated items to sell at the Y&rsquo\;s table.</span>
LOCATION:La Porte County Family YMCA Childcare and Learning Center 2510 Monroe Street La Porte
UID:e.1949.2585
SEQUENCE:3
DTSTAMP:20260426T035108Z
URL:https://members.laportepartnership.com/events/details/2nd-annual-garage-sale-for-la-porte-county-family-ymca-06-25-2016-2585
END:VEVENT

END:VCALENDAR
