BEGIN:VCALENDAR
VERSION:2.0
PRODID:-//ChamberMaster//Event Calendar 2.0//EN
METHOD:PUBLISH
X-PUBLISHED-TTL:P3D
REFRESH-INTERVAL:P3D
CALSCALE:GREGORIAN
BEGIN:VEVENT
DTSTART:20180721T223000Z
DTEND:20180721T233000Z
X-MICROSOFT-CDO-ALLDAYEVENT:FALSE
SUMMARY:2nd Annual Hub of Awesome Water Ski Show
DESCRIPTION:Rotary and our wonderful co-sponsors are pleased to invite the community to the 2nd Annual Hub of Awesome Water Ski Show on July 21\, from 5:39-6:30 PM on Pine Lake in La Porte\, Indiana!  The show is completely free (including parking) and is a wonderful chance to see a top-notch water ski team\, the Lake City Skiers from Warsaw\, perform a thrilling and daring hour long ski show.  Boaters can watch from the lake\, and parking is easily available in Soldiers Memorial Park for those traveling in by car so that spectators can bring chairs and blankets to watch from the Ski Beach area of Waverly Road.  This is an awesome time to enjoy the beauty and excitement that our lakes add to our community.  Food vendors will be on Waverly Road and activities for the children will be on the beach area prior to the beginning of the show.  Again\, thanks to the following businesses and people for helping to sponsor this tourist and family friendly summer event:  \n\nRotary Club of La Porte\n\nGIS (General Insurance Services)\n\nHorizon Bank\n\nSuds on State Laundromat\n\nLa Porte County Convention and Visitors Bureau\n\nFriend of the Water Ski Show\n\nThor Thordarson\n\nWest Monroe Partners - Nate and Kristen Ulery\n\nFeikes Builders\, Inc.\n\nHuber Marine\n\nParkison Hinton
X-ALT-DESC;FMTTYPE=text/html:Rotary and our wonderful co-sponsors are pleased to invite the community to the 2<sup>nd</sup> Annual Hub of Awesome Water Ski Show on July 21\, from 5:39-6:30 PM on Pine Lake in La Porte\, Indiana!&nbsp\; The show is completely free (including parking) and is a wonderful chance to see a top-notch water ski team\, the Lake City Skiers from Warsaw\, perform a thrilling and daring hour long ski show.&nbsp\; Boaters can watch from the lake\, and parking is easily available in Soldiers Memorial Park for those traveling in by car so that spectators can bring chairs and blankets to watch from the Ski Beach area of Waverly Road.&nbsp\; This is an awesome time to enjoy the beauty and excitement that our lakes add to our community.&nbsp\; Food vendors will be on Waverly Road and activities for the children will be on the beach area prior to the beginning of the show.&nbsp\; Again\, thanks to the following businesses and people for helping to sponsor this tourist and family friendly summer event:&nbsp\;&nbsp\;<br />\nRotary Club of La Porte<br />\n<span style="color:black\;"><span style="font-family:times new roman\,serif\;"><span style="font-size:12.0pt\;">GIS (General Insurance Services)</span></span></span><br />\n<span style="color:black\;"><span style="font-family:times new roman\,serif\;"><span style="font-size:12.0pt\;">Horizon Bank</span></span></span><br />\n<span style="color:black\;"><span style="font-family:times new roman\,serif\;"><span style="font-size:12.0pt\;">Suds on State Laundromat</span></span></span><br />\n<span style="color:black\;"><span style="font-family:times new roman\,serif\;"><span style="font-size:12.0pt\;">La Porte County Convention and Visitors Bureau</span></span></span><br />\n<span style="color:black\;"><span style="font-family:times new roman\,serif\;"><span style="font-size:12.0pt\;">Friend of the Water Ski Show</span></span></span><br />\n<span style="color:black\;"><span style="font-family:times new roman\,serif\;"><span style="font-size:12.0pt\;">Thor Thordarson</span></span></span><br />\n<span style="color:black\;"><span style="font-family:times new roman\,serif\;"><span style="font-size:12.0pt\;">West Monroe Partners - Nate and Kristen Ulery</span></span></span><br />\n<span style="color:black\;"><span style="font-family:times new roman\,serif\;"><span style="font-size:12.0pt\;">Feikes Builders\, Inc.</span></span></span><br />\n<span style="color:black\;"><span style="font-family:times new roman\,serif\;"><span style="font-size:12.0pt\;">Huber Marine</span></span></span><br />\n<span style="color:black\;"><span style="font-family:times new roman\,serif\;"><span style="font-size:12.0pt\;">Parkison Hinton</span></span></span>
LOCATION:Ski Beach along Waverly Road La Porte
UID:e.1949.4194
SEQUENCE:3
DTSTAMP:20260424T090206Z
URL:https://members.laportepartnership.com/events/details/2nd-annual-hub-of-awesome-water-ski-show-4194
END:VEVENT

END:VCALENDAR
