BEGIN:VCALENDAR
VERSION:2.0
PRODID:-//ChamberMaster//Event Calendar 2.0//EN
METHOD:PUBLISH
X-PUBLISHED-TTL:P3D
REFRESH-INTERVAL:P3D
CALSCALE:GREGORIAN
BEGIN:VEVENT
DTSTART:20191219T233000Z
DTEND:20191220T003000Z
X-MICROSOFT-CDO-ALLDAYEVENT:FALSE
SUMMARY:$3.00 Thursday Yoga Class
DESCRIPTION:Come on out to our $3.00 Thursday Night Yoga Class. Every 3rd Thursday of the month we have a special Yoga class for just $3.00 Bring your friends and family who have never tried yoga but wanted too.
X-ALT-DESC;FMTTYPE=text/html:Come on out to our $3.00 Thursday Night Yoga Class. Every 3rd Thursday of the month we have a special Yoga class for just $3.00 Bring your friends and family who have never tried yoga but wanted too.
LOCATION:Clark's Family Chiropractic 6662 W. Johnson Rd La Porte
UID:e.1949.4550
SEQUENCE:3
DTSTAMP:20260423T044453Z
URL:https://members.laportepartnership.com/events/details/3-00-thursday-yoga-class-12-19-2019-4550
END:VEVENT

END:VCALENDAR
