BEGIN:VCALENDAR
VERSION:2.0
PRODID:-//ChamberMaster//Event Calendar 2.0//EN
METHOD:PUBLISH
X-PUBLISHED-TTL:P3D
REFRESH-INTERVAL:P3D
CALSCALE:GREGORIAN
BEGIN:VEVENT
DTSTART:20191121T233000Z
DTEND:20191122T003000Z
X-MICROSOFT-CDO-ALLDAYEVENT:FALSE
SUMMARY:$3.00 Thursday Yoga Class
DESCRIPTION:Want to try yoga but don't want to commit to a package? Try our special Gratitude Yoga Class presented on the 3rd Thursday of the month at 5:30 pm. For only $3.00\, come and learn the basics of yoga and how to stretch those achy\, sore muscles. We provide the mats\, straps\, blocks and beautiful atmosphere\, you just need to come in comfy clothes.
X-ALT-DESC;FMTTYPE=text/html:Want to try yoga but don&#39\;t want to commit to a package? Try our special Gratitude Yoga Class presented on the 3rd Thursday of the month at 5:30 pm. For only $3.00\, come and learn the basics of yoga and how to stretch those achy\, sore muscles. We provide the mats\, straps\, blocks and beautiful atmosphere\, you just need to come in comfy clothes.
LOCATION:6662 W. Johnson Rd La Porte
UID:e.1949.4549
SEQUENCE:3
DTSTAMP:20260423T061945Z
URL:https://members.laportepartnership.com/events/details/3-00-thursday-yoga-class-4549
END:VEVENT

END:VCALENDAR
