BEGIN:VCALENDAR
VERSION:2.0
PRODID:-//ChamberMaster//Event Calendar 2.0//EN
METHOD:PUBLISH
X-PUBLISHED-TTL:P3D
REFRESH-INTERVAL:P3D
CALSCALE:GREGORIAN
BEGIN:VEVENT
DTSTART:20160910T140000Z
DTEND:20160910T170000Z
X-MICROSOFT-CDO-ALLDAYEVENT:FALSE
SUMMARY:3rd Annual Dragon Boat Races
DESCRIPTION:Dunebrook's 3rd Annual Dragon Boat Races return to Stone Lake on Saturday\, Sept. 10\, beginning at 9 am. Dragon Boats are ornate 41 foot canoe-like vessels powered by 16-20 paddlers that row in unison to a drummer's beat. A steerer is provided to help paddlers stay on course. Dragon Boat racing is the ultimate teambuilding sport\, requiring synchronicity and finesse more than power to win. Spectators can enjoy child-friendly activities and food vendors while cheering on their favorite teams. Proceeds benefit Dunebrook's parent support and education programs. Cost begins at just $75/paddler and includes a practice session. Ages 13 and over of all skill levels are welcome. Sponsorships available. Registration due by July 31. Contact Pam at Dunebrook at 800/897-0007\, or pam@dunebrook.org. Check out http://dunebrook.org for registration form and additional details.
X-ALT-DESC;FMTTYPE=text/html:Dunebrook&rsquo\;s 3<sup>rd</sup> Annual Dragon Boat Races return to Stone Lake on Saturday\, Sept. 10\, beginning at 9 am. Dragon Boats are ornate 41 foot canoe-like vessels powered by 16-20 paddlers that row in unison to a drummer&rsquo\;s beat. A steerer is provided to help paddlers stay on course. Dragon Boat racing is the ultimate teambuilding sport\, requiring synchronicity and finesse more than power to win. Spectators can enjoy child-friendly activities and food vendors while cheering on their favorite teams. Proceeds benefit Dunebrook&rsquo\;s parent support and education programs. Cost begins at just $75/paddler and includes a practice session. Ages 13 and over of all skill levels are welcome. Sponsorships available. Registration due by July 31. Contact Pam at Dunebrook at 800/897-0007\, or <a href="mailto:pam@dunebrook.org"><span style="color:windowtext\;">pam@dunebrook.org</span></a>. Check out <a href="http://dunebrook.org/">http://dunebrook.org</a> for registration form and additional details.
LOCATION:Stone Lake
UID:e.1949.2581
SEQUENCE:3
DTSTAMP:20260425T223450Z
URL:https://members.laportepartnership.com/events/details/3rd-annual-dragon-boat-races-09-10-2016-2581
END:VEVENT

END:VCALENDAR
