BEGIN:VCALENDAR
VERSION:2.0
PRODID:-//ChamberMaster//Event Calendar 2.0//EN
METHOD:PUBLISH
X-PUBLISHED-TTL:P3D
REFRESH-INTERVAL:P3D
CALSCALE:GREGORIAN
BEGIN:VEVENT
DTSTART:20161126T163000Z
DTEND:20161126T180000Z
X-MICROSOFT-CDO-ALLDAYEVENT:FALSE
SUMMARY:3rd Annual Kris Kringle Blitz- Fun Run & Costume Contest
DESCRIPTION:Kris Kringle Blitz\n\nA one mile\, full-costume fun run & costume contest to take place before the Santa Parade.\n\n \n\nAll ages welcome to participate in this festive run that follows the Santa Parade route in Downtown La Porte. You may register for this event by clicking the link above or calling 219.362.3178.\n\nSaturday\, November 26- 11:15 a.m.\n\n \n\n	\n		\n			\n			Event Information\n			 \n\n			Schedule of Events\n\n			10:30 a.m.   11:00 a.m. - Registration\n\n			11:15 a.m. - Race Begins\n\n			 \n\n			Awards\n\n			\n				\n					\n						Best Costume (17 & Under)\n						Best Costume (18+)\n					\n					\n						* Girl   *Boy\n\n						 \n						* Female   *Male\n					\n					\n						Overall Race Winner\n						Best Group Costume\n					\n					\n						* 17 & Under   *18+\n\n						 \n\n						Best Couples Costume\n						3 or more Participants\n\n						 \n\n						 \n					\n				\n			\n			 \n\n			Registration will open October 2016\n\n			Pre-Registration is encouraged and can be done by contacting the Greater La Porte Chamber of Commerce Office at (219) 362-3178. Early registration is strongly encouraged. Limited edition event hat is only available while supplies last.\n\n			 \n\n			Cost\n\n			5 & under FREE- No hats provided\n\n			5 & above- $10\n\n			Non-refundable entry fee. \n\n			 \n\n			To enter\n\n			Send or drop off completed entry form (can be picked up at Chamber) and payment to:\n\n			Greater La Porte Chamber of Commerce\n\n			803 Washington Street\n\n			La Porte\, IN 46350\n\n			 \n\n			** Please make checks payable to the Greater La Porte Chamber of Commerce. To pay by credit card and register over the phone\, call the Chamber at 219.362.3178. You may also register and pay online at goo.gl/nEujMV or by clicking the link above.
X-ALT-DESC;FMTTYPE=text/html:<span style="font-family:times new roman\;"><span style="font-family:arial\;"><span style="font-size:36.0pt\;">Kris Kringle Blitz</span><br />\n<strong><span style="font-size:12.0pt\;">A one mile\, full-costume fun run &amp\; costume contest to take place before the Santa Parade.</span></strong><br />\n&nbsp\;<br />\n<strong>All ages welcome to participate in this festive run that follows the Santa Parade route in Downtown La Porte. You may register for this event by clicking the link above or calling 219.362.3178.</strong><br />\n<strong><span style="font-size:12.0pt\;">Saturday\, November 26- 11:15 a.m.</span></strong></span></span><br />\n&nbsp\;\n<table align="left" cellpadding="0" cellspacing="0" hspace="0" vspace="0">\n	<tbody>\n		<tr>\n			<td align="left" style="padding-top:0in\;padding-right:9.0pt\;padding-bottom:0in\;padding-left:9.0pt\;vertical-align:top\;">\n			<h1 style="margin-bottom:0in\;margin-bottom:.0001pt\;"><span style="font-size:18.0pt\;">Event Information</span></h1>\n			&nbsp\;<br />\n			<strong><u><span style="font-family:bookman old style\,serif\;"><span style="font-size:12.0pt\;">Schedule of Events</span></span></u></strong><br />\n			<span style="font-family:bookman old style\,serif\;">10:30 a.m. &ndash\; 11:00 a.m. - Registration</span><br />\n			<span style="font-family:bookman old style\,serif\;">11:15 a.m. - Race Begins</span><br />\n			&nbsp\;<br />\n			<strong><u><span style="font-family:bookman old style\,serif\;"><span style="font-size:12.0pt\;">Awards</span></span></u></strong>\n\n			<table border="0" cellpadding="0" cellspacing="0" style="border-collapse:collapse\;border:none\;">\n				<tbody>\n					<tr>\n						<td style="width:206px\;padding:0in 5.4pt 0in 5.4pt\;vertical-align:top\;"><strong><span style="font-family:bookman old style\,serif\;">Best Costume (17 &amp\; Under)</span></strong></td>\n						<td style="width:206px\;padding:0in 5.4pt 0in 5.4pt\;vertical-align:top\;"><strong><span style="font-family:bookman old style\,serif\;">Best Costume (18+)</span></strong></td>\n					</tr>\n					<tr>\n						<td style="width:206px\;padding:0in 5.4pt 0in 5.4pt\;vertical-align:top\;"><span style="font-family:bookman old style\,serif\;">* Girl&nbsp\;&nbsp\; *Boy</span><br />\n						&nbsp\;</td>\n						<td style="width:206px\;padding:0in 5.4pt 0in 5.4pt\;vertical-align:top\;"><span style="font-family:bookman old style\,serif\;">* Female&nbsp\;&nbsp\; *Male</span></td>\n					</tr>\n					<tr>\n						<td style="width:206px\;padding:0in 5.4pt 0in 5.4pt\;vertical-align:top\;"><strong><span style="font-family:bookman old style\,serif\;">Overall Race Winner</span></strong></td>\n						<td style="width:206px\;padding:0in 5.4pt 0in 5.4pt\;vertical-align:top\;"><strong><span style="font-family:bookman old style\,serif\;">Best Group Costume</span></strong></td>\n					</tr>\n					<tr>\n						<td style="width:206px\;padding:0in 5.4pt 0in 5.4pt\;vertical-align:top\;"><span style="font-family:bookman old style\,serif\;">* 17 &amp\; Under&nbsp\;&nbsp\; *18+</span><br />\n						&nbsp\;<br />\n						<strong><span style="font-family:bookman old style\,serif\;">Best Couples Costume</span></strong></td>\n						<td style="width:206px\;padding:0in 5.4pt 0in 5.4pt\;vertical-align:top\;"><span style="font-family:bookman old style\,serif\;">3 or more Participants</span><br />\n						&nbsp\;<br />\n						&nbsp\;</td>\n					</tr>\n				</tbody>\n			</table>\n			&nbsp\;<br />\n			<strong><u><span style="font-family:bookman old style\,serif\;"><span style="font-size:12.0pt\;">Registration will open October 2016</span></span></u></strong><br />\n			<span style="font-family:bookman old style\,serif\;">Pre-Registration is encouraged and can be done by contacting the Greater La Porte Chamber of Commerce Office at (219) 362-3178. Early registration is strongly encouraged. Limited edition event hat is only available while supplies last.</span><br />\n			&nbsp\;<br />\n			<strong><u><span style="font-family:bookman old style\,serif\;"><span style="font-size:12.0pt\;">Cost</span></span></u></strong><br />\n			<strong><span style="font-family:bookman old style\,serif\;">5 &amp\; under FREE</span></strong><span style="font-family:bookman old style\,serif\;">- No hats provided</span><br />\n			<strong><span style="font-family:bookman old style\,serif\;">5 &amp\; above- $10</span></strong><br />\n			<strong><em><span style="font-family:bookman old style\,serif\;">Non-refundable entry fee. </span></em></strong><br />\n			&nbsp\;<br />\n			<strong><u><span style="font-family:bookman old style\,serif\;"><span style="font-size:12.0pt\;">To enter</span></span></u></strong><br />\n			<span style="font-family:bookman old style\,serif\;">Send or drop off completed entry form (can be picked up at Chamber) and payment to:</span><br />\n			<span style="font-family:bookman old style\,serif\;">Greater La Porte Chamber of Commerce</span><br />\n			<span style="font-family:bookman old style\,serif\;">803 Washington Street</span><br />\n			<span style="font-family:bookman old style\,serif\;">La Porte\, IN 46350</span><br />\n			&nbsp\;<br />\n			<em><span style="font-family:bookman old style\,serif\;">** Please make checks payable to the Greater La Porte Chamber of Commerce. <strong>To pay by credit card and register over the phone\,</strong> call the Chamber at 219.362.3178. You may also <strong>register and pay online</strong> at </span></em><span style="font-family:bookman old style\,serif\;">goo.gl/nEujMV&nbsp\;<em>or by clicking the link above.</em></span></td>\n		</tr>\n	</tbody>\n</table>\n\n<div style="clear:both\;">&nbsp\;</div>\n
LOCATION:Registration happens near Lincolnway & Teegarden. Downtown La Porte\, starting at Teegarden\, follows Lincolnway to Detroit Street where route turns left towards State Street. Route continues down State Street to Michigan Avenue where it takes a right to head towards the route's end at the Greater La Porte Chamber of Commerce.
UID:e.1949.2670
SEQUENCE:3
DTSTAMP:20260425T185800Z
URL:https://members.laportepartnership.com/events/details/3rd-annual-kris-kringle-blitz-fun-run-costume-contest-2670
END:VEVENT

END:VCALENDAR
