BEGIN:VCALENDAR
VERSION:2.0
PRODID:-//ChamberMaster//Event Calendar 2.0//EN
METHOD:PUBLISH
X-PUBLISHED-TTL:P3D
REFRESH-INTERVAL:P3D
CALSCALE:GREGORIAN
BEGIN:VEVENT
DTSTART:20180615T170000Z
DTEND:20180615T230000Z
X-MICROSOFT-CDO-ALLDAYEVENT:FALSE
SUMMARY:3rd Annual Memorial Golf Outing
DESCRIPTION:3rd Annual Hanna Ohlund Memorial Golf Outing\n\nJune 15\, 2018\n\nLegacy Hills Golf Course\n\n\n\n1PM Shotgun Tee Off\n\n$75 per golfer\n\n\n\nPrice Includes:\n\nGreen Fees and Golf Cart\n\nHeston Steak & Cheese Sandwiches\n\nBeverages Served On The Course | Awards\n\n\n\nOuting Features:\n\n50/50 Drawing\n\nSilent Auction\n\n\n\nProceeds dontated to the Rebel Pavilion at the LaPorte County Fairgrounds in Honor of Hanna Helen Ohlund\n\n\n\nTo sign up your team\n\nGo To HestonSupperClub.com/GolfOuting or\n\nEmail Us At GolfOuting@HestonSupperClub.com
X-ALT-DESC;FMTTYPE=text/html:<strong>3rd Annual Hanna Ohlund Memorial Golf Outing</strong><br />\nJune 15\, 2018<br />\nLegacy Hills Golf Course<br />\n<br />\n1PM Shotgun Tee Off<br />\n$75 per golfer<br />\n<br />\n<u><strong>Price Includes:</strong></u><br />\nGreen Fees and Golf Cart<br />\nHeston Steak &amp\; Cheese Sandwiches<br />\nBeverages Served On The Course | Awards<br />\n<br />\n<strong><u>Outing Features:</u></strong><br />\n50/50 Drawing<br />\nSilent Auction<br />\n<br />\n<em><strong>Proceeds dontated to the Rebel Pavilion at the LaPorte County Fairgrounds in Honor of Hanna Helen Ohlund</strong></em><br />\n<br />\nTo sign up your team<br />\nGo To <strong>HestonSupperClub.com/GolfOuting </strong>or<br />\nEmail Us At <strong>GolfOuting@HestonSupperClub.com</strong><br />\n&nbsp\;
LOCATION:Legacy Hills Golf Course LaPorte\, Indiana
UID:e.1949.4146
SEQUENCE:3
DTSTAMP:20260424T091519Z
URL:https://members.laportepartnership.com/events/details/3rd-annual-memorial-golf-outing-4146
END:VEVENT

END:VCALENDAR
