BEGIN:VCALENDAR
VERSION:2.0
PRODID:-//ChamberMaster//Event Calendar 2.0//EN
METHOD:PUBLISH
X-PUBLISHED-TTL:P3D
REFRESH-INTERVAL:P3D
CALSCALE:GREGORIAN
BEGIN:VEVENT
DTSTART:20171103T230000Z
DTEND:20171104T020000Z
X-MICROSOFT-CDO-ALLDAYEVENT:FALSE
SUMMARY:3rd Annual Trivia Night- Friends of the Library
DESCRIPTION:Come One! Come All! To the 3rd Annual Friends of the Library Trivia Night on Friday\, November 3 at 6:30pm. The doors of the Small Projects Building at the La Porte County Fairgrounds will open at 6:00pm. \n\n\n\n$10 per person with teams of up to 10 people that can come dressed in costumes if they wish or just come out to have an evening of food\, fun\, fellowship\, and GREAT TRIVIA! \n\n\n\nThere will be a raffle\, silent auction\, along with food and drink to purchase! \n\n\n\nIt will be a ripping good time for everyone! \n\n\n\nTickets will be available at the door or in advance or at http://www.brownpapertickets.com/event/3113430
X-ALT-DESC;FMTTYPE=text/html:<span style="color: rgb(0\, 0\, 0)\; font-family: 'Segoe UI'\, Helvetica\, Arial\, sans-serif\; font-size: medium\; line-height: normal\;">Come One! Come All! To the 3rd Annual Friends of the Library Trivia Night on Friday\, November 3 at 6:30pm. The doors of the Small Projects Building at the La Porte County Fairgrounds will open at 6:00pm.&nbsp\;</span><br style="color: rgb(0\, 0\, 0)\; font-family: 'Segoe UI'\, Helvetica\, Arial\, sans-serif\; line-height: normal\;" />\n<br style="color: rgb(0\, 0\, 0)\; font-family: 'Segoe UI'\, Helvetica\, Arial\, sans-serif\; line-height: normal\;" />\n<span style="color: rgb(0\, 0\, 0)\; font-family: 'Segoe UI'\, Helvetica\, Arial\, sans-serif\; font-size: medium\; line-height: normal\;">$10 per person with teams of up to 10 people that can come dressed in costumes if they wish or just come out to have an evening of food\, fun\, fellowship\, and GREAT TRIVIA!&nbsp\;</span><br style="color: rgb(0\, 0\, 0)\; font-family: 'Segoe UI'\, Helvetica\, Arial\, sans-serif\; line-height: normal\;" />\n<br style="color: rgb(0\, 0\, 0)\; font-family: 'Segoe UI'\, Helvetica\, Arial\, sans-serif\; line-height: normal\;" />\n<span style="color: rgb(0\, 0\, 0)\; font-family: 'Segoe UI'\, Helvetica\, Arial\, sans-serif\; font-size: medium\; line-height: normal\;">There will be a raffle\, silent auction\, along with food and drink to purchase!&nbsp\;</span><br style="color: rgb(0\, 0\, 0)\; font-family: 'Segoe UI'\, Helvetica\, Arial\, sans-serif\; line-height: normal\;" />\n<br style="color: rgb(0\, 0\, 0)\; font-family: 'Segoe UI'\, Helvetica\, Arial\, sans-serif\; line-height: normal\;" />\n<span style="color: rgb(0\, 0\, 0)\; font-family: 'Segoe UI'\, Helvetica\, Arial\, sans-serif\; font-size: medium\; line-height: normal\;">It will be a ripping good time for everyone!&nbsp\;</span><br style="color: rgb(0\, 0\, 0)\; font-family: 'Segoe UI'\, Helvetica\, Arial\, sans-serif\; line-height: normal\;" />\n<br style="color: rgb(0\, 0\, 0)\; font-family: 'Segoe UI'\, Helvetica\, Arial\, sans-serif\; line-height: normal\;" />\n<span style="color: rgb(0\, 0\, 0)\; font-family: 'Segoe UI'\, Helvetica\, Arial\, sans-serif\; font-size: medium\; line-height: normal\;">Tickets will be available at the door or in advance or at&nbsp\;</span><a href="https://webmail04.domainlocalhost.com/owa/redir.aspx?C=TuuwHACwKuH1Y9WfobNUv50m6p-ra709doYICVyLiA90pQV9nhTVCA..&amp\;URL=http%3a%2f%2fwww.brownpapertickets.com%2fevent%2f3113430" style="font-family: 'Segoe UI'\, Helvetica\, Arial\, sans-serif\; line-height: normal\;" target="_blank">http://www.brownpapertickets.com/event/3113430</a>
LOCATION:Small Projects Building at the La Porte County Fairgrounds
UID:e.1949.2918
SEQUENCE:3
DTSTAMP:20260424T211435Z
URL:https://members.laportepartnership.com/events/details/3rd-annual-trivia-night-friends-of-the-library-2918
END:VEVENT

END:VCALENDAR
