BEGIN:VCALENDAR
VERSION:2.0
PRODID:-//ChamberMaster//Event Calendar 2.0//EN
METHOD:PUBLISH
X-PUBLISHED-TTL:P3D
REFRESH-INTERVAL:P3D
CALSCALE:GREGORIAN
BEGIN:VEVENT
DTSTART:20171007T150000Z
DTEND:20171007T180000Z
X-MICROSOFT-CDO-ALLDAYEVENT:FALSE
SUMMARY:4-H Open House
DESCRIPTION:Find Out About 4-H! 4-H is a fun\, educational program for children in grades 3-12\, with a Mini 4-H program for children in grades K-2.\n\nBring your family! You will be able to see 4-H projects\, talk to 4-H leaders about what happens at local club meetings\, and participate in many hands-on activities. Younger sib-lings are welcome to attend. Join in for 4-H Open House on Saturday\, October 7th at the Small Projects Building-La Porte County Fairgrounds\, 2581 W. State Road 2.\n\n \n\nDrop in any time between 10:00 a.m. and 1:00 p.m. The first 100 new members to enroll in 4-H will receive a free gift! Not able to attend? Visit us at : 2857 W St Rd 2\, or contact Mindy Rose at:\n\n(219) 324-9407 or msrose@purdue.edu. Enroll at: https://in.4honline.com
X-ALT-DESC;FMTTYPE=text/html:<div style="color: rgb(69\, 69\, 69)\; font-family: Arial\, Helvetica\, sans-serif\; font-size: 13.3333px\;">\n<div>Find Out About 4-H! 4-H is a fun\, educational program for children in grades 3-12\, with a Mini 4-H program for children in grades K-2.<br />\nBring your family! You will be able to see 4-H projects\, talk to 4-H leaders about what happens at local club meetings\, and participate in many hands-on activities. Younger sib-lings are welcome to attend. Join in for 4-H Open House on Saturday\, October 7th at the Small Projects Building-La Porte County Fairgrounds\, 2581 W. State Road 2.<br />\n&nbsp\;</div>\n\n<div>Drop in any time between 10:00 a.m. and 1:00 p.m. The first 100 new members to enroll in 4-H will receive a free gift! Not able to attend? Visit us at : 2857 W St Rd 2\, or contact Mindy Rose at:<br />\n(219) 324-9407 or msrose@purdue.edu. Enroll at:&nbsp\;<a _mce_href="https://in.4honline.com" _mce_style="font-weight: bold\; color: #c24f13\; text-decoration: none\;" href="https://in.4honline.com/" linktype="1" style="font-weight: bold\; color: rgb(194\, 79\, 19) !important\; text-decoration-line: none !important\;" target="_blank" track="on">https://in.4honline.com</a>&nbsp\;</div>\n\n<div>&nbsp\;</div>\n</div>\n
LOCATION:Small Projects Building 2581 W. State Road 2
UID:e.1949.2891
SEQUENCE:3
DTSTAMP:20260425T002240Z
URL:https://members.laportepartnership.com/events/details/4-h-open-house-2891
END:VEVENT

END:VCALENDAR
